BEGIN:VCALENDAR
VERSION:2.0
PRODID:-//Huguenot Road Baptist Church - ECPv6.15.20//NONSGML v1.0//EN
CALSCALE:GREGORIAN
METHOD:PUBLISH
X-WR-CALNAME:Huguenot Road Baptist Church
X-ORIGINAL-URL:https://hrbcrichmond.org
X-WR-CALDESC:Events for Huguenot Road Baptist Church
REFRESH-INTERVAL;VALUE=DURATION:PT1H
X-Robots-Tag:noindex
X-PUBLISHED-TTL:PT1H
BEGIN:VTIMEZONE
TZID:America/New_York
BEGIN:DAYLIGHT
TZOFFSETFROM:-0500
TZOFFSETTO:-0400
TZNAME:EDT
DTSTART:20240310T070000
END:DAYLIGHT
BEGIN:STANDARD
TZOFFSETFROM:-0400
TZOFFSETTO:-0500
TZNAME:EST
DTSTART:20241103T060000
END:STANDARD
BEGIN:DAYLIGHT
TZOFFSETFROM:-0500
TZOFFSETTO:-0400
TZNAME:EDT
DTSTART:20250309T070000
END:DAYLIGHT
BEGIN:STANDARD
TZOFFSETFROM:-0400
TZOFFSETTO:-0500
TZNAME:EST
DTSTART:20251102T060000
END:STANDARD
BEGIN:DAYLIGHT
TZOFFSETFROM:-0500
TZOFFSETTO:-0400
TZNAME:EDT
DTSTART:20260308T070000
END:DAYLIGHT
BEGIN:STANDARD
TZOFFSETFROM:-0400
TZOFFSETTO:-0500
TZNAME:EST
DTSTART:20261101T060000
END:STANDARD
END:VTIMEZONE
BEGIN:VEVENT
DTSTART;TZID=America/New_York:20250923T133000
DTEND;TZID=America/New_York:20250923T153000
DTSTAMP:20260425T203217
CREATED:20250416T135726Z
LAST-MODIFIED:20250923T184554Z
UID:10011693-1758634200-1758641400@hrbcrichmond.org
SUMMARY:Ovation Rehearsal
DESCRIPTION:
URL:https://hrbcrichmond.org/event/ovation-rehearsal-68/
LOCATION:Sanctuary
END:VEVENT
BEGIN:VEVENT
DTSTART;TZID=America/New_York:20250921T150000
DTEND;TZID=America/New_York:20250921T170000
DTSTAMP:20260425T203217
CREATED:20250623T155137Z
LAST-MODIFIED:20250921T200021Z
UID:10012002-1758466800-1758474000@hrbcrichmond.org
SUMMARY:Cast Rehearsal
DESCRIPTION:
URL:https://hrbcrichmond.org/event/cast-rehearsal-12/
LOCATION:Sanctuary
END:VEVENT
BEGIN:VEVENT
DTSTART;TZID=America/New_York:20250921T103000
DTEND;TZID=America/New_York:20250921T113000
DTSTAMP:20260425T203217
CREATED:20250407T012445Z
LAST-MODIFIED:20250921T150043Z
UID:10011605-1758450600-1758454200@hrbcrichmond.org
SUMMARY:Worship
DESCRIPTION:
URL:https://hrbcrichmond.org/event/worship-96/
LOCATION:Sanctuary
END:VEVENT
BEGIN:VEVENT
DTSTART;TZID=America/New_York:20250916T133000
DTEND;TZID=America/New_York:20250916T153000
DTSTAMP:20260425T203217
CREATED:20250416T135651Z
LAST-MODIFIED:20250916T180049Z
UID:10011692-1758029400-1758036600@hrbcrichmond.org
SUMMARY:Ovation Rehearsal
DESCRIPTION:
URL:https://hrbcrichmond.org/event/ovation-rehearsal-67/
LOCATION:Sanctuary
END:VEVENT
BEGIN:VEVENT
DTSTART;TZID=America/New_York:20250914T150000
DTEND;TZID=America/New_York:20250914T170000
DTSTAMP:20260425T203217
CREATED:20250623T155104Z
LAST-MODIFIED:20250911T031546Z
UID:10012001-1757862000-1757869200@hrbcrichmond.org
SUMMARY:Cast Rehearsal
DESCRIPTION:
URL:https://hrbcrichmond.org/event/cast-rehearsal-11/
LOCATION:Sanctuary
END:VEVENT
BEGIN:VEVENT
DTSTART;TZID=America/New_York:20250914T103000
DTEND;TZID=America/New_York:20250914T113000
DTSTAMP:20260425T203217
CREATED:20250402T220941Z
LAST-MODIFIED:20250911T031530Z
UID:10011586-1757845800-1757849400@hrbcrichmond.org
SUMMARY:Worship
DESCRIPTION:
URL:https://hrbcrichmond.org/event/worship-95/
LOCATION:Sanctuary
END:VEVENT
BEGIN:VEVENT
DTSTART;TZID=America/New_York:20250909T133000
DTEND;TZID=America/New_York:20250909T153000
DTSTAMP:20260425T203217
CREATED:20250416T135616Z
LAST-MODIFIED:20250909T181519Z
UID:10011691-1757424600-1757431800@hrbcrichmond.org
SUMMARY:Ovation Rehearsal
DESCRIPTION:
URL:https://hrbcrichmond.org/event/ovation-rehearsal-66/
LOCATION:Sanctuary
END:VEVENT
BEGIN:VEVENT
DTSTART;TZID=America/New_York:20250907T150000
DTEND;TZID=America/New_York:20250907T170000
DTSTAMP:20260425T203217
CREATED:20250623T155030Z
LAST-MODIFIED:20250907T203039Z
UID:10012000-1757257200-1757264400@hrbcrichmond.org
SUMMARY:Cast Rehearsal
DESCRIPTION:
URL:https://hrbcrichmond.org/event/cast-rehearsal-10/
LOCATION:Sanctuary
END:VEVENT
BEGIN:VEVENT
DTSTART;TZID=America/New_York:20250907T103000
DTEND;TZID=America/New_York:20250907T113000
DTSTAMP:20260425T203217
CREATED:20250327T012919Z
LAST-MODIFIED:20250907T150036Z
UID:10011565-1757241000-1757244600@hrbcrichmond.org
SUMMARY:Worship
DESCRIPTION:
URL:https://hrbcrichmond.org/event/worship-94/
LOCATION:Sanctuary
END:VEVENT
BEGIN:VEVENT
DTSTART;TZID=America/New_York:20250906T133000
DTEND;TZID=America/New_York:20250906T143000
DTSTAMP:20260425T203217
CREATED:20250818T185701Z
LAST-MODIFIED:20250906T171056Z
UID:10012187-1757165400-1757169000@hrbcrichmond.org
SUMMARY:Gwynn Davis funeral Serivce
DESCRIPTION:
URL:https://hrbcrichmond.org/event/gwynn-davis-funeral-serivce/
LOCATION:Sanctuary
END:VEVENT
BEGIN:VEVENT
DTSTART;TZID=America/New_York:20250902T133000
DTEND;TZID=America/New_York:20250902T153000
DTSTAMP:20260425T203217
CREATED:20250416T135535Z
LAST-MODIFIED:20250902T185527Z
UID:10011690-1756819800-1756827000@hrbcrichmond.org
SUMMARY:Ovation Rehearsal
DESCRIPTION:
URL:https://hrbcrichmond.org/event/ovation-rehearsal-65/
LOCATION:Sanctuary
END:VEVENT
BEGIN:VEVENT
DTSTART;TZID=America/New_York:20250831T103000
DTEND;TZID=America/New_York:20250831T113000
DTSTAMP:20260425T203217
CREATED:20250321T022855Z
LAST-MODIFIED:20250831T141543Z
UID:10011545-1756636200-1756639800@hrbcrichmond.org
SUMMARY:Worship
DESCRIPTION:
URL:https://hrbcrichmond.org/event/worship-93/
LOCATION:Sanctuary
END:VEVENT
BEGIN:VEVENT
DTSTART;TZID=America/New_York:20250826T133000
DTEND;TZID=America/New_York:20250826T153000
DTSTAMP:20260425T203217
CREATED:20250723T193240Z
LAST-MODIFIED:20250826T183037Z
UID:10012076-1756215000-1756222200@hrbcrichmond.org
SUMMARY:Ovation Rehearsal
DESCRIPTION:
URL:https://hrbcrichmond.org/event/ovation-rehearsal-91/
LOCATION:Sanctuary
END:VEVENT
BEGIN:VEVENT
DTSTART;TZID=America/New_York:20250824T103000
DTEND;TZID=America/New_York:20250824T113000
DTSTAMP:20260425T203217
CREATED:20250314T013039Z
LAST-MODIFIED:20250824T143029Z
UID:10011517-1756031400-1756035000@hrbcrichmond.org
SUMMARY:Worship
DESCRIPTION:
URL:https://hrbcrichmond.org/event/worship-92/
LOCATION:Sanctuary
END:VEVENT
BEGIN:VEVENT
DTSTART;TZID=America/New_York:20250819T133000
DTEND;TZID=America/New_York:20250819T153000
DTSTAMP:20260425T203217
CREATED:20250416T135515Z
LAST-MODIFIED:20250819T192540Z
UID:10011689-1755610200-1755617400@hrbcrichmond.org
SUMMARY:Ovation Rehearsal
DESCRIPTION:
URL:https://hrbcrichmond.org/event/ovation-rehearsal-64/
LOCATION:Sanctuary
END:VEVENT
BEGIN:VEVENT
DTSTART;TZID=America/New_York:20250819T100000
DTEND;TZID=America/New_York:20250819T120000
DTSTAMP:20260425T203217
CREATED:20250725T123159Z
LAST-MODIFIED:20250819T154530Z
UID:10012093-1755597600-1755604800@hrbcrichmond.org
SUMMARY:Tuning of the Pianos
DESCRIPTION:
URL:https://hrbcrichmond.org/event/tuning-of-the-pianos/
LOCATION:Sanctuary
END:VEVENT
BEGIN:VEVENT
DTSTART;TZID=America/New_York:20250817T103000
DTEND;TZID=America/New_York:20250817T113000
DTSTAMP:20260425T203217
CREATED:20250306T030024Z
LAST-MODIFIED:20250817T144054Z
UID:10011474-1755426600-1755430200@hrbcrichmond.org
SUMMARY:Worship
DESCRIPTION:
URL:https://hrbcrichmond.org/event/worship-91/
LOCATION:Sanctuary
END:VEVENT
BEGIN:VEVENT
DTSTART;TZID=America/New_York:20250810T103000
DTEND;TZID=America/New_York:20250810T113000
DTSTAMP:20260425T203217
CREATED:20250227T215850Z
LAST-MODIFIED:20250810T150019Z
UID:10011453-1754821800-1754825400@hrbcrichmond.org
SUMMARY:Worship
DESCRIPTION:
URL:https://hrbcrichmond.org/event/worship-90/
LOCATION:Sanctuary
END:VEVENT
BEGIN:VEVENT
DTSTART;TZID=America/New_York:20250806T190000
DTEND;TZID=America/New_York:20250806T203000
DTSTAMP:20260425T203217
CREATED:20250806T170050Z
LAST-MODIFIED:20250806T233945Z
UID:10012118-1754506800-1754512200@hrbcrichmond.org
SUMMARY:Worship Choir/Band Rehearsal
DESCRIPTION:
URL:https://hrbcrichmond.org/event/worship-choir-band-rehearsal-67/
LOCATION:Sanctuary
END:VEVENT
BEGIN:VEVENT
DTSTART;TZID=America/New_York:20250803T103000
DTEND;TZID=America/New_York:20250803T113000
DTSTAMP:20260425T203217
CREATED:20250221T023922Z
LAST-MODIFIED:20250803T151529Z
UID:10011428-1754217000-1754220600@hrbcrichmond.org
SUMMARY:Worship
DESCRIPTION:
URL:https://hrbcrichmond.org/event/worship-89/
LOCATION:Sanctuary
END:VEVENT
BEGIN:VEVENT
DTSTART;TZID=America/New_York:20250720T103000
DTEND;TZID=America/New_York:20250720T113000
DTSTAMP:20260425T203217
CREATED:20250211T194705Z
LAST-MODIFIED:20250720T152038Z
UID:10011382-1753007400-1753011000@hrbcrichmond.org
SUMMARY:Worship
DESCRIPTION:
URL:https://hrbcrichmond.org/event/worship-87/
LOCATION:Sanctuary
END:VEVENT
BEGIN:VEVENT
DTSTART;TZID=America/New_York:20250713T103000
DTEND;TZID=America/New_York:20250713T113000
DTSTAMP:20260425T203217
CREATED:20250206T022819Z
LAST-MODIFIED:20250713T151548Z
UID:10011354-1752402600-1752406200@hrbcrichmond.org
SUMMARY:Worship
DESCRIPTION:
URL:https://hrbcrichmond.org/event/worship-86/
LOCATION:Sanctuary
END:VEVENT
BEGIN:VEVENT
DTSTART;TZID=America/New_York:20250706T103000
DTEND;TZID=America/New_York:20250706T113000
DTSTAMP:20260425T203217
CREATED:20250203T205454Z
LAST-MODIFIED:20250706T144533Z
UID:10011332-1751797800-1751801400@hrbcrichmond.org
SUMMARY:Worship
DESCRIPTION:
URL:https://hrbcrichmond.org/event/worship-85/
LOCATION:Sanctuary
END:VEVENT
BEGIN:VEVENT
DTSTART;TZID=America/New_York:20250703T110000
DTEND;TZID=America/New_York:20250703T120000
DTSTAMP:20260425T203217
CREATED:20250626T153105Z
LAST-MODIFIED:20250703T153034Z
UID:10012010-1751540400-1751544000@hrbcrichmond.org
SUMMARY:Funeral Service for Bob Sangster
DESCRIPTION:
URL:https://hrbcrichmond.org/event/funeral-service-for-bob-sangster/
LOCATION:Sanctuary
END:VEVENT
BEGIN:VEVENT
DTSTART;TZID=America/New_York:20250629T103000
DTEND;TZID=America/New_York:20250629T113000
DTSTAMP:20260425T203217
CREATED:20250203T205416Z
LAST-MODIFIED:20250629T150019Z
UID:10011313-1751193000-1751196600@hrbcrichmond.org
SUMMARY:Worship
DESCRIPTION:
URL:https://hrbcrichmond.org/event/worship-84/
LOCATION:Sanctuary
END:VEVENT
BEGIN:VEVENT
DTSTART;TZID=America/New_York:20250622T103000
DTEND;TZID=America/New_York:20250622T113000
DTSTAMP:20260425T203217
CREATED:20250203T205336Z
LAST-MODIFIED:20250622T151530Z
UID:10011294-1750588200-1750591800@hrbcrichmond.org
SUMMARY:Worship
DESCRIPTION:
URL:https://hrbcrichmond.org/event/worship-83/
LOCATION:Sanctuary
END:VEVENT
BEGIN:VEVENT
DTSTART;TZID=America/New_York:20250618T190000
DTEND;TZID=America/New_York:20250618T203000
DTSTAMP:20260425T203217
CREATED:20250203T205316Z
LAST-MODIFIED:20250616T163042Z
UID:10011284-1750273200-1750278600@hrbcrichmond.org
SUMMARY:Worship Choir/Band Rehearsal
DESCRIPTION:
URL:https://hrbcrichmond.org/event/worship-choir-band-rehearsal-37/
LOCATION:Sanctuary
END:VEVENT
BEGIN:VEVENT
DTSTART;TZID=America/New_York:20250615T103000
DTEND;TZID=America/New_York:20250615T113000
DTSTAMP:20260425T203217
CREATED:20250203T205256Z
LAST-MODIFIED:20250615T150035Z
UID:10011274-1749983400-1749987000@hrbcrichmond.org
SUMMARY:Worship
DESCRIPTION:
URL:https://hrbcrichmond.org/event/worship-82/
LOCATION:Sanctuary
END:VEVENT
BEGIN:VEVENT
DTSTART;TZID=America/New_York:20250611T190000
DTEND;TZID=America/New_York:20250611T203000
DTSTAMP:20260425T203217
CREATED:20250203T193648Z
LAST-MODIFIED:20250612T001056Z
UID:10011160-1749668400-1749673800@hrbcrichmond.org
SUMMARY:Worship Choir/Band Rehearsal
DESCRIPTION:
URL:https://hrbcrichmond.org/event/worship-choir-band-rehearsal-30/
LOCATION:Sanctuary
END:VEVENT
BEGIN:VEVENT
DTSTART;TZID=America/New_York:20250608T103000
DTEND;TZID=America/New_York:20250608T113000
DTSTAMP:20260425T203217
CREATED:20250203T193633Z
LAST-MODIFIED:20250608T144029Z
UID:10011159-1749378600-1749382200@hrbcrichmond.org
SUMMARY:Worship
DESCRIPTION:
URL:https://hrbcrichmond.org/event/worship-76/
LOCATION:Sanctuary
END:VEVENT
END:VCALENDAR