BEGIN:VCALENDAR
VERSION:2.0
PRODID:-//Huguenot Road Baptist Church - ECPv6.15.20//NONSGML v1.0//EN
CALSCALE:GREGORIAN
METHOD:PUBLISH
X-ORIGINAL-URL:https://hrbcrichmond.org
X-WR-CALDESC:Events for Huguenot Road Baptist Church
REFRESH-INTERVAL;VALUE=DURATION:PT1H
X-Robots-Tag:noindex
X-PUBLISHED-TTL:PT1H
BEGIN:VTIMEZONE
TZID:America/New_York
BEGIN:DAYLIGHT
TZOFFSETFROM:-0500
TZOFFSETTO:-0400
TZNAME:EDT
DTSTART:20240310T070000
END:DAYLIGHT
BEGIN:STANDARD
TZOFFSETFROM:-0400
TZOFFSETTO:-0500
TZNAME:EST
DTSTART:20241103T060000
END:STANDARD
BEGIN:DAYLIGHT
TZOFFSETFROM:-0500
TZOFFSETTO:-0400
TZNAME:EDT
DTSTART:20250309T070000
END:DAYLIGHT
BEGIN:STANDARD
TZOFFSETFROM:-0400
TZOFFSETTO:-0500
TZNAME:EST
DTSTART:20251102T060000
END:STANDARD
BEGIN:DAYLIGHT
TZOFFSETFROM:-0500
TZOFFSETTO:-0400
TZNAME:EDT
DTSTART:20260308T070000
END:DAYLIGHT
BEGIN:STANDARD
TZOFFSETFROM:-0400
TZOFFSETTO:-0500
TZNAME:EST
DTSTART:20261101T060000
END:STANDARD
END:VTIMEZONE
BEGIN:VEVENT
DTSTART;TZID=America/New_York:20251221T103000
DTEND;TZID=America/New_York:20251221T113000
DTSTAMP:20260425T154714
CREATED:20250605T133923Z
LAST-MODIFIED:20251221T152531Z
UID:10011904-1766313000-1766316600@hrbcrichmond.org
SUMMARY:Worship
DESCRIPTION:
URL:https://hrbcrichmond.org/event/worship-131/
LOCATION:sanctuary
CATEGORIES:Advent
END:VEVENT
BEGIN:VEVENT
DTSTART;TZID=America/New_York:20251217T113000
DTEND;TZID=America/New_York:20251217T140000
DTSTAMP:20260425T154714
CREATED:20250910T153822Z
LAST-MODIFIED:20251217T185602Z
UID:10012385-1765971000-1765980000@hrbcrichmond.org
SUMMARY:CDC Celebration of Christmas and reception
DESCRIPTION:
URL:https://hrbcrichmond.org/event/cdc-celebration-of-christmas-and-reception/
LOCATION:sanctuary
CATEGORIES:Advent
END:VEVENT
BEGIN:VEVENT
DTSTART;TZID=America/New_York:20251214T103000
DTEND;TZID=America/New_York:20251214T113000
DTSTAMP:20260425T154714
CREATED:20250518T165846Z
LAST-MODIFIED:20251214T155602Z
UID:10011848-1765708200-1765711800@hrbcrichmond.org
SUMMARY:Worship
DESCRIPTION:
URL:https://hrbcrichmond.org/event/worship-130/
LOCATION:sanctuary
CATEGORIES:Advent
END:VEVENT
BEGIN:VEVENT
DTSTART;TZID=America/New_York:20251207T103000
DTEND;TZID=America/New_York:20251207T113000
DTSTAMP:20260425T154714
CREATED:20250515T001528Z
LAST-MODIFIED:20251207T162551Z
UID:10011831-1765103400-1765107000@hrbcrichmond.org
SUMMARY:Worship
DESCRIPTION:
URL:https://hrbcrichmond.org/event/worship-129/
LOCATION:sanctuary
CATEGORIES:Advent
END:VEVENT
BEGIN:VEVENT
DTSTART;TZID=America/New_York:20251130T140000
DTEND;TZID=America/New_York:20251130T193000
DTSTAMP:20260425T154714
CREATED:20250604T175831Z
LAST-MODIFIED:20251201T002530Z
UID:10011897-1764511200-1764531000@hrbcrichmond.org
SUMMARY:Ovation Dress Rehearsal
DESCRIPTION:
URL:https://hrbcrichmond.org/event/ovation-dress-rehearsal-3/
LOCATION:sanctuary
END:VEVENT
BEGIN:VEVENT
DTSTART;TZID=America/New_York:20251130T103000
DTEND;TZID=America/New_York:20251130T113000
DTSTAMP:20260425T154714
CREATED:20250505T002437Z
LAST-MODIFIED:20251130T154024Z
UID:10011794-1764498600-1764502200@hrbcrichmond.org
SUMMARY:Worship
DESCRIPTION:
URL:https://hrbcrichmond.org/event/worship-128/
LOCATION:sanctuary
CATEGORIES:Advent
END:VEVENT
BEGIN:VEVENT
DTSTART;TZID=America/New_York:20251125T133000
DTEND;TZID=America/New_York:20251125T153000
DTSTAMP:20260425T154714
CREATED:20250502T012530Z
LAST-MODIFIED:20251125T192523Z
UID:10011782-1764077400-1764084600@hrbcrichmond.org
SUMMARY:Ovation Rehearsal
DESCRIPTION:
URL:https://hrbcrichmond.org/event/ovation-rehearsal-78/
LOCATION:sanctuary
END:VEVENT
BEGIN:VEVENT
DTSTART;TZID=America/New_York:20251125T090000
DTEND;TZID=America/New_York:20251125T120000
DTSTAMP:20260425T154714
CREATED:20251124T155532Z
LAST-MODIFIED:20251125T165526Z
UID:10012648-1764061200-1764072000@hrbcrichmond.org
SUMMARY:Ovation organ Rehearsal
DESCRIPTION:
URL:https://hrbcrichmond.org/event/ovation-organ-rehearsal/
LOCATION:sanctuary
END:VEVENT
BEGIN:VEVENT
DTSTART;TZID=America/New_York:20251123T103000
DTEND;TZID=America/New_York:20251123T113000
DTSTAMP:20260425T154714
CREATED:20250501T212509Z
LAST-MODIFIED:20251123T161030Z
UID:10011779-1763893800-1763897400@hrbcrichmond.org
SUMMARY:Worship
DESCRIPTION:
URL:https://hrbcrichmond.org/event/worship-127/
LOCATION:sanctuary
END:VEVENT
BEGIN:VEVENT
DTSTART;TZID=America/New_York:20251118T133000
DTEND;TZID=America/New_York:20251118T153000
DTSTAMP:20260425T154714
CREATED:20250427T184521Z
LAST-MODIFIED:20251118T195540Z
UID:10011758-1763472600-1763479800@hrbcrichmond.org
SUMMARY:Ovation Rehearsal
DESCRIPTION:
URL:https://hrbcrichmond.org/event/ovation-rehearsal-77/
LOCATION:sanctuary
END:VEVENT
BEGIN:VEVENT
DTSTART;TZID=America/New_York:20251116T103000
DTEND;TZID=America/New_York:20251116T113000
DTSTAMP:20260425T154714
CREATED:20250427T150018Z
LAST-MODIFIED:20251116T154049Z
UID:10011755-1763289000-1763292600@hrbcrichmond.org
SUMMARY:Worship
DESCRIPTION:
URL:https://hrbcrichmond.org/event/worship-126/
LOCATION:sanctuary
END:VEVENT
BEGIN:VEVENT
DTSTART;TZID=America/New_York:20251111T133000
DTEND;TZID=America/New_York:20251111T153000
DTSTAMP:20260425T154714
CREATED:20250422T232906Z
LAST-MODIFIED:20251111T192535Z
UID:10011736-1762867800-1762875000@hrbcrichmond.org
SUMMARY:Ovation Rehearsal
DESCRIPTION:
URL:https://hrbcrichmond.org/event/ovation-rehearsal-75/
LOCATION:sanctuary
END:VEVENT
BEGIN:VEVENT
DTSTART;TZID=America/New_York:20251109T170000
DTEND;TZID=America/New_York:20251109T193000
DTSTAMP:20260425T154714
CREATED:20250625T001036Z
LAST-MODIFIED:20251109T234031Z
UID:10012009-1762707600-1762716600@hrbcrichmond.org
SUMMARY:Cast Performance
DESCRIPTION:
URL:https://hrbcrichmond.org/event/cast-performance-4/
LOCATION:sanctuary
END:VEVENT
BEGIN:VEVENT
DTSTART;TZID=America/New_York:20251109T103000
DTEND;TZID=America/New_York:20251109T113000
DTSTAMP:20260425T154714
CREATED:20250422T141445Z
LAST-MODIFIED:20251109T161049Z
UID:10011732-1762684200-1762687800@hrbcrichmond.org
SUMMARY:Worship
DESCRIPTION:
URL:https://hrbcrichmond.org/event/worship-125/
LOCATION:sanctuary
END:VEVENT
BEGIN:VEVENT
DTSTART;TZID=America/New_York:20251108T100000
DTEND;TZID=America/New_York:20251108T120000
DTSTAMP:20260425T154714
CREATED:20250623T155446Z
LAST-MODIFIED:20251108T162543Z
UID:10012008-1762596000-1762603200@hrbcrichmond.org
SUMMARY:Cast Dress Rehearsal
DESCRIPTION:
URL:https://hrbcrichmond.org/event/cast-dress-rehearsal-3/
LOCATION:sanctuary
END:VEVENT
BEGIN:VEVENT
DTSTART;TZID=America/New_York:20251107T140000
DTEND;TZID=America/New_York:20251107T150000
DTSTAMP:20260425T154714
CREATED:20251031T171100Z
LAST-MODIFIED:20251107T191041Z
UID:10012549-1762524000-1762527600@hrbcrichmond.org
SUMMARY:Celebration of Life Sue Bradley
DESCRIPTION:
URL:https://hrbcrichmond.org/event/celebration-of-life-sue-bradley/
LOCATION:sanctuary
END:VEVENT
BEGIN:VEVENT
DTSTART;TZID=America/New_York:20251104T133000
DTEND;TZID=America/New_York:20251104T153000
DTSTAMP:20260425T154714
CREATED:20250417T195855Z
LAST-MODIFIED:20251104T195537Z
UID:10011719-1762263000-1762270200@hrbcrichmond.org
SUMMARY:Ovation Rehearsal
DESCRIPTION:
URL:https://hrbcrichmond.org/event/ovation-rehearsal-74/
LOCATION:sanctuary
END:VEVENT
BEGIN:VEVENT
DTSTART;TZID=America/New_York:20251102T103000
DTEND;TZID=America/New_York:20251102T113000
DTSTAMP:20260425T154714
CREATED:20250417T015427Z
LAST-MODIFIED:20251102T152525Z
UID:10011716-1762079400-1762083000@hrbcrichmond.org
SUMMARY:Worship
DESCRIPTION:
URL:https://hrbcrichmond.org/event/worship-124/
LOCATION:sanctuary
END:VEVENT
BEGIN:VEVENT
DTSTART;TZID=America/New_York:20251028T133000
DTEND;TZID=America/New_York:20251028T153000
DTSTAMP:20260425T154714
CREATED:20250416T135937Z
LAST-MODIFIED:20251028T191030Z
UID:10011703-1761658200-1761665400@hrbcrichmond.org
SUMMARY:Ovation Rehearsal
DESCRIPTION:
URL:https://hrbcrichmond.org/event/ovation-rehearsal-73/
LOCATION:sanctuary
END:VEVENT
BEGIN:VEVENT
DTSTART;TZID=America/New_York:20251026T130000
DTEND;TZID=America/New_York:20251026T150000
DTSTAMP:20260425T154714
CREATED:20250623T155410Z
LAST-MODIFIED:20251026T182547Z
UID:10012007-1761483600-1761490800@hrbcrichmond.org
SUMMARY:Cast Rehearsal
DESCRIPTION:
URL:https://hrbcrichmond.org/event/cast-rehearsal-17/
LOCATION:sanctuary
END:VEVENT
BEGIN:VEVENT
DTSTART;TZID=America/New_York:20251026T103000
DTEND;TZID=America/New_York:20251026T113000
DTSTAMP:20260425T154714
CREATED:20250416T135935Z
LAST-MODIFIED:20251026T144020Z
UID:10011700-1761474600-1761478200@hrbcrichmond.org
SUMMARY:Worship
DESCRIPTION:
URL:https://hrbcrichmond.org/event/worship-123/
LOCATION:sanctuary
END:VEVENT
BEGIN:VEVENT
DTSTART;TZID=America/New_York:20251021T133000
DTEND;TZID=America/New_York:20251021T153000
DTSTAMP:20260425T154714
CREATED:20250416T135914Z
LAST-MODIFIED:20251021T182530Z
UID:10011697-1761053400-1761060600@hrbcrichmond.org
SUMMARY:Ovation Rehearsal
DESCRIPTION:
URL:https://hrbcrichmond.org/event/ovation-rehearsal-72/
LOCATION:sanctuary
END:VEVENT
BEGIN:VEVENT
DTSTART;TZID=America/New_York:20251019T150000
DTEND;TZID=America/New_York:20251019T170000
DTSTAMP:20260425T154714
CREATED:20250623T155336Z
LAST-MODIFIED:20251019T201021Z
UID:10012006-1760886000-1760893200@hrbcrichmond.org
SUMMARY:Cast Rehearsal
DESCRIPTION:
URL:https://hrbcrichmond.org/event/cast-rehearsal-16/
LOCATION:sanctuary
END:VEVENT
BEGIN:VEVENT
DTSTART;TZID=America/New_York:20251019T103000
DTEND;TZID=America/New_York:20251019T113000
DTSTAMP:20260425T154714
CREATED:20250413T151453Z
LAST-MODIFIED:20251019T151028Z
UID:10011677-1760869800-1760873400@hrbcrichmond.org
SUMMARY:Worship
DESCRIPTION:
URL:https://hrbcrichmond.org/event/worship-122/
LOCATION:sanctuary
END:VEVENT
BEGIN:VEVENT
DTSTART;TZID=America/New_York:20251017T073000
DTEND;TZID=America/New_York:20251017T130000
DTSTAMP:20260425T154714
CREATED:20251002T134139Z
LAST-MODIFIED:20251017T165528Z
UID:10012411-1760686200-1760706000@hrbcrichmond.org
SUMMARY:P.A.C.E.D. Annual Conference (CDC)
DESCRIPTION:
URL:https://hrbcrichmond.org/event/p-a-c-e-d-annual-conference-cdc/
LOCATION:sanctuary
END:VEVENT
BEGIN:VEVENT
DTSTART;TZID=America/New_York:20251014T133000
DTEND;TZID=America/New_York:20251014T153000
DTSTAMP:20260425T154714
CREATED:20250416T135837Z
LAST-MODIFIED:20251014T185521Z
UID:10011696-1760448600-1760455800@hrbcrichmond.org
SUMMARY:Ovation Rehearsal
DESCRIPTION:
URL:https://hrbcrichmond.org/event/ovation-rehearsal-71/
LOCATION:sanctuary
END:VEVENT
BEGIN:VEVENT
DTSTART;TZID=America/New_York:20251012T150000
DTEND;TZID=America/New_York:20251012T170000
DTSTAMP:20260425T154714
CREATED:20250623T155301Z
LAST-MODIFIED:20251012T204043Z
UID:10012005-1760281200-1760288400@hrbcrichmond.org
SUMMARY:Cast Rehearsal
DESCRIPTION:
URL:https://hrbcrichmond.org/event/cast-rehearsal-15/
LOCATION:sanctuary
END:VEVENT
BEGIN:VEVENT
DTSTART;TZID=America/New_York:20251012T103000
DTEND;TZID=America/New_York:20251012T113000
DTSTAMP:20260425T154714
CREATED:20250410T001524Z
LAST-MODIFIED:20251012T142515Z
UID:10011661-1760265000-1760268600@hrbcrichmond.org
SUMMARY:Worship
DESCRIPTION:
URL:https://hrbcrichmond.org/event/worship-121/
LOCATION:sanctuary
END:VEVENT
BEGIN:VEVENT
DTSTART;TZID=America/New_York:20251007T133000
DTEND;TZID=America/New_York:20251007T153000
DTSTAMP:20260425T154714
CREATED:20250416T135818Z
LAST-MODIFIED:20251007T191527Z
UID:10011695-1759843800-1759851000@hrbcrichmond.org
SUMMARY:Ovation Rehearsal
DESCRIPTION:
URL:https://hrbcrichmond.org/event/ovation-rehearsal-70/
LOCATION:sanctuary
END:VEVENT
BEGIN:VEVENT
DTSTART;TZID=America/New_York:20251005T150000
DTEND;TZID=America/New_York:20251005T170000
DTSTAMP:20260425T154714
CREATED:20250623T155230Z
LAST-MODIFIED:20251005T194525Z
UID:10012004-1759676400-1759683600@hrbcrichmond.org
SUMMARY:Cast Rehearsal
DESCRIPTION:
URL:https://hrbcrichmond.org/event/cast-rehearsal-14/
LOCATION:sanctuary
END:VEVENT
END:VCALENDAR