BEGIN:VCALENDAR
VERSION:2.0
PRODID:-//Huguenot Road Baptist Church - ECPv6.15.20//NONSGML v1.0//EN
CALSCALE:GREGORIAN
METHOD:PUBLISH
X-ORIGINAL-URL:https://hrbcrichmond.org
X-WR-CALDESC:Events for Huguenot Road Baptist Church
REFRESH-INTERVAL;VALUE=DURATION:PT1H
X-Robots-Tag:noindex
X-PUBLISHED-TTL:PT1H
BEGIN:VTIMEZONE
TZID:America/New_York
BEGIN:DAYLIGHT
TZOFFSETFROM:-0500
TZOFFSETTO:-0400
TZNAME:EDT
DTSTART:20230312T070000
END:DAYLIGHT
BEGIN:STANDARD
TZOFFSETFROM:-0400
TZOFFSETTO:-0500
TZNAME:EST
DTSTART:20231105T060000
END:STANDARD
BEGIN:DAYLIGHT
TZOFFSETFROM:-0500
TZOFFSETTO:-0400
TZNAME:EDT
DTSTART:20240310T070000
END:DAYLIGHT
BEGIN:STANDARD
TZOFFSETFROM:-0400
TZOFFSETTO:-0500
TZNAME:EST
DTSTART:20241103T060000
END:STANDARD
BEGIN:DAYLIGHT
TZOFFSETFROM:-0500
TZOFFSETTO:-0400
TZNAME:EDT
DTSTART:20250309T070000
END:DAYLIGHT
BEGIN:STANDARD
TZOFFSETFROM:-0400
TZOFFSETTO:-0500
TZNAME:EST
DTSTART:20251102T060000
END:STANDARD
BEGIN:DAYLIGHT
TZOFFSETFROM:-0500
TZOFFSETTO:-0400
TZNAME:EDT
DTSTART:20260308T070000
END:DAYLIGHT
BEGIN:STANDARD
TZOFFSETFROM:-0400
TZOFFSETTO:-0500
TZNAME:EST
DTSTART:20261101T060000
END:STANDARD
BEGIN:DAYLIGHT
TZOFFSETFROM:-0500
TZOFFSETTO:-0400
TZNAME:EDT
DTSTART:20270314T070000
END:DAYLIGHT
BEGIN:STANDARD
TZOFFSETFROM:-0400
TZOFFSETTO:-0500
TZNAME:EST
DTSTART:20271107T060000
END:STANDARD
END:VTIMEZONE
BEGIN:VEVENT
DTSTART;TZID=America/New_York:20260117T110000
DTEND;TZID=America/New_York:20260117T143000
DTSTAMP:20260425T130728
CREATED:20251229T171131Z
LAST-MODIFIED:20260117T184046Z
UID:10012792-1768647600-1768660200@hrbcrichmond.org
SUMMARY:Funeral service for Marjorie Hobson
DESCRIPTION:
URL:https://hrbcrichmond.org/event/possible-service-for-marjorie-hobson/
LOCATION:Sanctuary; Family Life Center
END:VEVENT
BEGIN:VEVENT
DTSTART;TZID=America/New_York:20260110T110000
DTEND;TZID=America/New_York:20260110T140000
DTSTAMP:20260425T130728
CREATED:20251120T192818Z
LAST-MODIFIED:20260110T175546Z
UID:10012634-1768042800-1768053600@hrbcrichmond.org
SUMMARY:Celebration of Life Service and Reception for Gloria Tayman
DESCRIPTION:
URL:https://hrbcrichmond.org/event/celebration-of-life-service-and-reception-for-gloria-tayman-2/
LOCATION:Sanctuary; Family Life Center
END:VEVENT
BEGIN:VEVENT
DTSTART;TZID=America/New_York:20250801T080000
DTEND;TZID=America/New_York:20250801T130000
DTSTAMP:20260425T130728
CREATED:20250310T153900Z
LAST-MODIFIED:20250801T160055Z
UID:10011499-1754035200-1754053200@hrbcrichmond.org
SUMMARY:Vacation Bible School
DESCRIPTION:
URL:https://hrbcrichmond.org/event/vacation-bible-school-7/
LOCATION:Sanctuary; Family Life Center
END:VEVENT
BEGIN:VEVENT
DTSTART;TZID=America/New_York:20250731T080000
DTEND;TZID=America/New_York:20250731T130000
DTSTAMP:20260425T130728
CREATED:20250310T153859Z
LAST-MODIFIED:20250731T154523Z
UID:10011498-1753948800-1753966800@hrbcrichmond.org
SUMMARY:Vacation Bible School
DESCRIPTION:
URL:https://hrbcrichmond.org/event/vacation-bible-school-6/
LOCATION:Sanctuary; Family Life Center
END:VEVENT
BEGIN:VEVENT
DTSTART;TZID=America/New_York:20250730T080000
DTEND;TZID=America/New_York:20250730T130000
DTSTAMP:20260425T130728
CREATED:20250310T153840Z
LAST-MODIFIED:20250730T161550Z
UID:10011497-1753862400-1753880400@hrbcrichmond.org
SUMMARY:Vacation Bible School
DESCRIPTION:
URL:https://hrbcrichmond.org/event/vacation-bible-school-5/
LOCATION:Sanctuary; Family Life Center
END:VEVENT
BEGIN:VEVENT
DTSTART;TZID=America/New_York:20250729T080000
DTEND;TZID=America/New_York:20250729T130000
DTSTAMP:20260425T130728
CREATED:20250310T153840Z
LAST-MODIFIED:20250729T154524Z
UID:10011496-1753776000-1753794000@hrbcrichmond.org
SUMMARY:Vacation Bible School
DESCRIPTION:
URL:https://hrbcrichmond.org/event/vacation-bible-school-4/
LOCATION:Sanctuary; Family Life Center
END:VEVENT
BEGIN:VEVENT
DTSTART;TZID=America/New_York:20250728T080000
DTEND;TZID=America/New_York:20250728T130000
DTSTAMP:20260425T130728
CREATED:20250310T153839Z
LAST-MODIFIED:20250728T164049Z
UID:10011495-1753689600-1753707600@hrbcrichmond.org
SUMMARY:Vacation Bible School
DESCRIPTION:
URL:https://hrbcrichmond.org/event/vacation-bible-school-3/
LOCATION:Sanctuary; Family Life Center
END:VEVENT
BEGIN:VEVENT
DTSTART;VALUE=DATE:20241122
DTEND;VALUE=DATE:20241123
DTSTAMP:20260425T130728
CREATED:20241113T143120Z
LAST-MODIFIED:20241122T234122Z
UID:10010700-1732233600-1732319999@hrbcrichmond.org
SUMMARY:Memorial Service- Gregory
DESCRIPTION:
URL:https://hrbcrichmond.org/event/memorial-service-gregory/
LOCATION:Sanctuary; Family Life Center
END:VEVENT
END:VCALENDAR