BEGIN:VCALENDAR
VERSION:2.0
PRODID:-//Huguenot Road Baptist Church - ECPv6.15.20//NONSGML v1.0//EN
CALSCALE:GREGORIAN
METHOD:PUBLISH
X-ORIGINAL-URL:https://hrbcrichmond.org
X-WR-CALDESC:Events for Huguenot Road Baptist Church
REFRESH-INTERVAL;VALUE=DURATION:PT1H
X-Robots-Tag:noindex
X-PUBLISHED-TTL:PT1H
BEGIN:VTIMEZONE
TZID:America/New_York
BEGIN:DAYLIGHT
TZOFFSETFROM:-0500
TZOFFSETTO:-0400
TZNAME:EDT
DTSTART:20230312T070000
END:DAYLIGHT
BEGIN:STANDARD
TZOFFSETFROM:-0400
TZOFFSETTO:-0500
TZNAME:EST
DTSTART:20231105T060000
END:STANDARD
BEGIN:DAYLIGHT
TZOFFSETFROM:-0500
TZOFFSETTO:-0400
TZNAME:EDT
DTSTART:20240310T070000
END:DAYLIGHT
BEGIN:STANDARD
TZOFFSETFROM:-0400
TZOFFSETTO:-0500
TZNAME:EST
DTSTART:20241103T060000
END:STANDARD
BEGIN:DAYLIGHT
TZOFFSETFROM:-0500
TZOFFSETTO:-0400
TZNAME:EDT
DTSTART:20250309T070000
END:DAYLIGHT
BEGIN:STANDARD
TZOFFSETFROM:-0400
TZOFFSETTO:-0500
TZNAME:EST
DTSTART:20251102T060000
END:STANDARD
BEGIN:DAYLIGHT
TZOFFSETFROM:-0500
TZOFFSETTO:-0400
TZNAME:EDT
DTSTART:20260308T070000
END:DAYLIGHT
BEGIN:STANDARD
TZOFFSETFROM:-0400
TZOFFSETTO:-0500
TZNAME:EST
DTSTART:20261101T060000
END:STANDARD
END:VTIMEZONE
BEGIN:VEVENT
DTSTART;TZID=America/New_York:20250526T180000
DTEND;TZID=America/New_York:20250526T190000
DTSTAMP:20260425T063224
CREATED:20250203T205112Z
LAST-MODIFIED:20250526T220051Z
UID:10011263-1748282400-1748286000@hrbcrichmond.org
SUMMARY:GSCV Meeting
DESCRIPTION:
URL:https://hrbcrichmond.org/event/gscv-meeting-19/
LOCATION:Room #207
END:VEVENT
BEGIN:VEVENT
DTSTART;TZID=America/New_York:20250512T180000
DTEND;TZID=America/New_York:20250512T190000
DTSTAMP:20260425T063224
CREATED:20250203T204951Z
LAST-MODIFIED:20250512T221052Z
UID:10011223-1747072800-1747076400@hrbcrichmond.org
SUMMARY:GSCV Meeting
DESCRIPTION:
URL:https://hrbcrichmond.org/event/gscv-meeting-18/
LOCATION:Room #207
END:VEVENT
BEGIN:VEVENT
DTSTART;TZID=America/New_York:20250428T180000
DTEND;TZID=America/New_York:20250428T190000
DTSTAMP:20260425T063224
CREATED:20250109T012752Z
LAST-MODIFIED:20250428T224541Z
UID:10010959-1745863200-1745866800@hrbcrichmond.org
SUMMARY:GSCV Meeting
DESCRIPTION:
URL:https://hrbcrichmond.org/event/gscv-meeting-17/
LOCATION:Room #207
END:VEVENT
BEGIN:VEVENT
DTSTART;TZID=America/New_York:20250414T180000
DTEND;TZID=America/New_York:20250414T190000
DTSTAMP:20260425T063224
CREATED:20241105T210926Z
LAST-MODIFIED:20250414T214530Z
UID:10010596-1744653600-1744657200@hrbcrichmond.org
SUMMARY:GSCV Meeting
DESCRIPTION:
URL:https://hrbcrichmond.org/event/gscv-meeting-16/
LOCATION:Room #207
END:VEVENT
BEGIN:VEVENT
DTSTART;TZID=America/New_York:20250324T180000
DTEND;TZID=America/New_York:20250324T190000
DTSTAMP:20260425T063224
CREATED:20241018T012816Z
LAST-MODIFIED:20250324T220023Z
UID:10010270-1742839200-1742842800@hrbcrichmond.org
SUMMARY:GSCV Meeting
DESCRIPTION:
URL:https://hrbcrichmond.org/event/gscv-meeting-15/
LOCATION:Room #207
END:VEVENT
BEGIN:VEVENT
DTSTART;TZID=America/New_York:20250310T180000
DTEND;TZID=America/New_York:20250310T190000
DTSTAMP:20260425T063224
CREATED:20241010T001438Z
LAST-MODIFIED:20250310T220032Z
UID:10010227-1741629600-1741633200@hrbcrichmond.org
SUMMARY:GSCV Meeting
DESCRIPTION:
URL:https://hrbcrichmond.org/event/gscv-meeting-14/
LOCATION:Room #207
END:VEVENT
BEGIN:VEVENT
DTSTART;TZID=America/New_York:20250224T180000
DTEND;TZID=America/New_York:20250224T190000
DTSTAMP:20260425T063224
CREATED:20240926T203823Z
LAST-MODIFIED:20250224T230046Z
UID:10010164-1740420000-1740423600@hrbcrichmond.org
SUMMARY:GSCV Meeting
DESCRIPTION:
URL:https://hrbcrichmond.org/event/gscv-meeting-13/
LOCATION:Room #207
END:VEVENT
BEGIN:VEVENT
DTSTART;TZID=America/New_York:20250210T180000
DTEND;TZID=America/New_York:20250210T190000
DTSTAMP:20260425T063224
CREATED:20240919T004254Z
LAST-MODIFIED:20250210T234122Z
UID:10010125-1739210400-1739214000@hrbcrichmond.org
SUMMARY:GSCV Meeting
DESCRIPTION:
URL:https://hrbcrichmond.org/event/gscv-meeting-12/
LOCATION:Room #207
END:VEVENT
BEGIN:VEVENT
DTSTART;TZID=America/New_York:20250127T180000
DTEND;TZID=America/New_York:20250127T190000
DTSTAMP:20260425T063224
CREATED:20240909T234337Z
LAST-MODIFIED:20250127T224550Z
UID:10010086-1738000800-1738004400@hrbcrichmond.org
SUMMARY:GSCV Meeting
DESCRIPTION:
URL:https://hrbcrichmond.org/event/gscv-meeting-11/
LOCATION:Room #207
END:VEVENT
BEGIN:VEVENT
DTSTART;TZID=America/New_York:20250113T180000
DTEND;TZID=America/New_York:20250113T190000
DTSTAMP:20260425T063224
CREATED:20241105T164153Z
LAST-MODIFIED:20250113T225558Z
UID:10010432-1736791200-1736794800@hrbcrichmond.org
SUMMARY:GSCV Meeting
DESCRIPTION:
URL:https://hrbcrichmond.org/event/gscv-meeting-8/
LOCATION:Room #207
END:VEVENT
BEGIN:VEVENT
DTSTART;TZID=America/New_York:20241209T180000
DTEND;TZID=America/New_York:20241209T190000
DTSTAMP:20260425T063224
CREATED:20240821T173548Z
LAST-MODIFIED:20241209T234042Z
UID:10009998-1733767200-1733770800@hrbcrichmond.org
SUMMARY:GSCV Meeting
DESCRIPTION:
URL:https://hrbcrichmond.org/event/gscv-meeting-6/
LOCATION:Room #207
END:VEVENT
BEGIN:VEVENT
DTSTART;TZID=America/New_York:20241125T180000
DTEND;TZID=America/New_York:20241125T190000
DTSTAMP:20260425T063224
CREATED:20240821T173430Z
LAST-MODIFIED:20241125T234601Z
UID:10009997-1732557600-1732561200@hrbcrichmond.org
SUMMARY:GSCV Meeting
DESCRIPTION:
URL:https://hrbcrichmond.org/event/gscv-meeting-5/
LOCATION:Room #207
END:VEVENT
BEGIN:VEVENT
DTSTART;TZID=America/New_York:20241111T180000
DTEND;TZID=America/New_York:20241111T190000
DTSTAMP:20260425T063224
CREATED:20240821T173314Z
LAST-MODIFIED:20241111T224534Z
UID:10009996-1731348000-1731351600@hrbcrichmond.org
SUMMARY:GSCV Meeting
DESCRIPTION:
URL:https://hrbcrichmond.org/event/gscv-meeting-4/
LOCATION:Room #207
END:VEVENT
BEGIN:VEVENT
DTSTART;TZID=America/New_York:20241028T180000
DTEND;TZID=America/New_York:20241028T190000
DTSTAMP:20260425T063224
CREATED:20240821T173122Z
LAST-MODIFIED:20241028T224520Z
UID:10009994-1730138400-1730142000@hrbcrichmond.org
SUMMARY:GSCV Meeting
DESCRIPTION:
URL:https://hrbcrichmond.org/event/gscv-meeting-3/
LOCATION:Room #207
END:VEVENT
BEGIN:VEVENT
DTSTART;TZID=America/New_York:20241014T180000
DTEND;TZID=America/New_York:20241014T190000
DTSTAMP:20260425T063224
CREATED:20240828T173443Z
LAST-MODIFIED:20241014T220046Z
UID:10010030-1728928800-1728932400@hrbcrichmond.org
SUMMARY:GSCV Meeting
DESCRIPTION:
URL:https://hrbcrichmond.org/event/gscv-meeting-10/
LOCATION:Room #207
END:VEVENT
BEGIN:VEVENT
DTSTART;TZID=America/New_York:20241001T180000
DTEND;TZID=America/New_York:20241001T200000
DTSTAMP:20260425T063224
CREATED:20240821T172944Z
LAST-MODIFIED:20241001T231549Z
UID:10009993-1727805600-1727812800@hrbcrichmond.org
SUMMARY:GSCV Meeting
DESCRIPTION:
URL:https://hrbcrichmond.org/event/gscv-meeting-2/
LOCATION:Room #207
END:VEVENT
BEGIN:VEVENT
DTSTART;TZID=America/New_York:20240923T180000
DTEND;TZID=America/New_York:20240923T190000
DTSTAMP:20260425T063224
CREATED:20240828T173241Z
LAST-MODIFIED:20240923T213055Z
UID:10010028-1727114400-1727118000@hrbcrichmond.org
SUMMARY:GSCV Meeting
DESCRIPTION:
URL:https://hrbcrichmond.org/event/gscv-meeting-9/
LOCATION:Room #207
END:VEVENT
BEGIN:VEVENT
DTSTART;TZID=America/New_York:20240917T180000
DTEND;TZID=America/New_York:20240917T200000
DTSTAMP:20260425T063224
CREATED:20240821T172813Z
LAST-MODIFIED:20240917T233056Z
UID:10009992-1726596000-1726603200@hrbcrichmond.org
SUMMARY:GSCV Meeting
DESCRIPTION:
URL:https://hrbcrichmond.org/event/gscv-meeting/
LOCATION:Room #207
END:VEVENT
END:VCALENDAR