BEGIN:VCALENDAR
VERSION:2.0
PRODID:-//Huguenot Road Baptist Church - ECPv6.15.20//NONSGML v1.0//EN
CALSCALE:GREGORIAN
METHOD:PUBLISH
X-ORIGINAL-URL:https://hrbcrichmond.org
X-WR-CALDESC:Events for Huguenot Road Baptist Church
REFRESH-INTERVAL;VALUE=DURATION:PT1H
X-Robots-Tag:noindex
X-PUBLISHED-TTL:PT1H
BEGIN:VTIMEZONE
TZID:America/New_York
BEGIN:DAYLIGHT
TZOFFSETFROM:-0500
TZOFFSETTO:-0400
TZNAME:EDT
DTSTART:20240310T070000
END:DAYLIGHT
BEGIN:STANDARD
TZOFFSETFROM:-0400
TZOFFSETTO:-0500
TZNAME:EST
DTSTART:20241103T060000
END:STANDARD
BEGIN:DAYLIGHT
TZOFFSETFROM:-0500
TZOFFSETTO:-0400
TZNAME:EDT
DTSTART:20250309T070000
END:DAYLIGHT
BEGIN:STANDARD
TZOFFSETFROM:-0400
TZOFFSETTO:-0500
TZNAME:EST
DTSTART:20251102T060000
END:STANDARD
BEGIN:DAYLIGHT
TZOFFSETFROM:-0500
TZOFFSETTO:-0400
TZNAME:EDT
DTSTART:20260308T070000
END:DAYLIGHT
BEGIN:STANDARD
TZOFFSETFROM:-0400
TZOFFSETTO:-0500
TZNAME:EST
DTSTART:20261101T060000
END:STANDARD
BEGIN:DAYLIGHT
TZOFFSETFROM:-0500
TZOFFSETTO:-0400
TZNAME:EDT
DTSTART:20270314T070000
END:DAYLIGHT
BEGIN:STANDARD
TZOFFSETFROM:-0400
TZOFFSETTO:-0500
TZNAME:EST
DTSTART:20271107T060000
END:STANDARD
END:VTIMEZONE
BEGIN:VEVENT
DTSTART;TZID=America/New_York:20260413T180000
DTEND;TZID=America/New_York:20260413T190000
DTSTAMP:20260425T142254
CREATED:20250910T131359Z
LAST-MODIFIED:20260413T225517Z
UID:10012350-1776103200-1776106800@hrbcrichmond.org
SUMMARY:Girl Scouts
DESCRIPTION:
URL:https://hrbcrichmond.org/event/girl-scouts-14/
LOCATION:room 207
END:VEVENT
BEGIN:VEVENT
DTSTART;TZID=America/New_York:20260323T180000
DTEND;TZID=America/New_York:20260323T190000
DTSTAMP:20260425T142254
CREATED:20250910T131254Z
LAST-MODIFIED:20260323T224046Z
UID:10012349-1774288800-1774292400@hrbcrichmond.org
SUMMARY:Girl Scouts
DESCRIPTION:
URL:https://hrbcrichmond.org/event/girl-scouts-13/
LOCATION:room 207
END:VEVENT
BEGIN:VEVENT
DTSTART;TZID=America/New_York:20260309T180000
DTEND;TZID=America/New_York:20260309T190000
DTSTAMP:20260425T142254
CREATED:20250910T131206Z
LAST-MODIFIED:20260309T224048Z
UID:10012348-1773079200-1773082800@hrbcrichmond.org
SUMMARY:Girl Scouts
DESCRIPTION:
URL:https://hrbcrichmond.org/event/girl-scouts-12/
LOCATION:room 207
END:VEVENT
BEGIN:VEVENT
DTSTART;TZID=America/New_York:20260223T180000
DTEND;TZID=America/New_York:20260223T190000
DTSTAMP:20260425T142254
CREATED:20250910T131132Z
LAST-MODIFIED:20260223T225552Z
UID:10012347-1771869600-1771873200@hrbcrichmond.org
SUMMARY:Girl Scouts
DESCRIPTION:
URL:https://hrbcrichmond.org/event/girl-scouts-11/
LOCATION:room 207
END:VEVENT
BEGIN:VEVENT
DTSTART;TZID=America/New_York:20260209T180000
DTEND;TZID=America/New_York:20260209T190000
DTSTAMP:20260425T142254
CREATED:20250910T131044Z
LAST-MODIFIED:20260209T235546Z
UID:10012346-1770660000-1770663600@hrbcrichmond.org
SUMMARY:Girl Scouts
DESCRIPTION:
URL:https://hrbcrichmond.org/event/girl-scouts-10/
LOCATION:room 207
END:VEVENT
BEGIN:VEVENT
DTSTART;TZID=America/New_York:20260126T180000
DTEND;TZID=America/New_York:20260126T190000
DTSTAMP:20260425T142254
CREATED:20250910T131010Z
LAST-MODIFIED:20260126T225528Z
UID:10012345-1769450400-1769454000@hrbcrichmond.org
SUMMARY:Girl Scouts
DESCRIPTION:
URL:https://hrbcrichmond.org/event/girl-scouts-9/
LOCATION:room 207
END:VEVENT
BEGIN:VEVENT
DTSTART;TZID=America/New_York:20260112T180000
DTEND;TZID=America/New_York:20260112T190000
DTSTAMP:20260425T142254
CREATED:20250910T130922Z
LAST-MODIFIED:20260112T234022Z
UID:10012344-1768240800-1768244400@hrbcrichmond.org
SUMMARY:Girl Scouts
DESCRIPTION:
URL:https://hrbcrichmond.org/event/girl-scouts-8/
LOCATION:room 207
END:VEVENT
BEGIN:VEVENT
DTSTART;TZID=America/New_York:20251215T180000
DTEND;TZID=America/New_York:20251215T190000
DTSTAMP:20260425T142254
CREATED:20250910T130817Z
LAST-MODIFIED:20251215T231035Z
UID:10012343-1765821600-1765825200@hrbcrichmond.org
SUMMARY:Girl Scouts
DESCRIPTION:
URL:https://hrbcrichmond.org/event/girl-scouts-7/
LOCATION:room 207
END:VEVENT
BEGIN:VEVENT
DTSTART;TZID=America/New_York:20251208T180000
DTEND;TZID=America/New_York:20251208T190000
DTSTAMP:20260425T142254
CREATED:20250910T130742Z
LAST-MODIFIED:20251208T234037Z
UID:10012342-1765216800-1765220400@hrbcrichmond.org
SUMMARY:Girl Scouts
DESCRIPTION:
URL:https://hrbcrichmond.org/event/girl-scouts-6/
LOCATION:room 207
END:VEVENT
BEGIN:VEVENT
DTSTART;TZID=America/New_York:20251124T180000
DTEND;TZID=America/New_York:20251124T190000
DTSTAMP:20260425T142254
CREATED:20250910T130636Z
LAST-MODIFIED:20251124T232539Z
UID:10012341-1764007200-1764010800@hrbcrichmond.org
SUMMARY:Girl Scouts
DESCRIPTION:
URL:https://hrbcrichmond.org/event/girl-scouts-5/
LOCATION:room 207
END:VEVENT
BEGIN:VEVENT
DTSTART;TZID=America/New_York:20251110T180000
DTEND;TZID=America/New_York:20251110T190000
DTSTAMP:20260425T142254
CREATED:20250910T130530Z
LAST-MODIFIED:20251110T232532Z
UID:10012340-1762797600-1762801200@hrbcrichmond.org
SUMMARY:Girl Scouts
DESCRIPTION:
URL:https://hrbcrichmond.org/event/girl-scouts-4/
LOCATION:room 207
END:VEVENT
BEGIN:VEVENT
DTSTART;TZID=America/New_York:20251027T180000
DTEND;TZID=America/New_York:20251027T190000
DTSTAMP:20260425T142254
CREATED:20250910T130426Z
LAST-MODIFIED:20251027T215554Z
UID:10012339-1761588000-1761591600@hrbcrichmond.org
SUMMARY:Girl Scouts
DESCRIPTION:
URL:https://hrbcrichmond.org/event/girl-scouts-3/
LOCATION:room 207
END:VEVENT
BEGIN:VEVENT
DTSTART;TZID=America/New_York:20251013T180000
DTEND;TZID=America/New_York:20251013T190000
DTSTAMP:20260425T142254
CREATED:20250910T130324Z
LAST-MODIFIED:20251013T225546Z
UID:10012338-1760378400-1760382000@hrbcrichmond.org
SUMMARY:Girl Scouts
DESCRIPTION:
URL:https://hrbcrichmond.org/event/girl-scouts-2/
LOCATION:room 207
END:VEVENT
BEGIN:VEVENT
DTSTART;TZID=America/New_York:20250922T180000
DTEND;TZID=America/New_York:20250922T190000
DTSTAMP:20260425T142254
CREATED:20250910T130200Z
LAST-MODIFIED:20250922T223047Z
UID:10012337-1758564000-1758567600@hrbcrichmond.org
SUMMARY:Girl Scouts
DESCRIPTION:
URL:https://hrbcrichmond.org/event/girl-scouts/
LOCATION:room 207
END:VEVENT
END:VCALENDAR