BEGIN:VCALENDAR
VERSION:2.0
PRODID:-//Huguenot Road Baptist Church - ECPv6.15.20//NONSGML v1.0//EN
CALSCALE:GREGORIAN
METHOD:PUBLISH
X-ORIGINAL-URL:https://hrbcrichmond.org
X-WR-CALDESC:Events for Huguenot Road Baptist Church
REFRESH-INTERVAL;VALUE=DURATION:PT1H
X-Robots-Tag:noindex
X-PUBLISHED-TTL:PT1H
BEGIN:VTIMEZONE
TZID:America/New_York
BEGIN:DAYLIGHT
TZOFFSETFROM:-0500
TZOFFSETTO:-0400
TZNAME:EDT
DTSTART:20250309T070000
END:DAYLIGHT
BEGIN:STANDARD
TZOFFSETFROM:-0400
TZOFFSETTO:-0500
TZNAME:EST
DTSTART:20251102T060000
END:STANDARD
BEGIN:DAYLIGHT
TZOFFSETFROM:-0500
TZOFFSETTO:-0400
TZNAME:EDT
DTSTART:20260308T070000
END:DAYLIGHT
BEGIN:STANDARD
TZOFFSETFROM:-0400
TZOFFSETTO:-0500
TZNAME:EST
DTSTART:20261101T060000
END:STANDARD
BEGIN:DAYLIGHT
TZOFFSETFROM:-0500
TZOFFSETTO:-0400
TZNAME:EDT
DTSTART:20270314T070000
END:DAYLIGHT
BEGIN:STANDARD
TZOFFSETFROM:-0400
TZOFFSETTO:-0500
TZNAME:EST
DTSTART:20271107T060000
END:STANDARD
END:VTIMEZONE
BEGIN:VEVENT
DTSTART;TZID=America/New_York:20260510T114500
DTEND;TZID=America/New_York:20260510T130000
DTSTAMP:20260424T182444
CREATED:20251005T145901Z
LAST-MODIFIED:20260424T211153Z
UID:10012451-1778413500-1778418000@hrbcrichmond.org
SUMMARY:Nomination Team Monthly Meeting
DESCRIPTION:
URL:https://hrbcrichmond.org/event/nomination-team-monthly-meeting-17/
LOCATION:Room 125
END:VEVENT
BEGIN:VEVENT
DTSTART;TZID=America/New_York:20260614T114500
DTEND;TZID=America/New_York:20260614T130000
DTSTAMP:20260424T182444
CREATED:20251113T190535Z
LAST-MODIFIED:20260424T211403Z
UID:10012603-1781437500-1781442000@hrbcrichmond.org
SUMMARY:Nomination Team Monthly Meeting
DESCRIPTION:
URL:https://hrbcrichmond.org/event/nomination-team-monthly-meeting-18/
LOCATION:Room 125
END:VEVENT
BEGIN:VEVENT
DTSTART;TZID=America/New_York:20260712T114500
DTEND;TZID=America/New_York:20260712T130000
DTSTAMP:20260424T182444
CREATED:20251201T180613Z
LAST-MODIFIED:20260424T211543Z
UID:10012686-1783856700-1783861200@hrbcrichmond.org
SUMMARY:Nomination Team Monthly Meeting
DESCRIPTION:
URL:https://hrbcrichmond.org/event/nomination-team-monthly-meeting-19/
LOCATION:Room 125
END:VEVENT
BEGIN:VEVENT
DTSTART;TZID=America/New_York:20260809T114500
DTEND;TZID=America/New_York:20260809T130000
DTSTAMP:20260424T182444
CREATED:20251214T160617Z
LAST-MODIFIED:20260424T211709Z
UID:10012750-1786275900-1786280400@hrbcrichmond.org
SUMMARY:Nomination Team Monthly Meeting
DESCRIPTION:
URL:https://hrbcrichmond.org/event/nomination-team-monthly-meeting-20/
LOCATION:Room 125
END:VEVENT
BEGIN:VEVENT
DTSTART;TZID=America/New_York:20260913T114500
DTEND;TZID=America/New_York:20260913T130000
DTSTAMP:20260424T182444
CREATED:20260122T025050Z
LAST-MODIFIED:20260424T211915Z
UID:10012857-1789299900-1789304400@hrbcrichmond.org
SUMMARY:Nomination Team Monthly Meeting
DESCRIPTION:
URL:https://hrbcrichmond.org/event/nomination-team-monthly-meeting-21/
LOCATION:Room 125
END:VEVENT
BEGIN:VEVENT
DTSTART;TZID=America/New_York:20261011T114500
DTEND;TZID=America/New_York:20261011T130000
DTSTAMP:20260424T182444
CREATED:20260330T003702Z
LAST-MODIFIED:20260424T212055Z
UID:10013297-1791719100-1791723600@hrbcrichmond.org
SUMMARY:Nomination Team Monthly Meeting
DESCRIPTION:
URL:https://hrbcrichmond.org/event/nomination-team-monthly-meeting-29/
LOCATION:Room 125
END:VEVENT
BEGIN:VEVENT
DTSTART;TZID=America/New_York:20261108T114500
DTEND;TZID=America/New_York:20261108T130000
DTSTAMP:20260424T182444
CREATED:20260424T012213Z
LAST-MODIFIED:20260424T212222Z
UID:10013381-1794138300-1794142800@hrbcrichmond.org
SUMMARY:Nomination Team Monthly Meeting
DESCRIPTION:
URL:https://hrbcrichmond.org/event/nomination-team-monthly-meeting-30/
LOCATION:Room 125
END:VEVENT
END:VCALENDAR