BEGIN:VCALENDAR
VERSION:2.0
PRODID:-//Huguenot Road Baptist Church - ECPv6.15.20//NONSGML v1.0//EN
CALSCALE:GREGORIAN
METHOD:PUBLISH
X-ORIGINAL-URL:https://hrbcrichmond.org
X-WR-CALDESC:Events for Huguenot Road Baptist Church
REFRESH-INTERVAL;VALUE=DURATION:PT1H
X-Robots-Tag:noindex
X-PUBLISHED-TTL:PT1H
BEGIN:VTIMEZONE
TZID:America/New_York
BEGIN:DAYLIGHT
TZOFFSETFROM:-0500
TZOFFSETTO:-0400
TZNAME:EDT
DTSTART:20220313T070000
END:DAYLIGHT
BEGIN:STANDARD
TZOFFSETFROM:-0400
TZOFFSETTO:-0500
TZNAME:EST
DTSTART:20221106T060000
END:STANDARD
BEGIN:DAYLIGHT
TZOFFSETFROM:-0500
TZOFFSETTO:-0400
TZNAME:EDT
DTSTART:20230312T070000
END:DAYLIGHT
BEGIN:STANDARD
TZOFFSETFROM:-0400
TZOFFSETTO:-0500
TZNAME:EST
DTSTART:20231105T060000
END:STANDARD
BEGIN:DAYLIGHT
TZOFFSETFROM:-0500
TZOFFSETTO:-0400
TZNAME:EDT
DTSTART:20240310T070000
END:DAYLIGHT
BEGIN:STANDARD
TZOFFSETFROM:-0400
TZOFFSETTO:-0500
TZNAME:EST
DTSTART:20241103T060000
END:STANDARD
END:VTIMEZONE
BEGIN:VEVENT
DTSTART;TZID=America/New_York:20231109T184500
DTEND;TZID=America/New_York:20231109T204500
DTSTAMP:20260425T221206
CREATED:20230210T200415Z
LAST-MODIFIED:20230508T132930Z
UID:10006347-1699555500-1699562700@hrbcrichmond.org
SUMMARY:Discipleship Team Meeting
DESCRIPTION:
URL:https://hrbcrichmond.org/event/discipleship-team-meeting-2/2023-11-09/
LOCATION:Room 121
CATEGORIES:Meeting
END:VEVENT
BEGIN:VEVENT
DTSTART;TZID=America/New_York:20231012T184500
DTEND;TZID=America/New_York:20231012T204500
DTSTAMP:20260425T221206
CREATED:20230210T200415Z
LAST-MODIFIED:20230508T132930Z
UID:10006346-1697136300-1697143500@hrbcrichmond.org
SUMMARY:Discipleship Team Meeting
DESCRIPTION:
URL:https://hrbcrichmond.org/event/discipleship-team-meeting-2/2023-10-12/
LOCATION:Room 121
CATEGORIES:Meeting
END:VEVENT
BEGIN:VEVENT
DTSTART;TZID=America/New_York:20230914T184500
DTEND;TZID=America/New_York:20230914T204500
DTSTAMP:20260425T221206
CREATED:20230210T200415Z
LAST-MODIFIED:20230508T132930Z
UID:10006345-1694717100-1694724300@hrbcrichmond.org
SUMMARY:Discipleship Team Meeting
DESCRIPTION:
URL:https://hrbcrichmond.org/event/discipleship-team-meeting-2/2023-09-14/
LOCATION:Room 121
CATEGORIES:Meeting
END:VEVENT
BEGIN:VEVENT
DTSTART;TZID=America/New_York:20230810T184500
DTEND;TZID=America/New_York:20230810T204500
DTSTAMP:20260425T221206
CREATED:20230210T200415Z
LAST-MODIFIED:20230508T132930Z
UID:10006344-1691693100-1691700300@hrbcrichmond.org
SUMMARY:Discipleship Team Meeting
DESCRIPTION:
URL:https://hrbcrichmond.org/event/discipleship-team-meeting-2/2023-08-10/
LOCATION:Room 121
CATEGORIES:Meeting
END:VEVENT
BEGIN:VEVENT
DTSTART;TZID=America/New_York:20230713T184500
DTEND;TZID=America/New_York:20230713T204500
DTSTAMP:20260425T221206
CREATED:20230210T200415Z
LAST-MODIFIED:20230508T132930Z
UID:10006343-1689273900-1689281100@hrbcrichmond.org
SUMMARY:Discipleship Team Meeting
DESCRIPTION:
URL:https://hrbcrichmond.org/event/discipleship-team-meeting-2/2023-07-13/
LOCATION:Room 121
CATEGORIES:Meeting
END:VEVENT
BEGIN:VEVENT
DTSTART;TZID=America/New_York:20230608T184500
DTEND;TZID=America/New_York:20230608T204500
DTSTAMP:20260425T221206
CREATED:20230210T200415Z
LAST-MODIFIED:20230508T132930Z
UID:10006342-1686249900-1686257100@hrbcrichmond.org
SUMMARY:Discipleship Team Meeting
DESCRIPTION:
URL:https://hrbcrichmond.org/event/discipleship-team-meeting-2/2023-06-08/
LOCATION:Room 121
CATEGORIES:Meeting
END:VEVENT
BEGIN:VEVENT
DTSTART;TZID=America/New_York:20230511T184500
DTEND;TZID=America/New_York:20230511T204500
DTSTAMP:20260425T221206
CREATED:20230210T200415Z
LAST-MODIFIED:20230508T132930Z
UID:10006341-1683830700-1683837900@hrbcrichmond.org
SUMMARY:Discipleship Team Meeting
DESCRIPTION:
URL:https://hrbcrichmond.org/event/discipleship-team-meeting-2/2023-05-11/
LOCATION:Room 121
CATEGORIES:Meeting
END:VEVENT
END:VCALENDAR