BEGIN:VCALENDAR
VERSION:2.0
PRODID:-//Huguenot Road Baptist Church - ECPv6.15.20//NONSGML v1.0//EN
CALSCALE:GREGORIAN
METHOD:PUBLISH
X-WR-CALNAME:Huguenot Road Baptist Church
X-ORIGINAL-URL:https://hrbcrichmond.org
X-WR-CALDESC:Events for Huguenot Road Baptist Church
REFRESH-INTERVAL;VALUE=DURATION:PT1H
X-Robots-Tag:noindex
X-PUBLISHED-TTL:PT1H
BEGIN:VTIMEZONE
TZID:America/New_York
BEGIN:DAYLIGHT
TZOFFSETFROM:-0500
TZOFFSETTO:-0400
TZNAME:EDT
DTSTART:20230312T070000
END:DAYLIGHT
BEGIN:STANDARD
TZOFFSETFROM:-0400
TZOFFSETTO:-0500
TZNAME:EST
DTSTART:20231105T060000
END:STANDARD
BEGIN:DAYLIGHT
TZOFFSETFROM:-0500
TZOFFSETTO:-0400
TZNAME:EDT
DTSTART:20240310T070000
END:DAYLIGHT
BEGIN:STANDARD
TZOFFSETFROM:-0400
TZOFFSETTO:-0500
TZNAME:EST
DTSTART:20241103T060000
END:STANDARD
BEGIN:DAYLIGHT
TZOFFSETFROM:-0500
TZOFFSETTO:-0400
TZNAME:EDT
DTSTART:20250309T070000
END:DAYLIGHT
BEGIN:STANDARD
TZOFFSETFROM:-0400
TZOFFSETTO:-0500
TZNAME:EST
DTSTART:20251102T060000
END:STANDARD
END:VTIMEZONE
BEGIN:VEVENT
DTSTART;TZID=America/New_York:20241027T114500
DTEND;TZID=America/New_York:20241027T124500
DTSTAMP:20260425T140211
CREATED:20240828T173559Z
LAST-MODIFIED:20241027T154526Z
UID:10010031-1730029500-1730033100@hrbcrichmond.org
SUMMARY:Search Committee Meeting
DESCRIPTION:
URL:https://hrbcrichmond.org/event/search-committee-meeting-3/
LOCATION:Room 103
END:VEVENT
BEGIN:VEVENT
DTSTART;TZID=America/New_York:20240922T114500
DTEND;TZID=America/New_York:20240922T124500
DTSTAMP:20260425T140211
CREATED:20240828T173240Z
LAST-MODIFIED:20240922T162528Z
UID:10010027-1727005500-1727009100@hrbcrichmond.org
SUMMARY:Search Committee Meeting
DESCRIPTION:
URL:https://hrbcrichmond.org/event/search-committee-meeting/
LOCATION:Room 103
END:VEVENT
BEGIN:VEVENT
DTSTART;TZID=America/New_York:20240908T114500
DTEND;TZID=America/New_York:20240908T124500
DTSTAMP:20260425T140211
CREATED:20240826T144114Z
LAST-MODIFIED:20240908T164114Z
UID:10010003-1725795900-1725799500@hrbcrichmond.org
SUMMARY:Search Committee Meeting
DESCRIPTION:
URL:https://hrbcrichmond.org/event/pastor-search-committee-meeting/
LOCATION:Room 103
END:VEVENT
END:VCALENDAR