BEGIN:VCALENDAR
VERSION:2.0
PRODID:-//Huguenot Road Baptist Church - ECPv6.15.20//NONSGML v1.0//EN
CALSCALE:GREGORIAN
METHOD:PUBLISH
X-ORIGINAL-URL:https://hrbcrichmond.org
X-WR-CALDESC:Events for Huguenot Road Baptist Church
REFRESH-INTERVAL;VALUE=DURATION:PT1H
X-Robots-Tag:noindex
X-PUBLISHED-TTL:PT1H
BEGIN:VTIMEZONE
TZID:America/New_York
BEGIN:DAYLIGHT
TZOFFSETFROM:-0500
TZOFFSETTO:-0400
TZNAME:EDT
DTSTART:20230312T070000
END:DAYLIGHT
BEGIN:STANDARD
TZOFFSETFROM:-0400
TZOFFSETTO:-0500
TZNAME:EST
DTSTART:20231105T060000
END:STANDARD
BEGIN:DAYLIGHT
TZOFFSETFROM:-0500
TZOFFSETTO:-0400
TZNAME:EDT
DTSTART:20240310T070000
END:DAYLIGHT
BEGIN:STANDARD
TZOFFSETFROM:-0400
TZOFFSETTO:-0500
TZNAME:EST
DTSTART:20241103T060000
END:STANDARD
BEGIN:DAYLIGHT
TZOFFSETFROM:-0500
TZOFFSETTO:-0400
TZNAME:EDT
DTSTART:20250309T070000
END:DAYLIGHT
BEGIN:STANDARD
TZOFFSETFROM:-0400
TZOFFSETTO:-0500
TZNAME:EST
DTSTART:20251102T060000
END:STANDARD
BEGIN:DAYLIGHT
TZOFFSETFROM:-0500
TZOFFSETTO:-0400
TZNAME:EDT
DTSTART:20260308T070000
END:DAYLIGHT
BEGIN:STANDARD
TZOFFSETFROM:-0400
TZOFFSETTO:-0500
TZNAME:EST
DTSTART:20261101T060000
END:STANDARD
BEGIN:DAYLIGHT
TZOFFSETFROM:-0500
TZOFFSETTO:-0400
TZNAME:EDT
DTSTART:20270314T070000
END:DAYLIGHT
BEGIN:STANDARD
TZOFFSETFROM:-0400
TZOFFSETTO:-0500
TZNAME:EST
DTSTART:20271107T060000
END:STANDARD
END:VTIMEZONE
BEGIN:VEVENT
DTSTART;TZID=America/New_York:20260409T110000
DTEND;TZID=America/New_York:20260409T133000
DTSTAMP:20260424T195642
CREATED:20250826T184415Z
LAST-MODIFIED:20260409T162536Z
UID:10012282-1775732400-1775741400@hrbcrichmond.org
SUMMARY:CDC Monthly Meeting
DESCRIPTION:
URL:https://hrbcrichmond.org/event/cdc-monthly-meeting-43/
LOCATION:Rod Hale Classroom
END:VEVENT
BEGIN:VEVENT
DTSTART;TZID=America/New_York:20260312T110000
DTEND;TZID=America/New_York:20260312T133000
DTSTAMP:20260424T195642
CREATED:20250808T004422Z
LAST-MODIFIED:20260312T165534Z
UID:10012125-1773313200-1773322200@hrbcrichmond.org
SUMMARY:CDC Monthly Meeting
DESCRIPTION:
URL:https://hrbcrichmond.org/event/cdc-monthly-meeting-42/
LOCATION:Rod Hale Classroom
END:VEVENT
BEGIN:VEVENT
DTSTART;TZID=America/New_York:20260212T110000
DTEND;TZID=America/New_York:20260212T133000
DTSTAMP:20260424T195642
CREATED:20250713T163846Z
LAST-MODIFIED:20260212T181057Z
UID:10012051-1770894000-1770903000@hrbcrichmond.org
SUMMARY:CDC Monthly Meeting
DESCRIPTION:
URL:https://hrbcrichmond.org/event/cdc-monthly-meeting-41/
LOCATION:Rod Hale Classroom
END:VEVENT
BEGIN:VEVENT
DTSTART;TZID=America/New_York:20260108T110000
DTEND;TZID=America/New_York:20260108T133000
DTSTAMP:20260424T195642
CREATED:20250619T173014Z
LAST-MODIFIED:20260108T181026Z
UID:10011962-1767870000-1767879000@hrbcrichmond.org
SUMMARY:CDC Monthly Meeting
DESCRIPTION:
URL:https://hrbcrichmond.org/event/cdc-monthly-meeting-40/
LOCATION:Rod Hale Classroom
END:VEVENT
BEGIN:VEVENT
DTSTART;TZID=America/New_York:20251211T110000
DTEND;TZID=America/New_York:20251211T133000
DTSTAMP:20260424T195642
CREATED:20250515T235928Z
LAST-MODIFIED:20251211T175522Z
UID:10011839-1765450800-1765459800@hrbcrichmond.org
SUMMARY:CDC Monthly Meeting
DESCRIPTION:
URL:https://hrbcrichmond.org/event/cdc-monthly-meeting-39/
LOCATION:Rod Hale Classroom
END:VEVENT
BEGIN:VEVENT
DTSTART;TZID=America/New_York:20251120T180000
DTEND;TZID=America/New_York:20251120T200000
DTSTAMP:20260424T195642
CREATED:20250425T011433Z
LAST-MODIFIED:20251121T002548Z
UID:10011749-1763661600-1763668800@hrbcrichmond.org
SUMMARY:Discipleship Group Meeting
DESCRIPTION:
URL:https://hrbcrichmond.org/event/discipleship-group-meeting-31/
LOCATION:Rod Hale Classroom
END:VEVENT
BEGIN:VEVENT
DTSTART;TZID=America/New_York:20251113T110000
DTEND;TZID=America/New_York:20251113T133000
DTSTAMP:20260424T195642
CREATED:20250424T005915Z
LAST-MODIFIED:20251113T174101Z
UID:10011743-1763031600-1763040600@hrbcrichmond.org
SUMMARY:CDC Monthly Meeting
DESCRIPTION:
URL:https://hrbcrichmond.org/event/cdc-monthly-meeting-38/
LOCATION:Rod Hale Classroom
END:VEVENT
BEGIN:VEVENT
DTSTART;TZID=America/New_York:20251009T110000
DTEND;TZID=America/New_York:20251009T133000
DTSTAMP:20260424T195642
CREATED:20250408T152947Z
LAST-MODIFIED:20251009T162531Z
UID:10011649-1760007600-1760016600@hrbcrichmond.org
SUMMARY:CDC Monthly Meeting
DESCRIPTION:
URL:https://hrbcrichmond.org/event/cdc-monthly-meeting-37/
LOCATION:Rod Hale Classroom
END:VEVENT
BEGIN:VEVENT
DTSTART;TZID=America/New_York:20250911T110000
DTEND;TZID=America/New_York:20250911T133000
DTSTAMP:20260424T195642
CREATED:20250330T164407Z
LAST-MODIFIED:20250911T031530Z
UID:10011574-1757588400-1757597400@hrbcrichmond.org
SUMMARY:CDC Monthly Meeting
DESCRIPTION:
URL:https://hrbcrichmond.org/event/cdc-monthly-meeting-36/
LOCATION:Rod Hale Classroom
END:VEVENT
BEGIN:VEVENT
DTSTART;TZID=America/New_York:20250814T110000
DTEND;TZID=America/New_York:20250814T133000
DTSTAMP:20260424T195642
CREATED:20250304T171517Z
LAST-MODIFIED:20250814T171050Z
UID:10011465-1755169200-1755178200@hrbcrichmond.org
SUMMARY:CDC Monthly Meeting
DESCRIPTION:
URL:https://hrbcrichmond.org/event/cdc-monthly-meeting-35/
LOCATION:Rod Hale Classroom
END:VEVENT
BEGIN:VEVENT
DTSTART;TZID=America/New_York:20250710T110000
DTEND;TZID=America/New_York:20250710T133000
DTSTAMP:20260424T195642
CREATED:20250204T172835Z
LAST-MODIFIED:20250710T170036Z
UID:10011345-1752145200-1752154200@hrbcrichmond.org
SUMMARY:CDC Monthly Meeting
DESCRIPTION:
URL:https://hrbcrichmond.org/event/cdc-monthly-meeting-34/
LOCATION:Rod Hale Classroom
END:VEVENT
BEGIN:VEVENT
DTSTART;TZID=America/New_York:20250508T110000
DTEND;TZID=America/New_York:20250508T133000
DTSTAMP:20260424T195642
CREATED:20250203T204916Z
LAST-MODIFIED:20250508T171549Z
UID:10011209-1746702000-1746711000@hrbcrichmond.org
SUMMARY:CDC Monthly Meeting
DESCRIPTION:
URL:https://hrbcrichmond.org/event/cdc-monthly-meeting-32/
LOCATION:Rod Hale Classroom
END:VEVENT
BEGIN:VEVENT
DTSTART;TZID=America/New_York:20250506T100000
DTEND;TZID=America/New_York:20250506T113000
DTSTAMP:20260424T195642
CREATED:20250203T204854Z
LAST-MODIFIED:20250506T140024Z
UID:10011197-1746525600-1746531000@hrbcrichmond.org
SUMMARY:WMU Monthly Meeting
DESCRIPTION:
URL:https://hrbcrichmond.org/event/wmu-monthly-meeting-9/
LOCATION:Rod Hale Classroom
END:VEVENT
BEGIN:VEVENT
DTSTART;TZID=America/New_York:20250410T110000
DTEND;TZID=America/New_York:20250410T133000
DTSTAMP:20260424T195642
CREATED:20241030T235820Z
LAST-MODIFIED:20250410T171538Z
UID:10010389-1744282800-1744291800@hrbcrichmond.org
SUMMARY:CDC Monthly Meeting
DESCRIPTION:
URL:https://hrbcrichmond.org/event/cdc-monthly-meeting-30/
LOCATION:Rod Hale Classroom
END:VEVENT
BEGIN:VEVENT
DTSTART;TZID=America/New_York:20250401T100000
DTEND;TZID=America/New_York:20250401T113000
DTSTAMP:20260424T195642
CREATED:20241024T014313Z
LAST-MODIFIED:20250401T141528Z
UID:10010293-1743501600-1743507000@hrbcrichmond.org
SUMMARY:WMU Monthly Meeting
DESCRIPTION:
URL:https://hrbcrichmond.org/event/wmu-monthly-meeting-8/
LOCATION:Rod Hale Classroom
END:VEVENT
BEGIN:VEVENT
DTSTART;TZID=America/New_York:20250313T110000
DTEND;TZID=America/New_York:20250313T133000
DTSTAMP:20260424T195642
CREATED:20241011T020920Z
LAST-MODIFIED:20250313T163021Z
UID:10010235-1741863600-1741872600@hrbcrichmond.org
SUMMARY:CDC Monthly Meeting
DESCRIPTION:
URL:https://hrbcrichmond.org/event/cdc-monthly-meeting-29/
LOCATION:Rod Hale Classroom
END:VEVENT
BEGIN:VEVENT
DTSTART;TZID=America/New_York:20250304T100000
DTEND;TZID=America/New_York:20250304T113000
DTSTAMP:20260424T195642
CREATED:20241004T002826Z
LAST-MODIFIED:20250304T154020Z
UID:10010205-1741082400-1741087800@hrbcrichmond.org
SUMMARY:WMU Monthly Meeting
DESCRIPTION:
URL:https://hrbcrichmond.org/event/wmu-monthly-meeting-7/
LOCATION:Rod Hale Classroom
END:VEVENT
BEGIN:VEVENT
DTSTART;TZID=America/New_York:20250213T110000
DTEND;TZID=America/New_York:20250213T133000
DTSTAMP:20260424T195642
CREATED:20240919T144244Z
LAST-MODIFIED:20250213T174558Z
UID:10010134-1739444400-1739453400@hrbcrichmond.org
SUMMARY:CDC Monthly Meeting
DESCRIPTION:
URL:https://hrbcrichmond.org/event/cdc-monthly-meeting-28/
LOCATION:Rod Hale Classroom
END:VEVENT
BEGIN:VEVENT
DTSTART;TZID=America/New_York:20250204T100000
DTEND;TZID=America/New_York:20250204T113000
DTSTAMP:20260424T195642
CREATED:20241105T164332Z
LAST-MODIFIED:20250204T154557Z
UID:10010445-1738663200-1738668600@hrbcrichmond.org
SUMMARY:WMU Monthly Meeting
DESCRIPTION:
URL:https://hrbcrichmond.org/event/wmu-monthly-meeting-6/
LOCATION:Rod Hale Classroom
END:VEVENT
BEGIN:VEVENT
DTSTART;TZID=America/New_York:20250109T110000
DTEND;TZID=America/New_York:20250109T133000
DTSTAMP:20260424T195642
CREATED:20240815T212828Z
LAST-MODIFIED:20250109T175537Z
UID:10009961-1736420400-1736429400@hrbcrichmond.org
SUMMARY:CDC Monthly Meeting
DESCRIPTION:
URL:https://hrbcrichmond.org/event/cdc-monthly-meeting-27/
LOCATION:Rod Hale Classroom
END:VEVENT
BEGIN:VEVENT
DTSTART;TZID=America/New_York:20241212T110000
DTEND;TZID=America/New_York:20241212T133000
DTSTAMP:20260424T195642
CREATED:20240809T181720Z
LAST-MODIFIED:20241212T171540Z
UID:10009884-1734001200-1734010200@hrbcrichmond.org
SUMMARY:CDC Monthly Meeting
DESCRIPTION:
URL:https://hrbcrichmond.org/event/cdc-monthly-meeting-26/
LOCATION:Rod Hale Classroom
END:VEVENT
BEGIN:VEVENT
DTSTART;TZID=America/New_York:20241114T110000
DTEND;TZID=America/New_York:20241114T133000
DTSTAMP:20260424T195642
CREATED:20240809T181433Z
LAST-MODIFIED:20241114T182624Z
UID:10009867-1731582000-1731591000@hrbcrichmond.org
SUMMARY:CDC Monthly Meeting
DESCRIPTION:
URL:https://hrbcrichmond.org/event/cdc-monthly-meeting-25/
LOCATION:Rod Hale Classroom
END:VEVENT
BEGIN:VEVENT
DTSTART;TZID=America/New_York:20241010T110000
DTEND;TZID=America/New_York:20241010T133000
DTSTAMP:20260424T195642
CREATED:20240809T181101Z
LAST-MODIFIED:20241010T162615Z
UID:10009744-1728558000-1728567000@hrbcrichmond.org
SUMMARY:CDC Monthly Meeting
DESCRIPTION:
URL:https://hrbcrichmond.org/event/cdc-monthly-meeting-24/
LOCATION:Rod Hale Classroom
END:VEVENT
BEGIN:VEVENT
DTSTART;TZID=America/New_York:20240912T110000
DTEND;TZID=America/New_York:20240912T133000
DTSTAMP:20260424T195642
CREATED:20240322T010007Z
LAST-MODIFIED:20240912T161536Z
UID:10009069-1726138800-1726147800@hrbcrichmond.org
SUMMARY:CDC Monthly Meeting
DESCRIPTION:
URL:https://hrbcrichmond.org/event/cdc-monthly-meeting-23/
LOCATION:Rod Hale Classroom
END:VEVENT
BEGIN:VEVENT
DTSTART;TZID=America/New_York:20240903T100000
DTEND;TZID=America/New_York:20240903T113000
DTSTAMP:20260424T195642
CREATED:20240827T174045Z
LAST-MODIFIED:20240903T144022Z
UID:10010005-1725357600-1725363000@hrbcrichmond.org
SUMMARY:WMU Monthly Meeting
DESCRIPTION:
URL:https://hrbcrichmond.org/event/wmu-monthly-meeting/
LOCATION:Rod Hale Classroom
END:VEVENT
BEGIN:VEVENT
DTSTART;TZID=America/New_York:20240808T110000
DTEND;TZID=America/New_York:20240808T133000
DTSTAMP:20260424T195642
CREATED:20240306T092116Z
LAST-MODIFIED:20240808T164026Z
UID:10008968-1723114800-1723123800@hrbcrichmond.org
SUMMARY:CDC Monthly Meeting
DESCRIPTION:
URL:https://hrbcrichmond.org/event/cdc-monthly-meeting-22/
LOCATION:Rod Hale Classroom
END:VEVENT
BEGIN:VEVENT
DTSTART;TZID=America/New_York:20240711T110000
DTEND;TZID=America/New_York:20240711T133000
DTSTAMP:20260424T195642
CREATED:20240208T032609Z
LAST-MODIFIED:20240711T164513Z
UID:10008878-1720695600-1720704600@hrbcrichmond.org
SUMMARY:CDC Monthly Meeting
DESCRIPTION:
URL:https://hrbcrichmond.org/event/cdc-monthly-meeting-12/
LOCATION:Rod Hale Classroom
END:VEVENT
BEGIN:VEVENT
DTSTART;TZID=America/New_York:20240613T110000
DTEND;TZID=America/New_York:20240613T133000
DTSTAMP:20260424T195642
CREATED:20240125T010130Z
LAST-MODIFIED:20240613T173032Z
UID:10008779-1718276400-1718285400@hrbcrichmond.org
SUMMARY:CDC Monthly Meeting
DESCRIPTION:
URL:https://hrbcrichmond.org/event/cdc-monthly-meeting-21/
LOCATION:Rod Hale Classroom
END:VEVENT
BEGIN:VEVENT
DTSTART;TZID=America/New_York:20240516T184500
DTEND;TZID=America/New_York:20240516T194500
DTSTAMP:20260424T195642
CREATED:20240515T201531Z
LAST-MODIFIED:20240516T225532Z
UID:10009340-1715885100-1715888700@hrbcrichmond.org
SUMMARY:Discipleship Group Meeting
DESCRIPTION:
URL:https://hrbcrichmond.org/event/discipleship-group-meeting-19/
LOCATION:Rod Hale Classroom
END:VEVENT
BEGIN:VEVENT
DTSTART;TZID=America/New_York:20240509T110000
DTEND;TZID=America/New_York:20240509T133000
DTSTAMP:20260424T195642
CREATED:20231214T184459Z
LAST-MODIFIED:20240509T164015Z
UID:10008603-1715252400-1715261400@hrbcrichmond.org
SUMMARY:CDC Monthly Meeting
DESCRIPTION:
URL:https://hrbcrichmond.org/event/cdc-monthly-meeting-20/
LOCATION:Rod Hale Classroom
END:VEVENT
END:VCALENDAR