BEGIN:VCALENDAR
VERSION:2.0
PRODID:-//Huguenot Road Baptist Church - ECPv6.15.20//NONSGML v1.0//EN
CALSCALE:GREGORIAN
METHOD:PUBLISH
X-WR-CALNAME:Huguenot Road Baptist Church
X-ORIGINAL-URL:https://hrbcrichmond.org
X-WR-CALDESC:Events for Huguenot Road Baptist Church
REFRESH-INTERVAL;VALUE=DURATION:PT1H
X-Robots-Tag:noindex
X-PUBLISHED-TTL:PT1H
BEGIN:VTIMEZONE
TZID:America/New_York
BEGIN:DAYLIGHT
TZOFFSETFROM:-0500
TZOFFSETTO:-0400
TZNAME:EDT
DTSTART:20220313T070000
END:DAYLIGHT
BEGIN:STANDARD
TZOFFSETFROM:-0400
TZOFFSETTO:-0500
TZNAME:EST
DTSTART:20221106T060000
END:STANDARD
BEGIN:DAYLIGHT
TZOFFSETFROM:-0500
TZOFFSETTO:-0400
TZNAME:EDT
DTSTART:20230312T070000
END:DAYLIGHT
BEGIN:STANDARD
TZOFFSETFROM:-0400
TZOFFSETTO:-0500
TZNAME:EST
DTSTART:20231105T060000
END:STANDARD
BEGIN:DAYLIGHT
TZOFFSETFROM:-0500
TZOFFSETTO:-0400
TZNAME:EDT
DTSTART:20240310T070000
END:DAYLIGHT
BEGIN:STANDARD
TZOFFSETFROM:-0400
TZOFFSETTO:-0500
TZNAME:EST
DTSTART:20241103T060000
END:STANDARD
BEGIN:DAYLIGHT
TZOFFSETFROM:-0500
TZOFFSETTO:-0400
TZNAME:EDT
DTSTART:20250309T070000
END:DAYLIGHT
BEGIN:STANDARD
TZOFFSETFROM:-0400
TZOFFSETTO:-0500
TZNAME:EST
DTSTART:20251102T060000
END:STANDARD
BEGIN:DAYLIGHT
TZOFFSETFROM:-0500
TZOFFSETTO:-0400
TZNAME:EDT
DTSTART:20260308T070000
END:DAYLIGHT
BEGIN:STANDARD
TZOFFSETFROM:-0400
TZOFFSETTO:-0500
TZNAME:EST
DTSTART:20261101T060000
END:STANDARD
BEGIN:DAYLIGHT
TZOFFSETFROM:-0500
TZOFFSETTO:-0400
TZNAME:EDT
DTSTART:20270314T070000
END:DAYLIGHT
BEGIN:STANDARD
TZOFFSETFROM:-0400
TZOFFSETTO:-0500
TZNAME:EST
DTSTART:20271107T060000
END:STANDARD
END:VTIMEZONE
BEGIN:VEVENT
DTSTART;TZID=America/New_York:20260205T100000
DTEND;TZID=America/New_York:20260205T113000
DTSTAMP:20260425T091041
CREATED:20260130T141115Z
LAST-MODIFIED:20260205T162541Z
UID:10012896-1770285600-1770291000@hrbcrichmond.org
SUMMARY:WMU Meeting
DESCRIPTION:
URL:https://hrbcrichmond.org/event/wmu-meeting/
LOCATION:MPR2
END:VEVENT
BEGIN:VEVENT
DTSTART;TZID=America/New_York:20260204T100000
DTEND;TZID=America/New_York:20260204T110000
DTSTAMP:20260425T091041
CREATED:20260122T185602Z
LAST-MODIFIED:20260204T152527Z
UID:10012858-1770199200-1770202800@hrbcrichmond.org
SUMMARY:Adult Bible Study
DESCRIPTION:
URL:https://hrbcrichmond.org/event/adult-bible-study-2/
LOCATION:MPR2
END:VEVENT
BEGIN:VEVENT
DTSTART;TZID=America/New_York:20251125T090000
DTEND;TZID=America/New_York:20251125T170000
DTSTAMP:20260425T091041
CREATED:20250903T155144Z
LAST-MODIFIED:20251125T215543Z
UID:10012314-1764061200-1764090000@hrbcrichmond.org
SUMMARY:Red Cross Blood Drive
DESCRIPTION:
URL:https://hrbcrichmond.org/event/red-cross-blood-drive-2/
LOCATION:MPR2
END:VEVENT
BEGIN:VEVENT
DTSTART;TZID=America/New_York:20250826T180000
DTEND;TZID=America/New_York:20250826T190000
DTSTAMP:20260425T091041
CREATED:20250825T191044Z
LAST-MODIFIED:20250826T222515Z
UID:10012265-1756231200-1756234800@hrbcrichmond.org
SUMMARY:CDC Meet and Greet
DESCRIPTION:
URL:https://hrbcrichmond.org/event/cdc-meet-and-greet/
LOCATION:MPR2
END:VEVENT
BEGIN:VEVENT
DTSTART;TZID=America/New_York:20250708T183000
DTEND;TZID=America/New_York:20250708T203000
DTSTAMP:20260425T091041
CREATED:20250203T205456Z
LAST-MODIFIED:20250709T001527Z
UID:10011337-1751999400-1752006600@hrbcrichmond.org
SUMMARY:Executive Council Meeting
DESCRIPTION:
URL:https://hrbcrichmond.org/event/executive-council-meeting-20/
LOCATION:MPR2
END:VEVENT
BEGIN:VEVENT
DTSTART;TZID=America/New_York:20250603T183000
DTEND;TZID=America/New_York:20250603T203000
DTSTAMP:20260425T091041
CREATED:20250203T193610Z
LAST-MODIFIED:20250603T234536Z
UID:10011144-1748975400-1748982600@hrbcrichmond.org
SUMMARY:Executive Council Meeting
DESCRIPTION:
URL:https://hrbcrichmond.org/event/executive-council-meeting-19/
LOCATION:MPR2
END:VEVENT
BEGIN:VEVENT
DTSTART;TZID=America/New_York:20250506T183000
DTEND;TZID=America/New_York:20250506T200000
DTSTAMP:20260425T091041
CREATED:20250203T204855Z
LAST-MODIFIED:20250506T231532Z
UID:10011201-1746556200-1746561600@hrbcrichmond.org
SUMMARY:Executive Council Meeting
DESCRIPTION:
URL:https://hrbcrichmond.org/event/executive-council-meeting-18/
LOCATION:MPR2
END:VEVENT
BEGIN:VEVENT
DTSTART;TZID=America/New_York:20250401T190000
DTEND;TZID=America/New_York:20250401T210000
DTSTAMP:20260425T091041
CREATED:20241025T002835Z
LAST-MODIFIED:20250402T000052Z
UID:10010296-1743534000-1743541200@hrbcrichmond.org
SUMMARY:Executive Council Meeting
DESCRIPTION:
URL:https://hrbcrichmond.org/event/executive-council-meeting-17/
LOCATION:MPR2
END:VEVENT
BEGIN:VEVENT
DTSTART;TZID=America/New_York:20250304T190000
DTEND;TZID=America/New_York:20250304T210000
DTSTAMP:20260425T091041
CREATED:20241004T013834Z
LAST-MODIFIED:20250305T004551Z
UID:10010208-1741114800-1741122000@hrbcrichmond.org
SUMMARY:Executive Council Meeting
DESCRIPTION:
URL:https://hrbcrichmond.org/event/executive-council-meeting-16/
LOCATION:MPR2
END:VEVENT
BEGIN:VEVENT
DTSTART;TZID=America/New_York:20250109T190000
DTEND;TZID=America/New_York:20250109T210000
DTSTAMP:20260425T091041
CREATED:20240813T011347Z
LAST-MODIFIED:20250110T013101Z
UID:10009954-1736449200-1736456400@hrbcrichmond.org
SUMMARY:Executive Council Meeting
DESCRIPTION:
URL:https://hrbcrichmond.org/event/executive-council-meeting-14/
LOCATION:MPR2
END:VEVENT
BEGIN:VEVENT
DTSTART;TZID=America/New_York:20241203T190000
DTEND;TZID=America/New_York:20241203T210000
DTSTAMP:20260425T091041
CREATED:20240809T172509Z
LAST-MODIFIED:20241204T011531Z
UID:10009689-1733252400-1733259600@hrbcrichmond.org
SUMMARY:Executive Council Meeting
DESCRIPTION:
URL:https://hrbcrichmond.org/event/executive-council-meeting-12/
LOCATION:MPR2
END:VEVENT
BEGIN:VEVENT
DTSTART;TZID=America/New_York:20241020T120000
DTEND;TZID=America/New_York:20241020T133000
DTSTAMP:20260425T091041
CREATED:20240809T181207Z
LAST-MODIFIED:20241020T164043Z
UID:10009781-1729425600-1729431000@hrbcrichmond.org
SUMMARY:Deacons Leadership Meeting
DESCRIPTION:
URL:https://hrbcrichmond.org/event/deacons-leadership-meeting/
LOCATION:MPR2
END:VEVENT
BEGIN:VEVENT
DTSTART;TZID=America/New_York:20240818T120000
DTEND;TZID=America/New_York:20240818T133000
DTSTAMP:20260425T091041
CREATED:20240308T030115Z
LAST-MODIFIED:20240818T171042Z
UID:10009005-1723982400-1723987800@hrbcrichmond.org
SUMMARY:Deacons Ministry Leadership Meeting
DESCRIPTION:
URL:https://hrbcrichmond.org/event/deacons-ministry-leadership-meeting/
LOCATION:MPR2
END:VEVENT
BEGIN:VEVENT
DTSTART;TZID=America/New_York:20240806T190000
DTEND;TZID=America/New_York:20240806T210000
DTSTAMP:20260425T091041
CREATED:20240306T092115Z
LAST-MODIFIED:20240807T005525Z
UID:10008965-1722970800-1722978000@hrbcrichmond.org
SUMMARY:Executive Council Meeting
DESCRIPTION:
URL:https://hrbcrichmond.org/event/executive-council-meeting-9/
LOCATION:MPR2
END:VEVENT
BEGIN:VEVENT
DTSTART;TZID=America/New_York:20240721T120000
DTEND;TZID=America/New_York:20240721T133000
DTSTAMP:20260425T091041
CREATED:20240224T031602Z
LAST-MODIFIED:20240721T172513Z
UID:10008925-1721563200-1721568600@hrbcrichmond.org
SUMMARY:Deacons Meeting
DESCRIPTION:
URL:https://hrbcrichmond.org/event/deacons-meeting-12/
LOCATION:MPR2
END:VEVENT
BEGIN:VEVENT
DTSTART;TZID=America/New_York:20240702T190000
DTEND;TZID=America/New_York:20240702T210000
DTSTAMP:20260425T091041
CREATED:20240204T170619Z
LAST-MODIFIED:20240702T235527Z
UID:10008855-1719946800-1719954000@hrbcrichmond.org
SUMMARY:Executive Council Meeting
DESCRIPTION:
URL:https://hrbcrichmond.org/event/executive-council-meeting-2/
LOCATION:MPR2
END:VEVENT
BEGIN:VEVENT
DTSTART;TZID=America/New_York:20240519T170000
DTEND;TZID=America/New_York:20240519T183000
DTSTAMP:20260425T091041
CREATED:20231225T052557Z
LAST-MODIFIED:20240519T215045Z
UID:10008645-1716138000-1716143400@hrbcrichmond.org
SUMMARY:Deacons Meeting
DESCRIPTION:
URL:https://hrbcrichmond.org/event/deacons-meeting-10/
LOCATION:MPR2
END:VEVENT
BEGIN:VEVENT
DTSTART;TZID=America/New_York:20240421T114500
DTEND;TZID=America/New_York:20240421T131500
DTSTAMP:20260425T091041
CREATED:20231110T023030Z
LAST-MODIFIED:20240421T163909Z
UID:10008399-1713699900-1713705300@hrbcrichmond.org
SUMMARY:Deacons Leadership Meeting
DESCRIPTION:
URL:https://hrbcrichmond.org/event/deacons-meeting-9/
LOCATION:MPR2
END:VEVENT
BEGIN:VEVENT
DTSTART;TZID=America/New_York:20240402T190000
DTEND;TZID=America/New_York:20240402T210000
DTSTAMP:20260425T091041
CREATED:20240119T155651Z
LAST-MODIFIED:20240119T155651Z
UID:10008769-1712084400-1712091600@hrbcrichmond.org
SUMMARY:Executive Council/Vision Implementation Team Joint Meeting
DESCRIPTION:
URL:https://hrbcrichmond.org/event/executive-council-vision-implementation-team-joint-meeting-17/
LOCATION:MPR2
END:VEVENT
BEGIN:VEVENT
DTSTART;TZID=America/New_York:20240121T170000
DTEND;TZID=America/New_York:20240121T183000
DTSTAMP:20260425T091041
CREATED:20230906T160513Z
LAST-MODIFIED:20240121T231509Z
UID:10008021-1705856400-1705861800@hrbcrichmond.org
SUMMARY:Deacons Meeting
DESCRIPTION:
URL:https://hrbcrichmond.org/event/deacons-meeting-6/
LOCATION:MPR2
END:VEVENT
BEGIN:VEVENT
DTSTART;TZID=America/New_York:20231119T170000
DTEND;TZID=America/New_York:20231119T183000
DTSTAMP:20260425T091041
CREATED:20230630T171748Z
LAST-MODIFIED:20231119T233014Z
UID:10007491-1700413200-1700418600@hrbcrichmond.org
SUMMARY:Deacons Meeting
DESCRIPTION:
URL:https://hrbcrichmond.org/event/deacon-ministry-team-meeting/
LOCATION:MPR2
END:VEVENT
BEGIN:VEVENT
DTSTART;TZID=America/New_York:20231015T170000
DTEND;TZID=America/New_York:20231015T180000
DTSTAMP:20260425T091041
CREATED:20230625T142016Z
LAST-MODIFIED:20231015T212520Z
UID:10007382-1697389200-1697392800@hrbcrichmond.org
SUMMARY:Deacon Ministry Team Meeting
DESCRIPTION:
URL:https://hrbcrichmond.org/event/deacon-ministry-leadership-team-meeting-2/
LOCATION:MPR2
END:VEVENT
BEGIN:VEVENT
DTSTART;TZID=America/New_York:20230820T170000
DTEND;TZID=America/New_York:20230820T180000
DTSTAMP:20260425T091041
CREATED:20230606T185040Z
LAST-MODIFIED:20230820T205513Z
UID:10007020-1692550800-1692554400@hrbcrichmond.org
SUMMARY:Deacon Leadership Team Meeting
DESCRIPTION:
URL:https://hrbcrichmond.org/event/deacon-leadership-team-meeting-2/
LOCATION:MPR2
END:VEVENT
BEGIN:VEVENT
DTSTART;TZID=America/New_York:20230716T170000
DTEND;TZID=America/New_York:20230716T180000
DTSTAMP:20260425T091041
CREATED:20230606T185025Z
LAST-MODIFIED:20230716T215516Z
UID:10006946-1689526800-1689530400@hrbcrichmond.org
SUMMARY:Deacons Meeting
DESCRIPTION:
URL:https://hrbcrichmond.org/event/deacons-meeting-3/
LOCATION:MPR2
END:VEVENT
BEGIN:VEVENT
DTSTART;TZID=America/New_York:20230625T170000
DTEND;TZID=America/New_York:20230625T180000
DTSTAMP:20260425T091041
CREATED:20230606T185014Z
LAST-MODIFIED:20230705T143724Z
UID:10006896-1687712400-1687716000@hrbcrichmond.org
SUMMARY:Deacon Leadership Team Meeting
DESCRIPTION:
URL:https://hrbcrichmond.org/event/deacon-leadership-team-meeting/
LOCATION:MPR2
END:VEVENT
BEGIN:VEVENT
DTSTART;TZID=America/New_York:20230521T170000
DTEND;TZID=America/New_York:20230521T180000
DTSTAMP:20260425T091041
CREATED:20230210T201941Z
LAST-MODIFIED:20230210T202104Z
UID:10004086-1684688400-1684692000@hrbcrichmond.org
SUMMARY:Deacons Meeting
DESCRIPTION:
URL:https://hrbcrichmond.org/event/deacons-meeting-2/2023-05-21/
LOCATION:MPR2
CATEGORIES:Meeting
END:VEVENT
BEGIN:VEVENT
DTSTART;TZID=America/New_York:20230504T103000
DTEND;TZID=America/New_York:20230504T120000
DTSTAMP:20260425T091041
CREATED:20230411T202617Z
LAST-MODIFIED:20230411T202617Z
UID:10005752-1683196200-1683201600@hrbcrichmond.org
SUMMARY:Musical Morning with the McAllisters & Friends/PrimeTimers
DESCRIPTION:
URL:https://hrbcrichmond.org/event/musical-morning-with-the-mcallisters-friends-primetimers/
LOCATION:MPR2
END:VEVENT
BEGIN:VEVENT
DTSTART;TZID=America/New_York:20230423T170000
DTEND;TZID=America/New_York:20230423T180000
DTSTAMP:20260425T091041
CREATED:20230323T162949Z
LAST-MODIFIED:20230323T162949Z
UID:10005339-1682269200-1682272800@hrbcrichmond.org
SUMMARY:Deacon Ministry Leadership Team Meeting
DESCRIPTION:
URL:https://hrbcrichmond.org/event/deacon-ministry-leadership-team-meeting/
LOCATION:MPR2
END:VEVENT
BEGIN:VEVENT
DTSTART;TZID=America/New_York:20230411T190000
DTEND;TZID=America/New_York:20230411T210000
DTSTAMP:20260425T091041
CREATED:20230323T161756Z
LAST-MODIFIED:20230323T161756Z
UID:10005275-1681239600-1681246800@hrbcrichmond.org
SUMMARY:Executive Council/Vision Implementation Team Joint Meeting
DESCRIPTION:
URL:https://hrbcrichmond.org/event/executive-council-vision-implementation-team-joint-meeting/
LOCATION:MPR2
CATEGORIES:Meeting
END:VEVENT
BEGIN:VEVENT
DTSTART;TZID=America/New_York:20230319T170000
DTEND;TZID=America/New_York:20230319T180000
DTSTAMP:20260425T091041
CREATED:20230210T201941Z
LAST-MODIFIED:20230210T202104Z
UID:10004084-1679245200-1679248800@hrbcrichmond.org
SUMMARY:Deacons Meeting
DESCRIPTION:
URL:https://hrbcrichmond.org/event/deacons-meeting-2/2023-03-19/
LOCATION:MPR2
CATEGORIES:Meeting
END:VEVENT
END:VCALENDAR