BEGIN:VCALENDAR
VERSION:2.0
PRODID:-//Huguenot Road Baptist Church - ECPv6.15.20//NONSGML v1.0//EN
CALSCALE:GREGORIAN
METHOD:PUBLISH
X-WR-CALNAME:Huguenot Road Baptist Church
X-ORIGINAL-URL:https://hrbcrichmond.org
X-WR-CALDESC:Events for Huguenot Road Baptist Church
REFRESH-INTERVAL;VALUE=DURATION:PT1H
X-Robots-Tag:noindex
X-PUBLISHED-TTL:PT1H
BEGIN:VTIMEZONE
TZID:America/New_York
BEGIN:DAYLIGHT
TZOFFSETFROM:-0500
TZOFFSETTO:-0400
TZNAME:EDT
DTSTART:20250309T070000
END:DAYLIGHT
BEGIN:STANDARD
TZOFFSETFROM:-0400
TZOFFSETTO:-0500
TZNAME:EST
DTSTART:20251102T060000
END:STANDARD
BEGIN:DAYLIGHT
TZOFFSETFROM:-0500
TZOFFSETTO:-0400
TZNAME:EDT
DTSTART:20260308T070000
END:DAYLIGHT
BEGIN:STANDARD
TZOFFSETFROM:-0400
TZOFFSETTO:-0500
TZNAME:EST
DTSTART:20261101T060000
END:STANDARD
BEGIN:DAYLIGHT
TZOFFSETFROM:-0500
TZOFFSETTO:-0400
TZNAME:EDT
DTSTART:20270314T070000
END:DAYLIGHT
BEGIN:STANDARD
TZOFFSETFROM:-0400
TZOFFSETTO:-0500
TZNAME:EST
DTSTART:20271107T060000
END:STANDARD
END:VTIMEZONE
BEGIN:VEVENT
DTSTART;TZID=America/New_York:20260823T120000
DTEND;TZID=America/New_York:20260823T140000
DTSTAMP:20260424T212842
CREATED:20251231T143602Z
LAST-MODIFIED:20260425T010319Z
UID:10012794-1787486400-1787493600@hrbcrichmond.org
SUMMARY:Missions Group Meeting
DESCRIPTION:
URL:https://hrbcrichmond.org/event/missions-group-meeting-36/
LOCATION:MPR1
END:VEVENT
BEGIN:VEVENT
DTSTART;TZID=America/New_York:20260906T114500
DTEND;TZID=America/New_York:20260906T121500
DTSTAMP:20260424T212842
CREATED:20260217T182118Z
LAST-MODIFIED:20260425T010406Z
UID:10012966-1788695100-1788696900@hrbcrichmond.org
SUMMARY:Family Ministries meeting
DESCRIPTION:
URL:https://hrbcrichmond.org/event/family-ministries-meeting-7/
LOCATION:MPR1
END:VEVENT
BEGIN:VEVENT
DTSTART;TZID=America/New_York:20260911T100000
DTEND;TZID=America/New_York:20260911T120000
DTSTAMP:20260424T212842
CREATED:20260121T165120Z
LAST-MODIFIED:20260425T010420Z
UID:10012852-1789120800-1789128000@hrbcrichmond.org
SUMMARY:American Sewing Guild (ASG)
DESCRIPTION:
URL:https://hrbcrichmond.org/event/american-sewing-guild-asg-40/
LOCATION:MPR1
END:VEVENT
BEGIN:VEVENT
DTSTART;TZID=America/New_York:20260927T120000
DTEND;TZID=America/New_York:20260927T140000
DTSTAMP:20260424T212842
CREATED:20260302T012204Z
LAST-MODIFIED:20260425T010516Z
UID:10012996-1790510400-1790517600@hrbcrichmond.org
SUMMARY:Missions Group Meeting
DESCRIPTION:
URL:https://hrbcrichmond.org/event/missions-group-meeting-37/
LOCATION:MPR1
END:VEVENT
BEGIN:VEVENT
DTSTART;TZID=America/New_York:20261004T114500
DTEND;TZID=America/New_York:20261004T121500
DTSTAMP:20260424T212842
CREATED:20260307T005204Z
LAST-MODIFIED:20260425T010543Z
UID:10013110-1791114300-1791116100@hrbcrichmond.org
SUMMARY:Family Ministries meeting
DESCRIPTION:
URL:https://hrbcrichmond.org/event/family-ministries-meeting-8/
LOCATION:MPR1
END:VEVENT
BEGIN:VEVENT
DTSTART;TZID=America/New_York:20261009T100000
DTEND;TZID=America/New_York:20261009T120000
DTSTAMP:20260424T212842
CREATED:20260329T143654Z
LAST-MODIFIED:20260425T010558Z
UID:10013292-1791540000-1791547200@hrbcrichmond.org
SUMMARY:American Sewing Guild (ASG)
DESCRIPTION:
URL:https://hrbcrichmond.org/event/american-sewing-guild-asg-41/
LOCATION:MPR1
END:VEVENT
BEGIN:VEVENT
DTSTART;TZID=America/New_York:20261025T120000
DTEND;TZID=America/New_York:20261025T140000
DTSTAMP:20260424T212842
CREATED:20260412T193728Z
LAST-MODIFIED:20260425T010657Z
UID:10013340-1792929600-1792936800@hrbcrichmond.org
SUMMARY:Missions Group Meeting
DESCRIPTION:
URL:https://hrbcrichmond.org/event/missions-group-meeting-38/
LOCATION:MPR1
END:VEVENT
BEGIN:VEVENT
DTSTART;TZID=America/New_York:20261101T114500
DTEND;TZID=America/New_York:20261101T121500
DTSTAMP:20260424T212842
CREATED:20260415T235242Z
LAST-MODIFIED:20260425T010712Z
UID:10013352-1793533500-1793535300@hrbcrichmond.org
SUMMARY:Family Ministries meeting
DESCRIPTION:
URL:https://hrbcrichmond.org/event/family-ministries-meeting-9/
LOCATION:MPR1
END:VEVENT
END:VCALENDAR