BEGIN:VCALENDAR
VERSION:2.0
PRODID:-//Huguenot Road Baptist Church - ECPv6.15.20//NONSGML v1.0//EN
CALSCALE:GREGORIAN
METHOD:PUBLISH
X-ORIGINAL-URL:https://hrbcrichmond.org
X-WR-CALDESC:Events for Huguenot Road Baptist Church
REFRESH-INTERVAL;VALUE=DURATION:PT1H
X-Robots-Tag:noindex
X-PUBLISHED-TTL:PT1H
BEGIN:VTIMEZONE
TZID:America/New_York
BEGIN:DAYLIGHT
TZOFFSETFROM:-0500
TZOFFSETTO:-0400
TZNAME:EDT
DTSTART:20240310T070000
END:DAYLIGHT
BEGIN:STANDARD
TZOFFSETFROM:-0400
TZOFFSETTO:-0500
TZNAME:EST
DTSTART:20241103T060000
END:STANDARD
BEGIN:DAYLIGHT
TZOFFSETFROM:-0500
TZOFFSETTO:-0400
TZNAME:EDT
DTSTART:20250309T070000
END:DAYLIGHT
BEGIN:STANDARD
TZOFFSETFROM:-0400
TZOFFSETTO:-0500
TZNAME:EST
DTSTART:20251102T060000
END:STANDARD
BEGIN:DAYLIGHT
TZOFFSETFROM:-0500
TZOFFSETTO:-0400
TZNAME:EDT
DTSTART:20260308T070000
END:DAYLIGHT
BEGIN:STANDARD
TZOFFSETFROM:-0400
TZOFFSETTO:-0500
TZNAME:EST
DTSTART:20261101T060000
END:STANDARD
END:VTIMEZONE
BEGIN:VEVENT
DTSTART;TZID=America/New_York:20251212T100000
DTEND;TZID=America/New_York:20251212T120000
DTSTAMP:20260424T233234
CREATED:20250518T131358Z
LAST-MODIFIED:20251212T162545Z
UID:10011845-1765533600-1765540800@hrbcrichmond.org
SUMMARY:American Sewing Guild (ASG)
DESCRIPTION:
URL:https://hrbcrichmond.org/event/american-sewing-guild-asg-31/
LOCATION:MPR1
END:VEVENT
BEGIN:VEVENT
DTSTART;TZID=America/New_York:20251210T180000
DTEND;TZID=America/New_York:20251210T190000
DTSTAMP:20260424T233234
CREATED:20250825T150347Z
LAST-MODIFIED:20251210T231046Z
UID:10012223-1765389600-1765393200@hrbcrichmond.org
SUMMARY:Women's Bible Study: The Benefit of Doubt
DESCRIPTION:
URL:https://hrbcrichmond.org/event/womens-bible-study-the-benefit-of-doubt-15/
LOCATION:MPR1
END:VEVENT
BEGIN:VEVENT
DTSTART;TZID=America/New_York:20251210T100000
DTEND;TZID=America/New_York:20251210T110000
DTSTAMP:20260424T233234
CREATED:20251120T192651Z
LAST-MODIFIED:20251210T154022Z
UID:10012633-1765360800-1765364400@hrbcrichmond.org
SUMMARY:Senior Adult Daytime Bible Study
DESCRIPTION:
URL:https://hrbcrichmond.org/event/senior-adult-daytime-bible-study-7/
LOCATION:MPR1
END:VEVENT
BEGIN:VEVENT
DTSTART;TZID=America/New_York:20251203T180000
DTEND;TZID=America/New_York:20251203T190000
DTSTAMP:20260424T233234
CREATED:20250825T150314Z
LAST-MODIFIED:20251203T234032Z
UID:10012222-1764784800-1764788400@hrbcrichmond.org
SUMMARY:Women's Bible Study: The Benefit of Doubt
DESCRIPTION:
URL:https://hrbcrichmond.org/event/womens-bible-study-the-benefit-of-doubt-14/
LOCATION:MPR1
END:VEVENT
BEGIN:VEVENT
DTSTART;TZID=America/New_York:20251203T100000
DTEND;TZID=America/New_York:20251203T110000
DTSTAMP:20260424T233234
CREATED:20250825T162258Z
LAST-MODIFIED:20251203T145536Z
UID:10012230-1764756000-1764759600@hrbcrichmond.org
SUMMARY:Senior Adult Daytime Bible Study
DESCRIPTION:
URL:https://hrbcrichmond.org/event/senior-adult-daytime-bible-study-6/
LOCATION:MPR1
END:VEVENT
BEGIN:VEVENT
DTSTART;TZID=America/New_York:20251123T120000
DTEND;TZID=America/New_York:20251123T140000
DTSTAMP:20260424T233234
CREATED:20250501T212510Z
LAST-MODIFIED:20251123T184031Z
UID:10011780-1763899200-1763906400@hrbcrichmond.org
SUMMARY:Missions Group Meeting
DESCRIPTION:
URL:https://hrbcrichmond.org/event/missions-group-meeting-27/
LOCATION:MPR1
END:VEVENT
BEGIN:VEVENT
DTSTART;TZID=America/New_York:20251119T180000
DTEND;TZID=America/New_York:20251119T190000
DTSTAMP:20260424T233234
CREATED:20250825T150219Z
LAST-MODIFIED:20251119T232543Z
UID:10012220-1763575200-1763578800@hrbcrichmond.org
SUMMARY:Women's Bible Study: The Benefit of Doubt
DESCRIPTION:
URL:https://hrbcrichmond.org/event/womens-bible-study-the-benefit-of-doubt-12/
LOCATION:MPR1
END:VEVENT
BEGIN:VEVENT
DTSTART;TZID=America/New_York:20251119T100000
DTEND;TZID=America/New_York:20251119T110000
DTSTAMP:20260424T233234
CREATED:20250825T162204Z
LAST-MODIFIED:20251119T155554Z
UID:10012228-1763546400-1763550000@hrbcrichmond.org
SUMMARY:Senior Adult Daytime Bible Study
DESCRIPTION:
URL:https://hrbcrichmond.org/event/senior-adult-daytime-bible-study-4/
LOCATION:MPR1
END:VEVENT
BEGIN:VEVENT
DTSTART;TZID=America/New_York:20251114T100000
DTEND;TZID=America/New_York:20251114T120000
DTSTAMP:20260424T233234
CREATED:20250425T145930Z
LAST-MODIFIED:20251114T161054Z
UID:10011752-1763114400-1763121600@hrbcrichmond.org
SUMMARY:American Sewing Guild (ASG)
DESCRIPTION:
URL:https://hrbcrichmond.org/event/american-sewing-guild-asg-30/
LOCATION:MPR1
END:VEVENT
BEGIN:VEVENT
DTSTART;TZID=America/New_York:20251112T180000
DTEND;TZID=America/New_York:20251112T190000
DTSTAMP:20260424T233234
CREATED:20250825T150146Z
LAST-MODIFIED:20251112T231025Z
UID:10012219-1762970400-1762974000@hrbcrichmond.org
SUMMARY:Women's Bible Study: The Benefit of Doubt
DESCRIPTION:
URL:https://hrbcrichmond.org/event/womens-bible-study-the-benefit-of-doubt-11/
LOCATION:MPR1
END:VEVENT
BEGIN:VEVENT
DTSTART;TZID=America/New_York:20251112T100000
DTEND;TZID=America/New_York:20251112T110000
DTSTAMP:20260424T233234
CREATED:20250825T162129Z
LAST-MODIFIED:20251112T154046Z
UID:10012227-1762941600-1762945200@hrbcrichmond.org
SUMMARY:Senior Adult Daytime Bible Study
DESCRIPTION:
URL:https://hrbcrichmond.org/event/senior-adult-daytime-bible-study-3/
LOCATION:MPR1
END:VEVENT
BEGIN:VEVENT
DTSTART;TZID=America/New_York:20251105T180000
DTEND;TZID=America/New_York:20251105T190000
DTSTAMP:20260424T233234
CREATED:20250825T150112Z
LAST-MODIFIED:20251105T232543Z
UID:10012218-1762365600-1762369200@hrbcrichmond.org
SUMMARY:Women's Bible Study: The Benefit of Doubt
DESCRIPTION:
URL:https://hrbcrichmond.org/event/womens-bible-study-the-benefit-of-doubt-10/
LOCATION:MPR1
END:VEVENT
BEGIN:VEVENT
DTSTART;TZID=America/New_York:20251105T100000
DTEND;TZID=America/New_York:20251105T110000
DTSTAMP:20260424T233234
CREATED:20250825T162055Z
LAST-MODIFIED:20251105T155552Z
UID:10012226-1762336800-1762340400@hrbcrichmond.org
SUMMARY:Senior Adult Daytime Bible Study
DESCRIPTION:
URL:https://hrbcrichmond.org/event/senior-adult-daytime-bible-study-2/
LOCATION:MPR1
END:VEVENT
BEGIN:VEVENT
DTSTART;TZID=America/New_York:20251029T180000
DTEND;TZID=America/New_York:20251029T190000
DTSTAMP:20260424T233234
CREATED:20250825T150053Z
LAST-MODIFIED:20251029T224052Z
UID:10012217-1761760800-1761764400@hrbcrichmond.org
SUMMARY:Women's Bible Study: The Benefit of Doubt
DESCRIPTION:
URL:https://hrbcrichmond.org/event/womens-bible-study-the-benefit-of-doubt-9/
LOCATION:MPR1
END:VEVENT
BEGIN:VEVENT
DTSTART;TZID=America/New_York:20251029T100000
DTEND;TZID=America/New_York:20251029T110000
DTSTAMP:20260424T233234
CREATED:20250825T162023Z
LAST-MODIFIED:20251029T135546Z
UID:10012225-1761732000-1761735600@hrbcrichmond.org
SUMMARY:Senior Adult Daytime Bible Study
DESCRIPTION:
URL:https://hrbcrichmond.org/event/senior-adult-daytime-bible-study/
LOCATION:MPR1
END:VEVENT
BEGIN:VEVENT
DTSTART;TZID=America/New_York:20251022T180000
DTEND;TZID=America/New_York:20251022T190000
DTSTAMP:20260424T233234
CREATED:20250825T150019Z
LAST-MODIFIED:20251022T215527Z
UID:10012216-1761156000-1761159600@hrbcrichmond.org
SUMMARY:Women's Bible Study: The Benefit of Doubt
DESCRIPTION:
URL:https://hrbcrichmond.org/event/womens-bible-study-the-benefit-of-doubt-8/
LOCATION:MPR1
END:VEVENT
BEGIN:VEVENT
DTSTART;TZID=America/New_York:20251015T180000
DTEND;TZID=America/New_York:20251015T190000
DTSTAMP:20260424T233234
CREATED:20250825T145945Z
LAST-MODIFIED:20251015T222521Z
UID:10012215-1760551200-1760554800@hrbcrichmond.org
SUMMARY:Women's Bible Study: The Benefit of Doubt
DESCRIPTION:
URL:https://hrbcrichmond.org/event/womens-bible-study-the-benefit-of-doubt-7/
LOCATION:MPR1
END:VEVENT
BEGIN:VEVENT
DTSTART;TZID=America/New_York:20251010T100000
DTEND;TZID=America/New_York:20251010T120000
DTSTAMP:20260424T233234
CREATED:20250409T200959Z
LAST-MODIFIED:20251010T145547Z
UID:10011658-1760090400-1760097600@hrbcrichmond.org
SUMMARY:American Sewing Guild (ASG)
DESCRIPTION:
URL:https://hrbcrichmond.org/event/american-sewing-guild-asg-29/
LOCATION:MPR1
END:VEVENT
BEGIN:VEVENT
DTSTART;TZID=America/New_York:20251008T180000
DTEND;TZID=America/New_York:20251008T190000
DTSTAMP:20260424T233234
CREATED:20250825T145911Z
LAST-MODIFIED:20251008T225539Z
UID:10012214-1759946400-1759950000@hrbcrichmond.org
SUMMARY:Women's Bible Study: The Benefit of Doubt
DESCRIPTION:
URL:https://hrbcrichmond.org/event/womens-bible-study-the-benefit-of-doubt-6/
LOCATION:MPR1
END:VEVENT
BEGIN:VEVENT
DTSTART;TZID=America/New_York:20251001T180000
DTEND;TZID=America/New_York:20251001T190000
DTSTAMP:20260424T233234
CREATED:20250825T145838Z
LAST-MODIFIED:20251001T221022Z
UID:10012213-1759341600-1759345200@hrbcrichmond.org
SUMMARY:Women's Bible Study: The Benefit of Doubt
DESCRIPTION:
URL:https://hrbcrichmond.org/event/womens-bible-study-the-benefit-of-doubt-5/
LOCATION:MPR1
END:VEVENT
BEGIN:VEVENT
DTSTART;TZID=America/New_York:20250928T120000
DTEND;TZID=America/New_York:20250928T140000
DTSTAMP:20260424T233234
CREATED:20250408T152859Z
LAST-MODIFIED:20250928T173054Z
UID:10011624-1759060800-1759068000@hrbcrichmond.org
SUMMARY:Missions Group Meeting
DESCRIPTION:
URL:https://hrbcrichmond.org/event/missions-group-meeting-25/
LOCATION:MPR1
END:VEVENT
BEGIN:VEVENT
DTSTART;TZID=America/New_York:20250924T180000
DTEND;TZID=America/New_York:20250924T190000
DTSTAMP:20260424T233234
CREATED:20250825T145803Z
LAST-MODIFIED:20250924T220053Z
UID:10012212-1758736800-1758740400@hrbcrichmond.org
SUMMARY:Women's Bible Study: The Benefit of Doubt
DESCRIPTION:
URL:https://hrbcrichmond.org/event/womens-bible-study-the-benefit-of-doubt-4/
LOCATION:MPR1
END:VEVENT
BEGIN:VEVENT
DTSTART;TZID=America/New_York:20250921T114500
DTEND;TZID=America/New_York:20250921T131500
DTSTAMP:20260424T233234
CREATED:20250818T151757Z
LAST-MODIFIED:20250921T161537Z
UID:10012164-1758455100-1758460500@hrbcrichmond.org
SUMMARY:Deacon Meeting
DESCRIPTION:
URL:https://hrbcrichmond.org/event/deacon-meeting-14/
LOCATION:MPR1
END:VEVENT
BEGIN:VEVENT
DTSTART;TZID=America/New_York:20250917T180000
DTEND;TZID=America/New_York:20250917T190000
DTSTAMP:20260424T233234
CREATED:20250825T145730Z
LAST-MODIFIED:20250917T223052Z
UID:10012211-1758132000-1758135600@hrbcrichmond.org
SUMMARY:Women's Bible Study: The Benefit of Doubt
DESCRIPTION:
URL:https://hrbcrichmond.org/event/womens-bible-study-the-benefit-of-doubt-3/
LOCATION:MPR1
END:VEVENT
BEGIN:VEVENT
DTSTART;TZID=America/New_York:20250912T100000
DTEND;TZID=America/New_York:20250912T120000
DTSTAMP:20260424T233234
CREATED:20250402T001444Z
LAST-MODIFIED:20250911T031530Z
UID:10011583-1757671200-1757678400@hrbcrichmond.org
SUMMARY:American Sewing Guild (ASG)
DESCRIPTION:
URL:https://hrbcrichmond.org/event/american-sewing-guild-asg-28/
LOCATION:MPR1
END:VEVENT
BEGIN:VEVENT
DTSTART;TZID=America/New_York:20250910T180000
DTEND;TZID=America/New_York:20250910T190000
DTSTAMP:20260424T233234
CREATED:20250825T145643Z
LAST-MODIFIED:20250910T221526Z
UID:10012210-1757527200-1757530800@hrbcrichmond.org
SUMMARY:Women's Bible Study: The Benefit of Doubt
DESCRIPTION:
URL:https://hrbcrichmond.org/event/womens-bible-study-the-benefit-of-doubt-2/
LOCATION:MPR1
END:VEVENT
BEGIN:VEVENT
DTSTART;TZID=America/New_York:20250903T180000
DTEND;TZID=America/New_York:20250903T190000
DTSTAMP:20260424T233234
CREATED:20250825T145608Z
LAST-MODIFIED:20250903T221517Z
UID:10012209-1756922400-1756926000@hrbcrichmond.org
SUMMARY:Women's Bible Study: The Benefit of Doubt
DESCRIPTION:
URL:https://hrbcrichmond.org/event/womens-bible-study-the-benefit-of-doubt/
LOCATION:MPR1
END:VEVENT
BEGIN:VEVENT
DTSTART;TZID=America/New_York:20250824T130000
DTEND;TZID=America/New_York:20250824T143000
DTSTAMP:20260424T233234
CREATED:20250314T013039Z
LAST-MODIFIED:20250824T181520Z
UID:10011518-1756040400-1756045800@hrbcrichmond.org
SUMMARY:Missions Group Meeting
DESCRIPTION:
URL:https://hrbcrichmond.org/event/missions-group-meeting-24/
LOCATION:MPR1
END:VEVENT
BEGIN:VEVENT
DTSTART;TZID=America/New_York:20250808T100000
DTEND;TZID=America/New_York:20250808T120000
DTSTAMP:20260424T233234
CREATED:20250227T024446Z
LAST-MODIFIED:20250808T144028Z
UID:10011450-1754647200-1754654400@hrbcrichmond.org
SUMMARY:American Sewing Guild (ASG)
DESCRIPTION:
URL:https://hrbcrichmond.org/event/american-sewing-guild-asg-27/
LOCATION:MPR1
END:VEVENT
BEGIN:VEVENT
DTSTART;TZID=America/New_York:20250711T100000
DTEND;TZID=America/New_York:20250711T120000
DTSTAMP:20260424T233234
CREATED:20250206T011343Z
LAST-MODIFIED:20250711T144016Z
UID:10011351-1752228000-1752235200@hrbcrichmond.org
SUMMARY:American Sewing Guild (ASG)
DESCRIPTION:
URL:https://hrbcrichmond.org/event/american-sewing-guild-asg-26/
LOCATION:MPR1
END:VEVENT
END:VCALENDAR