BEGIN:VCALENDAR
VERSION:2.0
PRODID:-//Huguenot Road Baptist Church - ECPv6.15.20//NONSGML v1.0//EN
CALSCALE:GREGORIAN
METHOD:PUBLISH
X-ORIGINAL-URL:https://hrbcrichmond.org
X-WR-CALDESC:Events for Huguenot Road Baptist Church
REFRESH-INTERVAL;VALUE=DURATION:PT1H
X-Robots-Tag:noindex
X-PUBLISHED-TTL:PT1H
BEGIN:VTIMEZONE
TZID:America/New_York
BEGIN:DAYLIGHT
TZOFFSETFROM:-0500
TZOFFSETTO:-0400
TZNAME:EDT
DTSTART:20230312T070000
END:DAYLIGHT
BEGIN:STANDARD
TZOFFSETFROM:-0400
TZOFFSETTO:-0500
TZNAME:EST
DTSTART:20231105T060000
END:STANDARD
BEGIN:DAYLIGHT
TZOFFSETFROM:-0500
TZOFFSETTO:-0400
TZNAME:EDT
DTSTART:20240310T070000
END:DAYLIGHT
BEGIN:STANDARD
TZOFFSETFROM:-0400
TZOFFSETTO:-0500
TZNAME:EST
DTSTART:20241103T060000
END:STANDARD
BEGIN:DAYLIGHT
TZOFFSETFROM:-0500
TZOFFSETTO:-0400
TZNAME:EDT
DTSTART:20250309T070000
END:DAYLIGHT
BEGIN:STANDARD
TZOFFSETFROM:-0400
TZOFFSETTO:-0500
TZNAME:EST
DTSTART:20251102T060000
END:STANDARD
BEGIN:DAYLIGHT
TZOFFSETFROM:-0500
TZOFFSETTO:-0400
TZNAME:EDT
DTSTART:20260308T070000
END:DAYLIGHT
BEGIN:STANDARD
TZOFFSETFROM:-0400
TZOFFSETTO:-0500
TZNAME:EST
DTSTART:20261101T060000
END:STANDARD
END:VTIMEZONE
BEGIN:VEVENT
DTSTART;TZID=America/New_York:20250310T183000
DTEND;TZID=America/New_York:20250310T203000
DTSTAMP:20260425T140329
CREATED:20241010T001438Z
LAST-MODIFIED:20250310T233030Z
UID:10010228-1741631400-1741638600@hrbcrichmond.org
SUMMARY:HRBC Fellowship Group
DESCRIPTION:
URL:https://hrbcrichmond.org/event/hrbc-fellowship-group-22/
LOCATION:MPR 1
END:VEVENT
BEGIN:VEVENT
DTSTART;TZID=America/New_York:20250306T090000
DTEND;TZID=America/New_York:20250306T103000
DTSTAMP:20260425T140329
CREATED:20241006T185808Z
LAST-MODIFIED:20250306T151110Z
UID:10010213-1741251600-1741257000@hrbcrichmond.org
SUMMARY:Second Half Men's Ministry
DESCRIPTION:
URL:https://hrbcrichmond.org/event/second-half-mens-ministry-13/
LOCATION:MPR 1
END:VEVENT
BEGIN:VEVENT
DTSTART;TZID=America/New_York:20250304T180000
DTEND;TZID=America/New_York:20250304T193000
DTSTAMP:20260425T140329
CREATED:20250218T192721Z
LAST-MODIFIED:20250304T233054Z
UID:10011413-1741111200-1741116600@hrbcrichmond.org
SUMMARY:Kindergarten Readiness Program
DESCRIPTION:
URL:https://hrbcrichmond.org/event/kindergarten-readiness-program/
LOCATION:MPR 1
END:VEVENT
BEGIN:VEVENT
DTSTART;TZID=America/New_York:20250303T183000
DTEND;TZID=America/New_York:20250303T200000
DTSTAMP:20260425T140329
CREATED:20241003T150809Z
LAST-MODIFIED:20250304T003045Z
UID:10010203-1741026600-1741032000@hrbcrichmond.org
SUMMARY:Fellowship Group Meeting
DESCRIPTION:
URL:https://hrbcrichmond.org/event/fellowship-group-meeting-11/
LOCATION:MPR 1
END:VEVENT
BEGIN:VEVENT
DTSTART;TZID=America/New_York:20250227T100000
DTEND;TZID=America/New_York:20250227T120000
DTSTAMP:20260425T140329
CREATED:20241219T173603Z
LAST-MODIFIED:20250227T164559Z
UID:10010928-1740650400-1740657600@hrbcrichmond.org
SUMMARY:PrimeTimers' Estate Planning
DESCRIPTION:
URL:https://hrbcrichmond.org/event/primetimers-estate-planning/
LOCATION:MPR 1
END:VEVENT
BEGIN:VEVENT
DTSTART;TZID=America/New_York:20250226T180000
DTEND;TZID=America/New_York:20250226T190000
DTSTAMP:20260425T140329
CREATED:20241231T170529Z
LAST-MODIFIED:20250226T233039Z
UID:10010940-1740592800-1740596400@hrbcrichmond.org
SUMMARY:Women's Bible Study
DESCRIPTION:
URL:https://hrbcrichmond.org/event/womens-bible-study-18/
LOCATION:MPR 1
END:VEVENT
BEGIN:VEVENT
DTSTART;TZID=America/New_York:20250223T114500
DTEND;TZID=America/New_York:20250223T133000
DTSTAMP:20260425T140329
CREATED:20241211T231604Z
LAST-MODIFIED:20250223T182557Z
UID:10010883-1740311100-1740317400@hrbcrichmond.org
SUMMARY:Deacons Meeting
DESCRIPTION:
URL:https://hrbcrichmond.org/event/deacons-meeting-20/
LOCATION:MPR 1
END:VEVENT
BEGIN:VEVENT
DTSTART;TZID=America/New_York:20250219T180000
DTEND;TZID=America/New_York:20250219T190000
DTSTAMP:20260425T140329
CREATED:20241231T170441Z
LAST-MODIFIED:20250219T230052Z
UID:10010939-1739988000-1739991600@hrbcrichmond.org
SUMMARY:Women's Bible Study
DESCRIPTION:
URL:https://hrbcrichmond.org/event/womens-bible-study-17/
LOCATION:MPR 1
END:VEVENT
BEGIN:VEVENT
DTSTART;TZID=America/New_York:20250218T183000
DTEND;TZID=America/New_York:20250218T203000
DTSTAMP:20260425T140329
CREATED:20240922T175806Z
LAST-MODIFIED:20250219T003026Z
UID:10010148-1739903400-1739910600@hrbcrichmond.org
SUMMARY:Worship Implementation Team
DESCRIPTION:
URL:https://hrbcrichmond.org/event/worship-implementation-team-22/
LOCATION:MPR 1
END:VEVENT
BEGIN:VEVENT
DTSTART;TZID=America/New_York:20250212T180000
DTEND;TZID=America/New_York:20250212T190000
DTSTAMP:20260425T140329
CREATED:20241231T170407Z
LAST-MODIFIED:20250212T224042Z
UID:10010938-1739383200-1739386800@hrbcrichmond.org
SUMMARY:Women's Bible Study
DESCRIPTION:
URL:https://hrbcrichmond.org/event/womens-bible-study-16/
LOCATION:MPR 1
END:VEVENT
BEGIN:VEVENT
DTSTART;TZID=America/New_York:20250210T183000
DTEND;TZID=America/New_York:20250210T203000
DTSTAMP:20260425T140329
CREATED:20240919T004254Z
LAST-MODIFIED:20250211T011535Z
UID:10010126-1739212200-1739219400@hrbcrichmond.org
SUMMARY:HRBC Fellowship Group
DESCRIPTION:
URL:https://hrbcrichmond.org/event/hrbc-fellowship-group-21/
LOCATION:MPR 1
END:VEVENT
BEGIN:VEVENT
DTSTART;TZID=America/New_York:20250206T090000
DTEND;TZID=America/New_York:20250206T103000
DTSTAMP:20260425T140329
CREATED:20240915T214304Z
LAST-MODIFIED:20250206T144553Z
UID:10010114-1738832400-1738837800@hrbcrichmond.org
SUMMARY:Second Half Men's Ministry
DESCRIPTION:
URL:https://hrbcrichmond.org/event/second-half-mens-ministry-12/
LOCATION:MPR 1
END:VEVENT
BEGIN:VEVENT
DTSTART;TZID=America/New_York:20250205T180000
DTEND;TZID=America/New_York:20250205T190000
DTSTAMP:20260425T140329
CREATED:20241231T170335Z
LAST-MODIFIED:20250205T234538Z
UID:10010937-1738778400-1738782000@hrbcrichmond.org
SUMMARY:Women's Bible Study
DESCRIPTION:
URL:https://hrbcrichmond.org/event/womens-bible-study-15/
LOCATION:MPR 1
END:VEVENT
BEGIN:VEVENT
DTSTART;TZID=America/New_York:20250204T173000
DTEND;TZID=America/New_York:20250204T203000
DTSTAMP:20260425T140329
CREATED:20240919T004255Z
LAST-MODIFIED:20250205T010101Z
UID:10010129-1738690200-1738701000@hrbcrichmond.org
SUMMARY:Executive Council Meeting
DESCRIPTION:
URL:https://hrbcrichmond.org/event/executive-council-meeting-15/
LOCATION:MPR 1
END:VEVENT
BEGIN:VEVENT
DTSTART;TZID=America/New_York:20250203T183000
DTEND;TZID=America/New_York:20250203T200000
DTSTAMP:20260425T140329
CREATED:20240912T174333Z
LAST-MODIFIED:20250204T003052Z
UID:10010104-1738607400-1738612800@hrbcrichmond.org
SUMMARY:Fellowship Group Meeting
DESCRIPTION:
URL:https://hrbcrichmond.org/event/fellowship-group-meeting-10/
LOCATION:MPR 1
END:VEVENT
BEGIN:VEVENT
DTSTART;TZID=America/New_York:20250129T180000
DTEND;TZID=America/New_York:20250129T190000
DTSTAMP:20260425T140329
CREATED:20241231T170303Z
LAST-MODIFIED:20250129T224600Z
UID:10010936-1738173600-1738177200@hrbcrichmond.org
SUMMARY:Women's Bible Study
DESCRIPTION:
URL:https://hrbcrichmond.org/event/womens-bible-study-14/
LOCATION:MPR 1
END:VEVENT
BEGIN:VEVENT
DTSTART;TZID=America/New_York:20250122T180000
DTEND;TZID=America/New_York:20250122T190000
DTSTAMP:20260425T140329
CREATED:20241231T170230Z
LAST-MODIFIED:20250122T231026Z
UID:10010935-1737568800-1737572400@hrbcrichmond.org
SUMMARY:Women's Bible Study
DESCRIPTION:
URL:https://hrbcrichmond.org/event/womens-bible-study-13/
LOCATION:MPR 1
END:VEVENT
BEGIN:VEVENT
DTSTART;TZID=America/New_York:20250121T183000
DTEND;TZID=America/New_York:20250121T203000
DTSTAMP:20260425T140329
CREATED:20240905T050839Z
LAST-MODIFIED:20250122T011548Z
UID:10010072-1737484200-1737491400@hrbcrichmond.org
SUMMARY:Worship Implementation Team
DESCRIPTION:
URL:https://hrbcrichmond.org/event/worship-implementation-team-21/
LOCATION:MPR 1
END:VEVENT
BEGIN:VEVENT
DTSTART;TZID=America/New_York:20250115T180000
DTEND;TZID=America/New_York:20250115T190000
DTSTAMP:20260425T140329
CREATED:20241231T170141Z
LAST-MODIFIED:20250115T231547Z
UID:10010934-1736964000-1736967600@hrbcrichmond.org
SUMMARY:Women's Bible Study
DESCRIPTION:
URL:https://hrbcrichmond.org/event/womens-bible-study-12/
LOCATION:MPR 1
END:VEVENT
BEGIN:VEVENT
DTSTART;TZID=America/New_York:20250113T183000
DTEND;TZID=America/New_York:20250113T193000
DTSTAMP:20260425T140329
CREATED:20250108T001620Z
LAST-MODIFIED:20250114T001054Z
UID:10010944-1736793000-1736796600@hrbcrichmond.org
SUMMARY:Fellowship Group Meeting
DESCRIPTION:
URL:https://hrbcrichmond.org/event/fellowship-group-meeting-15/
LOCATION:MPR 1
END:VEVENT
BEGIN:VEVENT
DTSTART;TZID=America/New_York:20250112T160000
DTEND;TZID=America/New_York:20250112T173000
DTSTAMP:20260425T140329
CREATED:20241105T164152Z
LAST-MODIFIED:20250112T221038Z
UID:10010429-1736697600-1736703000@hrbcrichmond.org
SUMMARY:Outreach Group Meeting
DESCRIPTION:
URL:https://hrbcrichmond.org/event/outreach-group-meeting-12/
LOCATION:MPR 1
END:VEVENT
BEGIN:VEVENT
DTSTART;TZID=America/New_York:20250112T114500
DTEND;TZID=America/New_York:20250112T133000
DTSTAMP:20260425T140329
CREATED:20241105T164152Z
LAST-MODIFIED:20250112T171023Z
UID:10010430-1736682300-1736688600@hrbcrichmond.org
SUMMARY:Deacon's Meeting
DESCRIPTION:
URL:https://hrbcrichmond.org/event/deacons-meeting-14/
LOCATION:MPR 1
END:VEVENT
BEGIN:VEVENT
DTSTART;TZID=America/New_York:20250108T180000
DTEND;TZID=America/New_York:20250108T190000
DTSTAMP:20260425T140329
CREATED:20241231T170055Z
LAST-MODIFIED:20250108T232533Z
UID:10010933-1736359200-1736362800@hrbcrichmond.org
SUMMARY:Women's Bible Study
DESCRIPTION:
URL:https://hrbcrichmond.org/event/womens-bible-study-11/
LOCATION:MPR 1
END:VEVENT
BEGIN:VEVENT
DTSTART;TZID=America/New_York:20250106T183000
DTEND;TZID=America/New_York:20250106T200000
DTSTAMP:20260425T140329
CREATED:20240811T145809Z
LAST-MODIFIED:20250106T234051Z
UID:10009950-1736188200-1736193600@hrbcrichmond.org
SUMMARY:Fellowship Group Meeting
DESCRIPTION:
URL:https://hrbcrichmond.org/event/fellowship-group-meeting-9/
LOCATION:MPR 1
END:VEVENT
BEGIN:VEVENT
DTSTART;TZID=America/New_York:20250102T090000
DTEND;TZID=America/New_York:20250102T103000
DTSTAMP:20260425T140329
CREATED:20240805T004108Z
LAST-MODIFIED:20250102T142534Z
UID:10009611-1735808400-1735813800@hrbcrichmond.org
SUMMARY:Second Half Meeting
DESCRIPTION:
URL:https://hrbcrichmond.org/event/second-half-meeting-3/
LOCATION:MPR 1
END:VEVENT
BEGIN:VEVENT
DTSTART;TZID=America/New_York:20250102T090000
DTEND;TZID=America/New_York:20250102T103000
DTSTAMP:20260425T140329
CREATED:20240804T183106Z
LAST-MODIFIED:20250102T142534Z
UID:10009610-1735808400-1735813800@hrbcrichmond.org
SUMMARY:Second Half Men's Ministry
DESCRIPTION:
URL:https://hrbcrichmond.org/event/second-half-mens-ministry-11/
LOCATION:MPR 1
END:VEVENT
BEGIN:VEVENT
DTSTART;TZID=America/New_York:20241217T183000
DTEND;TZID=America/New_York:20241217T203000
DTSTAMP:20260425T140329
CREATED:20240809T181753Z
LAST-MODIFIED:20241218T001550Z
UID:10009902-1734460200-1734467400@hrbcrichmond.org
SUMMARY:Worship Implementation Team
DESCRIPTION:
URL:https://hrbcrichmond.org/event/worship-implementation-team-20/
LOCATION:MPR 1
END:VEVENT
BEGIN:VEVENT
DTSTART;TZID=America/New_York:20241209T183000
DTEND;TZID=America/New_York:20241209T203000
DTSTAMP:20260425T140329
CREATED:20240809T172546Z
LAST-MODIFIED:20241210T010051Z
UID:10009713-1733769000-1733776200@hrbcrichmond.org
SUMMARY:HRBC Fellowship Group
DESCRIPTION:
URL:https://hrbcrichmond.org/event/hrbc-fellowship-group-18/
LOCATION:MPR 1
END:VEVENT
BEGIN:VEVENT
DTSTART;TZID=America/New_York:20241208T160000
DTEND;TZID=America/New_York:20241208T173000
DTSTAMP:20260425T140329
CREATED:20240809T172544Z
LAST-MODIFIED:20241208T220037Z
UID:10009711-1733673600-1733679000@hrbcrichmond.org
SUMMARY:Outreach Group Meeting
DESCRIPTION:
URL:https://hrbcrichmond.org/event/outreach-group-meeting-11/
LOCATION:MPR 1
END:VEVENT
BEGIN:VEVENT
DTSTART;TZID=America/New_York:20241205T183000
DTEND;TZID=America/New_York:20241205T193000
DTSTAMP:20260425T140329
CREATED:20241002T142203Z
LAST-MODIFIED:20241205T233049Z
UID:10010188-1733423400-1733427000@hrbcrichmond.org
SUMMARY:Cub Scouts- Webelos Den Meeting
DESCRIPTION:
URL:https://hrbcrichmond.org/event/cub-scouts-webelos-den-meeting-2/
LOCATION:MPR 1
END:VEVENT
END:VCALENDAR