BEGIN:VCALENDAR
VERSION:2.0
PRODID:-//Huguenot Road Baptist Church - ECPv6.15.20//NONSGML v1.0//EN
CALSCALE:GREGORIAN
METHOD:PUBLISH
X-ORIGINAL-URL:https://hrbcrichmond.org
X-WR-CALDESC:Events for Huguenot Road Baptist Church
REFRESH-INTERVAL;VALUE=DURATION:PT1H
X-Robots-Tag:noindex
X-PUBLISHED-TTL:PT1H
BEGIN:VTIMEZONE
TZID:America/New_York
BEGIN:DAYLIGHT
TZOFFSETFROM:-0500
TZOFFSETTO:-0400
TZNAME:EDT
DTSTART:20240310T070000
END:DAYLIGHT
BEGIN:STANDARD
TZOFFSETFROM:-0400
TZOFFSETTO:-0500
TZNAME:EST
DTSTART:20241103T060000
END:STANDARD
BEGIN:DAYLIGHT
TZOFFSETFROM:-0500
TZOFFSETTO:-0400
TZNAME:EDT
DTSTART:20250309T070000
END:DAYLIGHT
BEGIN:STANDARD
TZOFFSETFROM:-0400
TZOFFSETTO:-0500
TZNAME:EST
DTSTART:20251102T060000
END:STANDARD
BEGIN:DAYLIGHT
TZOFFSETFROM:-0500
TZOFFSETTO:-0400
TZNAME:EDT
DTSTART:20260308T070000
END:DAYLIGHT
BEGIN:STANDARD
TZOFFSETFROM:-0400
TZOFFSETTO:-0500
TZNAME:EST
DTSTART:20261101T060000
END:STANDARD
BEGIN:DAYLIGHT
TZOFFSETFROM:-0500
TZOFFSETTO:-0400
TZNAME:EDT
DTSTART:20270314T070000
END:DAYLIGHT
BEGIN:STANDARD
TZOFFSETFROM:-0400
TZOFFSETTO:-0500
TZNAME:EST
DTSTART:20271107T060000
END:STANDARD
END:VTIMEZONE
BEGIN:VEVENT
DTSTART;TZID=America/New_York:20260303T183000
DTEND;TZID=America/New_York:20260303T210000
DTSTAMP:20260424T231900
CREATED:20250910T142737Z
LAST-MODIFIED:20260304T012550Z
UID:10012375-1772562600-1772571600@hrbcrichmond.org
SUMMARY:Executive Council Meeting
DESCRIPTION:
URL:https://hrbcrichmond.org/event/executive-council-meeting-28/
LOCATION:MPR 1
END:VEVENT
BEGIN:VEVENT
DTSTART;TZID=America/New_York:20260302T183000
DTEND;TZID=America/New_York:20260302T200000
DTSTAMP:20260424T231900
CREATED:20250727T165916Z
LAST-MODIFIED:20260303T005523Z
UID:10012097-1772476200-1772481600@hrbcrichmond.org
SUMMARY:Fellowship Group Meeting
DESCRIPTION:
URL:https://hrbcrichmond.org/event/fellowship-group-meeting-24/
LOCATION:MPR 1
END:VEVENT
BEGIN:VEVENT
DTSTART;TZID=America/New_York:20260219T090000
DTEND;TZID=America/New_York:20260219T103000
DTSTAMP:20260424T231900
CREATED:20250720T135850Z
LAST-MODIFIED:20260219T151042Z
UID:10012071-1771491600-1771497000@hrbcrichmond.org
SUMMARY:Second Half Men's Ministry Meeting
DESCRIPTION:
URL:https://hrbcrichmond.org/event/second-half-mens-ministry-meeting-28/
LOCATION:MPR 1
END:VEVENT
BEGIN:VEVENT
DTSTART;TZID=America/New_York:20260217T183000
DTEND;TZID=America/New_York:20260217T203000
DTSTAMP:20260424T231900
CREATED:20250718T010410Z
LAST-MODIFIED:20260218T002530Z
UID:10012066-1771353000-1771360200@hrbcrichmond.org
SUMMARY:Worship Implementation Team
DESCRIPTION:
URL:https://hrbcrichmond.org/event/worship-implementation-team-34/
LOCATION:MPR 1
END:VEVENT
BEGIN:VEVENT
DTSTART;TZID=America/New_York:20260215T114500
DTEND;TZID=America/New_York:20260215T134500
DTSTAMP:20260424T231900
CREATED:20260105T141310Z
LAST-MODIFIED:20260215T184100Z
UID:10012807-1771155900-1771163100@hrbcrichmond.org
SUMMARY:Deacon Meeting
DESCRIPTION:
URL:https://hrbcrichmond.org/event/deacon-meeting-20/
LOCATION:MPR 1
END:VEVENT
BEGIN:VEVENT
DTSTART;TZID=America/New_York:20260205T090000
DTEND;TZID=America/New_York:20260205T103000
DTSTAMP:20260424T231900
CREATED:20250709T125845Z
LAST-MODIFIED:20260205T151101Z
UID:10012036-1770282000-1770287400@hrbcrichmond.org
SUMMARY:Second Half Men's Ministry
DESCRIPTION:
URL:https://hrbcrichmond.org/event/second-half-mens-ministry-24/
LOCATION:MPR 1
END:VEVENT
BEGIN:VEVENT
DTSTART;TZID=America/New_York:20260203T173000
DTEND;TZID=America/New_York:20260203T200000
DTSTAMP:20260424T231900
CREATED:20250910T142556Z
LAST-MODIFIED:20260204T002554Z
UID:10012371-1770139800-1770148800@hrbcrichmond.org
SUMMARY:Executive Council Meeting
DESCRIPTION:
URL:https://hrbcrichmond.org/event/executive-council-meeting-27/
LOCATION:MPR 1
END:VEVENT
BEGIN:VEVENT
DTSTART;TZID=America/New_York:20260203T100000
DTEND;TZID=America/New_York:20260203T110000
DTSTAMP:20260424T231900
CREATED:20250818T175208Z
LAST-MODIFIED:20260203T154045Z
UID:10012185-1770112800-1770116400@hrbcrichmond.org
SUMMARY:Dotty Shepard WMU meeting
DESCRIPTION:
URL:https://hrbcrichmond.org/event/dotty-shepard-wmu-meeting-6/
LOCATION:MPR 1
END:VEVENT
BEGIN:VEVENT
DTSTART;TZID=America/New_York:20260202T183000
DTEND;TZID=America/New_York:20260202T200000
DTSTAMP:20260424T231900
CREATED:20250706T160838Z
LAST-MODIFIED:20260203T004041Z
UID:10012029-1770057000-1770062400@hrbcrichmond.org
SUMMARY:Fellowship Group Meeting
DESCRIPTION:
URL:https://hrbcrichmond.org/event/fellowship-group-meeting-23/
LOCATION:MPR 1
END:VEVENT
BEGIN:VEVENT
DTSTART;TZID=America/New_York:20260201T113000
DTEND;TZID=America/New_York:20260201T123000
DTSTAMP:20260424T231900
CREATED:20250910T142539Z
LAST-MODIFIED:20260202T155840Z
UID:10012370-1769945400-1769949000@hrbcrichmond.org
SUMMARY:Outreach Meeting
DESCRIPTION:
URL:https://hrbcrichmond.org/event/outreach-meeting-8/
LOCATION:MPR 1
END:VEVENT
BEGIN:VEVENT
DTSTART;TZID=America/New_York:20260121T100000
DTEND;TZID=America/New_York:20260121T110000
DTSTAMP:20260424T231900
CREATED:20260120T154051Z
LAST-MODIFIED:20260121T152528Z
UID:10012848-1768989600-1768993200@hrbcrichmond.org
SUMMARY:Adult Bible Study
DESCRIPTION:
URL:https://hrbcrichmond.org/event/adult-bible-study/
LOCATION:MPR 1
END:VEVENT
BEGIN:VEVENT
DTSTART;TZID=America/New_York:20260120T183000
DTEND;TZID=America/New_York:20260120T203000
DTSTAMP:20260424T231900
CREATED:20250623T144434Z
LAST-MODIFIED:20260121T002547Z
UID:10011991-1768933800-1768941000@hrbcrichmond.org
SUMMARY:Worship Implementation Team
DESCRIPTION:
URL:https://hrbcrichmond.org/event/worship-implementation-team-33/
LOCATION:MPR 1
END:VEVENT
BEGIN:VEVENT
DTSTART;TZID=America/New_York:20260113T100000
DTEND;TZID=America/New_York:20260113T123000
DTSTAMP:20260424T231900
CREATED:20250818T175030Z
LAST-MODIFIED:20260113T171024Z
UID:10012184-1768298400-1768307400@hrbcrichmond.org
SUMMARY:Dotty Shepard WMU meeting
DESCRIPTION:
URL:https://hrbcrichmond.org/event/dotty-shepard-wmu-meeting-5/
LOCATION:MPR 1
END:VEVENT
BEGIN:VEVENT
DTSTART;TZID=America/New_York:20260111T114500
DTEND;TZID=America/New_York:20260111T131500
DTSTAMP:20260424T231900
CREATED:20250818T152525Z
LAST-MODIFIED:20260111T174023Z
UID:10012167-1768131900-1768137300@hrbcrichmond.org
SUMMARY:Deacon Meeting
DESCRIPTION:
URL:https://hrbcrichmond.org/event/deacon-meeting-16/
LOCATION:MPR 1
END:VEVENT
BEGIN:VEVENT
DTSTART;TZID=America/New_York:20260106T183000
DTEND;TZID=America/New_York:20260106T210000
DTSTAMP:20260424T231900
CREATED:20250910T142431Z
LAST-MODIFIED:20260107T011028Z
UID:10012367-1767724200-1767733200@hrbcrichmond.org
SUMMARY:Executive Council Meeting
DESCRIPTION:
URL:https://hrbcrichmond.org/event/executive-council-meeting-26/
LOCATION:MPR 1
END:VEVENT
BEGIN:VEVENT
DTSTART;TZID=America/New_York:20260105T183000
DTEND;TZID=America/New_York:20260105T200000
DTSTAMP:20260424T231900
CREATED:20250615T162918Z
LAST-MODIFIED:20260106T001046Z
UID:10011942-1767637800-1767643200@hrbcrichmond.org
SUMMARY:Fellowship Group Meeting
DESCRIPTION:
URL:https://hrbcrichmond.org/event/fellowship-group-meeting-22/
LOCATION:MPR 1
END:VEVENT
BEGIN:VEVENT
DTSTART;TZID=America/New_York:20260104T113000
DTEND;TZID=America/New_York:20260104T123000
DTSTAMP:20260424T231900
CREATED:20250910T142416Z
LAST-MODIFIED:20260104T171033Z
UID:10012366-1767526200-1767529800@hrbcrichmond.org
SUMMARY:Outreach Meeting
DESCRIPTION:
URL:https://hrbcrichmond.org/event/outreach-meeting-7/
LOCATION:MPR 1
END:VEVENT
BEGIN:VEVENT
DTSTART;TZID=America/New_York:20251218T090000
DTEND;TZID=America/New_York:20251218T103000
DTSTAMP:20260424T231900
CREATED:20250603T173929Z
LAST-MODIFIED:20251218T145557Z
UID:10011894-1766048400-1766053800@hrbcrichmond.org
SUMMARY:Second Half Men's Ministry Meeting
DESCRIPTION:
URL:https://hrbcrichmond.org/event/second-half-mens-ministry-meeting-26/
LOCATION:MPR 1
END:VEVENT
BEGIN:VEVENT
DTSTART;TZID=America/New_York:20251207T160000
DTEND;TZID=America/New_York:20251207T170000
DTSTAMP:20260424T231900
CREATED:20251124T171109Z
LAST-MODIFIED:20251207T212541Z
UID:10012650-1765123200-1765126800@hrbcrichmond.org
SUMMARY:Small Group for Young Adults
DESCRIPTION:
URL:https://hrbcrichmond.org/event/small-group-for-young-adults/
LOCATION:MPR 1
END:VEVENT
BEGIN:VEVENT
DTSTART;TZID=America/New_York:20251207T113000
DTEND;TZID=America/New_York:20251207T123000
DTSTAMP:20260424T231900
CREATED:20250910T142237Z
LAST-MODIFIED:20251207T162551Z
UID:10012362-1765107000-1765110600@hrbcrichmond.org
SUMMARY:Outreach Meeting
DESCRIPTION:
URL:https://hrbcrichmond.org/event/outreach-meeting-6/
LOCATION:MPR 1
END:VEVENT
BEGIN:VEVENT
DTSTART;TZID=America/New_York:20251204T090000
DTEND;TZID=America/New_York:20251204T103000
DTSTAMP:20260424T231900
CREATED:20250508T184444Z
LAST-MODIFIED:20251204T144051Z
UID:10011812-1764838800-1764844200@hrbcrichmond.org
SUMMARY:Second Half Men's Ministry
DESCRIPTION:
URL:https://hrbcrichmond.org/event/second-half-mens-ministry-22/
LOCATION:MPR 1
END:VEVENT
BEGIN:VEVENT
DTSTART;TZID=America/New_York:20251120T090000
DTEND;TZID=America/New_York:20251120T103000
DTSTAMP:20260424T231900
CREATED:20250430T233932Z
LAST-MODIFIED:20251120T142535Z
UID:10011773-1763629200-1763634600@hrbcrichmond.org
SUMMARY:Second Half Men's Ministry Meeting
DESCRIPTION:
URL:https://hrbcrichmond.org/event/second-half-mens-ministry-meeting-25/
LOCATION:MPR 1
END:VEVENT
BEGIN:VEVENT
DTSTART;TZID=America/New_York:20251118T183000
DTEND;TZID=America/New_York:20251118T203000
DTSTAMP:20260424T231900
CREATED:20250427T211453Z
LAST-MODIFIED:20251119T005558Z
UID:10011759-1763490600-1763497800@hrbcrichmond.org
SUMMARY:Worship Implementation Team
DESCRIPTION:
URL:https://hrbcrichmond.org/event/worship-implementation-team-31/
LOCATION:MPR 1
END:VEVENT
BEGIN:VEVENT
DTSTART;TZID=America/New_York:20251116T114500
DTEND;TZID=America/New_York:20251116T131500
DTSTAMP:20260424T231900
CREATED:20250818T152206Z
LAST-MODIFIED:20251116T181022Z
UID:10012166-1763293500-1763298900@hrbcrichmond.org
SUMMARY:Deacon Meeting
DESCRIPTION:
URL:https://hrbcrichmond.org/event/deacon-meeting-15/
LOCATION:MPR 1
END:VEVENT
BEGIN:VEVENT
DTSTART;TZID=America/New_York:20251106T090000
DTEND;TZID=America/New_York:20251106T103000
DTSTAMP:20260424T231900
CREATED:20250418T032904Z
LAST-MODIFIED:20251106T142558Z
UID:10011725-1762419600-1762425000@hrbcrichmond.org
SUMMARY:Second Half Men's Ministry
DESCRIPTION:
URL:https://hrbcrichmond.org/event/second-half-mens-ministry-21/
LOCATION:MPR 1
END:VEVENT
BEGIN:VEVENT
DTSTART;TZID=America/New_York:20251104T183000
DTEND;TZID=America/New_York:20251104T210000
DTSTAMP:20260424T231900
CREATED:20250910T142006Z
LAST-MODIFIED:20251105T005558Z
UID:10012358-1762281000-1762290000@hrbcrichmond.org
SUMMARY:Executive Council Meeting
DESCRIPTION:
URL:https://hrbcrichmond.org/event/executive-council-meeting-24/
LOCATION:MPR 1
END:VEVENT
BEGIN:VEVENT
DTSTART;TZID=America/New_York:20251104T100000
DTEND;TZID=America/New_York:20251104T110000
DTSTAMP:20260424T231900
CREATED:20250818T174620Z
LAST-MODIFIED:20251104T145550Z
UID:10012182-1762250400-1762254000@hrbcrichmond.org
SUMMARY:Dotty Shepard WMU meeting
DESCRIPTION:
URL:https://hrbcrichmond.org/event/dotty-shepard-wmu-meeting-3/
LOCATION:MPR 1
END:VEVENT
BEGIN:VEVENT
DTSTART;TZID=America/New_York:20251103T183000
DTEND;TZID=America/New_York:20251103T200000
DTSTAMP:20260424T231900
CREATED:20250417T144403Z
LAST-MODIFIED:20251103T235535Z
UID:10011717-1762194600-1762200000@hrbcrichmond.org
SUMMARY:Fellowship Group Meeting
DESCRIPTION:
URL:https://hrbcrichmond.org/event/fellowship-group-meeting-20/
LOCATION:MPR 1
END:VEVENT
BEGIN:VEVENT
DTSTART;TZID=America/New_York:20251102T113000
DTEND;TZID=America/New_York:20251102T123000
DTSTAMP:20260424T231900
CREATED:20250910T141950Z
LAST-MODIFIED:20251102T164040Z
UID:10012356-1762083000-1762086600@hrbcrichmond.org
SUMMARY:Outreach Meeting
DESCRIPTION:
URL:https://hrbcrichmond.org/event/outreach-meeting-5/
LOCATION:MPR 1
END:VEVENT
BEGIN:VEVENT
DTSTART;TZID=America/New_York:20251027T180000
DTEND;TZID=America/New_York:20251027T193000
DTSTAMP:20260424T231900
CREATED:20250910T141918Z
LAST-MODIFIED:20251027T231041Z
UID:10012355-1761588000-1761593400@hrbcrichmond.org
SUMMARY:RiseUp Leadership Meeting
DESCRIPTION:
URL:https://hrbcrichmond.org/event/riseup-leadership-meeting/
LOCATION:MPR 1
END:VEVENT
END:VCALENDAR