BEGIN:VCALENDAR
VERSION:2.0
PRODID:-//Huguenot Road Baptist Church - ECPv6.15.20//NONSGML v1.0//EN
CALSCALE:GREGORIAN
METHOD:PUBLISH
X-ORIGINAL-URL:https://hrbcrichmond.org
X-WR-CALDESC:Events for Huguenot Road Baptist Church
REFRESH-INTERVAL;VALUE=DURATION:PT1H
X-Robots-Tag:noindex
X-PUBLISHED-TTL:PT1H
BEGIN:VTIMEZONE
TZID:America/New_York
BEGIN:DAYLIGHT
TZOFFSETFROM:-0500
TZOFFSETTO:-0400
TZNAME:EDT
DTSTART:20230312T070000
END:DAYLIGHT
BEGIN:STANDARD
TZOFFSETFROM:-0400
TZOFFSETTO:-0500
TZNAME:EST
DTSTART:20231105T060000
END:STANDARD
BEGIN:DAYLIGHT
TZOFFSETFROM:-0500
TZOFFSETTO:-0400
TZNAME:EDT
DTSTART:20240310T070000
END:DAYLIGHT
BEGIN:STANDARD
TZOFFSETFROM:-0400
TZOFFSETTO:-0500
TZNAME:EST
DTSTART:20241103T060000
END:STANDARD
BEGIN:DAYLIGHT
TZOFFSETFROM:-0500
TZOFFSETTO:-0400
TZNAME:EDT
DTSTART:20250309T070000
END:DAYLIGHT
BEGIN:STANDARD
TZOFFSETFROM:-0400
TZOFFSETTO:-0500
TZNAME:EST
DTSTART:20251102T060000
END:STANDARD
BEGIN:DAYLIGHT
TZOFFSETFROM:-0500
TZOFFSETTO:-0400
TZNAME:EDT
DTSTART:20260308T070000
END:DAYLIGHT
BEGIN:STANDARD
TZOFFSETFROM:-0400
TZOFFSETTO:-0500
TZNAME:EST
DTSTART:20261101T060000
END:STANDARD
END:VTIMEZONE
BEGIN:VEVENT
DTSTART;TZID=America/New_York:20250102T090000
DTEND;TZID=America/New_York:20250102T103000
DTSTAMP:20260425T221406
CREATED:20240805T004108Z
LAST-MODIFIED:20250102T142534Z
UID:10009611-1735808400-1735813800@hrbcrichmond.org
SUMMARY:Second Half Meeting
DESCRIPTION:
URL:https://hrbcrichmond.org/event/second-half-meeting-3/
LOCATION:MPR 1
END:VEVENT
BEGIN:VEVENT
DTSTART;TZID=America/New_York:20250102T090000
DTEND;TZID=America/New_York:20250102T103000
DTSTAMP:20260425T221406
CREATED:20240804T183106Z
LAST-MODIFIED:20250102T142534Z
UID:10009610-1735808400-1735813800@hrbcrichmond.org
SUMMARY:Second Half Men's Ministry
DESCRIPTION:
URL:https://hrbcrichmond.org/event/second-half-mens-ministry-11/
LOCATION:MPR 1
END:VEVENT
BEGIN:VEVENT
DTSTART;TZID=America/New_York:20241217T183000
DTEND;TZID=America/New_York:20241217T203000
DTSTAMP:20260425T221406
CREATED:20240809T181753Z
LAST-MODIFIED:20241218T001550Z
UID:10009902-1734460200-1734467400@hrbcrichmond.org
SUMMARY:Worship Implementation Team
DESCRIPTION:
URL:https://hrbcrichmond.org/event/worship-implementation-team-20/
LOCATION:MPR 1
END:VEVENT
BEGIN:VEVENT
DTSTART;TZID=America/New_York:20241209T183000
DTEND;TZID=America/New_York:20241209T203000
DTSTAMP:20260425T221406
CREATED:20240809T172546Z
LAST-MODIFIED:20241210T010051Z
UID:10009713-1733769000-1733776200@hrbcrichmond.org
SUMMARY:HRBC Fellowship Group
DESCRIPTION:
URL:https://hrbcrichmond.org/event/hrbc-fellowship-group-18/
LOCATION:MPR 1
END:VEVENT
BEGIN:VEVENT
DTSTART;TZID=America/New_York:20241208T160000
DTEND;TZID=America/New_York:20241208T173000
DTSTAMP:20260425T221406
CREATED:20240809T172544Z
LAST-MODIFIED:20241208T220037Z
UID:10009711-1733673600-1733679000@hrbcrichmond.org
SUMMARY:Outreach Group Meeting
DESCRIPTION:
URL:https://hrbcrichmond.org/event/outreach-group-meeting-11/
LOCATION:MPR 1
END:VEVENT
BEGIN:VEVENT
DTSTART;TZID=America/New_York:20241205T183000
DTEND;TZID=America/New_York:20241205T193000
DTSTAMP:20260425T221406
CREATED:20241002T142203Z
LAST-MODIFIED:20241205T233049Z
UID:10010188-1733423400-1733427000@hrbcrichmond.org
SUMMARY:Cub Scouts- Webelos Den Meeting
DESCRIPTION:
URL:https://hrbcrichmond.org/event/cub-scouts-webelos-den-meeting-2/
LOCATION:MPR 1
END:VEVENT
BEGIN:VEVENT
DTSTART;TZID=America/New_York:20241205T090000
DTEND;TZID=America/New_York:20241205T103000
DTSTAMP:20260425T221406
CREATED:20240809T172527Z
LAST-MODIFIED:20241205T141526Z
UID:10009698-1733389200-1733394600@hrbcrichmond.org
SUMMARY:Second Half Men's Ministry
DESCRIPTION:
URL:https://hrbcrichmond.org/event/second-half-mens-ministry-9/
LOCATION:MPR 1
END:VEVENT
BEGIN:VEVENT
DTSTART;TZID=America/New_York:20241202T183000
DTEND;TZID=America/New_York:20241202T200000
DTSTAMP:20260425T221406
CREATED:20240809T172508Z
LAST-MODIFIED:20241203T001539Z
UID:10009685-1733164200-1733169600@hrbcrichmond.org
SUMMARY:Fellowship Group Meeting
DESCRIPTION:
URL:https://hrbcrichmond.org/event/fellowship-group-meeting-2/
LOCATION:MPR 1
END:VEVENT
BEGIN:VEVENT
DTSTART;TZID=America/New_York:20241126T100000
DTEND;TZID=America/New_York:20241126T150000
DTSTAMP:20260425T221406
CREATED:20241016T235425Z
LAST-MODIFIED:20241126T191542Z
UID:10010255-1732615200-1732633200@hrbcrichmond.org
SUMMARY:Red Cross Blood Drive
DESCRIPTION:
URL:https://hrbcrichmond.org/event/red-cross-blood-drive/
LOCATION:MPR 1
END:VEVENT
BEGIN:VEVENT
DTSTART;TZID=America/New_York:20241121T170000
DTEND;TZID=America/New_York:20241121T190000
DTSTAMP:20260425T221406
CREATED:20240809T172402Z
LAST-MODIFIED:20241121T233102Z
UID:10009649-1732208400-1732215600@hrbcrichmond.org
SUMMARY:Ladies Card-Making Group (Sue Robertson point of contact)
DESCRIPTION:
URL:https://hrbcrichmond.org/event/ladies-card-making-group-sue-robertson-point-of-contact/
LOCATION:MPR 1
END:VEVENT
BEGIN:VEVENT
DTSTART;TZID=America/New_York:20241119T183000
DTEND;TZID=America/New_York:20241119T203000
DTSTAMP:20260425T221406
CREATED:20240809T172343Z
LAST-MODIFIED:20241120T011036Z
UID:10009637-1732041000-1732048200@hrbcrichmond.org
SUMMARY:Worship Implementation Team
DESCRIPTION:
URL:https://hrbcrichmond.org/event/worship-implementation-team-19/
LOCATION:MPR 1
END:VEVENT
BEGIN:VEVENT
DTSTART;TZID=America/New_York:20241111T183000
DTEND;TZID=America/New_York:20241111T203000
DTSTAMP:20260425T221406
CREATED:20240809T181413Z
LAST-MODIFIED:20241112T001529Z
UID:10009853-1731349800-1731357000@hrbcrichmond.org
SUMMARY:HRBC Fellowship Group
DESCRIPTION:
URL:https://hrbcrichmond.org/event/hrbc-fellowship-group-20/
LOCATION:MPR 1
END:VEVENT
BEGIN:VEVENT
DTSTART;TZID=America/New_York:20241110T160000
DTEND;TZID=America/New_York:20241110T173000
DTSTAMP:20260425T221406
CREATED:20240809T181412Z
LAST-MODIFIED:20241110T221544Z
UID:10009851-1731254400-1731259800@hrbcrichmond.org
SUMMARY:Outreach Meeting
DESCRIPTION:
URL:https://hrbcrichmond.org/event/outreach-meeting-2/
LOCATION:MPR 1
END:VEVENT
BEGIN:VEVENT
DTSTART;TZID=America/New_York:20241107T090000
DTEND;TZID=America/New_York:20241107T103000
DTSTAMP:20260425T221406
CREATED:20240809T181340Z
LAST-MODIFIED:20241107T143041Z
UID:10009839-1730970000-1730975400@hrbcrichmond.org
SUMMARY:Second Half Men's Ministry
DESCRIPTION:
URL:https://hrbcrichmond.org/event/second-half-mens-ministry-10/
LOCATION:MPR 1
END:VEVENT
BEGIN:VEVENT
DTSTART;TZID=America/New_York:20241105T190000
DTEND;TZID=America/New_York:20241105T210000
DTSTAMP:20260425T221406
CREATED:20240809T181337Z
LAST-MODIFIED:20241106T011535Z
UID:10009830-1730833200-1730840400@hrbcrichmond.org
SUMMARY:Executive Council Meeting
DESCRIPTION:
URL:https://hrbcrichmond.org/event/executive-council-meeting-13/
LOCATION:MPR 1
END:VEVENT
BEGIN:VEVENT
DTSTART;TZID=America/New_York:20241105T174500
DTEND;TZID=America/New_York:20241105T184500
DTSTAMP:20260425T221406
CREATED:20240809T181322Z
LAST-MODIFIED:20241105T224532Z
UID:10009829-1730828700-1730832300@hrbcrichmond.org
SUMMARY:Vision Implementation Leaders Meeting
DESCRIPTION:
URL:https://hrbcrichmond.org/event/vision-implementation-leaders-meeting-20/
LOCATION:MPR 1
END:VEVENT
BEGIN:VEVENT
DTSTART;TZID=America/New_York:20241104T183000
DTEND;TZID=America/New_York:20241104T200000
DTSTAMP:20260425T221406
CREATED:20240809T181321Z
LAST-MODIFIED:20241105T001558Z
UID:10009826-1730745000-1730750400@hrbcrichmond.org
SUMMARY:Fellowship Group Meeting
DESCRIPTION:
URL:https://hrbcrichmond.org/event/fellowship-group-meeting-8/
LOCATION:MPR 1
END:VEVENT
BEGIN:VEVENT
DTSTART;TZID=America/New_York:20241030T180000
DTEND;TZID=America/New_York:20241030T190000
DTSTAMP:20260425T221406
CREATED:20241017T174645Z
LAST-MODIFIED:20241030T223048Z
UID:10010266-1730311200-1730314800@hrbcrichmond.org
SUMMARY:Women's Bible Study
DESCRIPTION:
URL:https://hrbcrichmond.org/event/womens-bible-study-10/
LOCATION:MPR 1
END:VEVENT
BEGIN:VEVENT
DTSTART;TZID=America/New_York:20241023T180000
DTEND;TZID=America/New_York:20241023T190000
DTSTAMP:20260425T221406
CREATED:20241017T174614Z
LAST-MODIFIED:20241023T224547Z
UID:10010265-1729706400-1729710000@hrbcrichmond.org
SUMMARY:Women's Bible Study
DESCRIPTION:
URL:https://hrbcrichmond.org/event/womens-bible-study-9/
LOCATION:MPR 1
END:VEVENT
BEGIN:VEVENT
DTSTART;TZID=America/New_York:20241016T180000
DTEND;TZID=America/New_York:20241016T190000
DTSTAMP:20260425T221406
CREATED:20240808T201615Z
LAST-MODIFIED:20241016T223023Z
UID:10009632-1729101600-1729105200@hrbcrichmond.org
SUMMARY:Women's Wednesday Night Bible Study
DESCRIPTION:
URL:https://hrbcrichmond.org/event/wednesday-night-bible-study-7/
LOCATION:MPR 1
END:VEVENT
BEGIN:VEVENT
DTSTART;TZID=America/New_York:20241015T183000
DTEND;TZID=America/New_York:20241015T203000
DTSTAMP:20260425T221406
CREATED:20240809T181134Z
LAST-MODIFIED:20241015T234033Z
UID:10009762-1729017000-1729024200@hrbcrichmond.org
SUMMARY:Worship Group & Worship Choir leadership
DESCRIPTION:
URL:https://hrbcrichmond.org/event/worship-implementation-team-18/
LOCATION:MPR 1
END:VEVENT
BEGIN:VEVENT
DTSTART;TZID=America/New_York:20241014T183000
DTEND;TZID=America/New_York:20241014T203000
DTSTAMP:20260425T221406
CREATED:20240809T181118Z
LAST-MODIFIED:20241014T231516Z
UID:10009757-1728930600-1728937800@hrbcrichmond.org
SUMMARY:HRBC Fellowship Group
DESCRIPTION:
URL:https://hrbcrichmond.org/event/hrbc-fellowship-group-19/
LOCATION:MPR 1
END:VEVENT
BEGIN:VEVENT
DTSTART;TZID=America/New_York:20241013T160000
DTEND;TZID=America/New_York:20241013T173000
DTSTAMP:20260425T221406
CREATED:20240809T181117Z
LAST-MODIFIED:20241013T203052Z
UID:10009754-1728835200-1728840600@hrbcrichmond.org
SUMMARY:Outreach Meeting
DESCRIPTION:
URL:https://hrbcrichmond.org/event/outreach-meeting/
LOCATION:MPR 1
END:VEVENT
BEGIN:VEVENT
DTSTART;TZID=America/New_York:20241009T180000
DTEND;TZID=America/New_York:20241009T190000
DTSTAMP:20260425T221406
CREATED:20240808T201544Z
LAST-MODIFIED:20241009T224021Z
UID:10009631-1728496800-1728500400@hrbcrichmond.org
SUMMARY:Women's Wednesday Night Bible Study
DESCRIPTION:
URL:https://hrbcrichmond.org/event/wednesday-night-bible-study-6/
LOCATION:MPR 1
END:VEVENT
BEGIN:VEVENT
DTSTART;TZID=America/New_York:20241007T183000
DTEND;TZID=America/New_York:20241007T193000
DTSTAMP:20260425T221406
CREATED:20240809T181040Z
LAST-MODIFIED:20241007T224026Z
UID:10009733-1728325800-1728329400@hrbcrichmond.org
SUMMARY:Fellowship Group Meeting
DESCRIPTION:
URL:https://hrbcrichmond.org/event/fellowship-group-meeting-7/
LOCATION:MPR 1
END:VEVENT
BEGIN:VEVENT
DTSTART;TZID=America/New_York:20241003T183000
DTEND;TZID=America/New_York:20241003T193000
DTSTAMP:20260425T221406
CREATED:20241002T141602Z
LAST-MODIFIED:20241003T224534Z
UID:10010187-1727980200-1727983800@hrbcrichmond.org
SUMMARY:Cub Scouts- Webelos Den Meeting
DESCRIPTION:
URL:https://hrbcrichmond.org/event/cub-scouts-webelos-den-meeting/
LOCATION:MPR 1
END:VEVENT
BEGIN:VEVENT
DTSTART;TZID=America/New_York:20241003T090000
DTEND;TZID=America/New_York:20241003T103000
DTSTAMP:20260425T221406
CREATED:20240412T013104Z
LAST-MODIFIED:20241003T134550Z
UID:10009143-1727946000-1727951400@hrbcrichmond.org
SUMMARY:Second Half Men's Ministry
DESCRIPTION:
URL:https://hrbcrichmond.org/event/second-half-mens-ministry-8/
LOCATION:MPR 1
END:VEVENT
BEGIN:VEVENT
DTSTART;TZID=America/New_York:20241001T190000
DTEND;TZID=America/New_York:20241001T210000
DTSTAMP:20260425T221406
CREATED:20240408T000616Z
LAST-MODIFIED:20241002T003021Z
UID:10009126-1727809200-1727816400@hrbcrichmond.org
SUMMARY:Executive Council Meeting
DESCRIPTION:
URL:https://hrbcrichmond.org/event/executive-council-meeting-11/
LOCATION:MPR 1
END:VEVENT
BEGIN:VEVENT
DTSTART;TZID=America/New_York:20241001T174500
DTEND;TZID=America/New_York:20241001T184500
DTSTAMP:20260425T221406
CREATED:20240408T000616Z
LAST-MODIFIED:20241001T220026Z
UID:10009125-1727804700-1727808300@hrbcrichmond.org
SUMMARY:Vision Implementation Leaders Meeting
DESCRIPTION:
URL:https://hrbcrichmond.org/event/vision-implementation-leaders-meeting-19/
LOCATION:MPR 1
END:VEVENT
BEGIN:VEVENT
DTSTART;TZID=America/New_York:20240929T114500
DTEND;TZID=America/New_York:20240929T150000
DTSTAMP:20260425T221406
CREATED:20240326T011114Z
LAST-MODIFIED:20240929T180052Z
UID:10009078-1727610300-1727622000@hrbcrichmond.org
SUMMARY:Deacons Meeting and Mini Retreat
DESCRIPTION:
URL:https://hrbcrichmond.org/event/deacons-meeting-13/
LOCATION:MPR 1
END:VEVENT
END:VCALENDAR