BEGIN:VCALENDAR
VERSION:2.0
PRODID:-//Huguenot Road Baptist Church - ECPv6.15.20//NONSGML v1.0//EN
CALSCALE:GREGORIAN
METHOD:PUBLISH
X-WR-CALNAME:Huguenot Road Baptist Church
X-ORIGINAL-URL:https://hrbcrichmond.org
X-WR-CALDESC:Events for Huguenot Road Baptist Church
REFRESH-INTERVAL;VALUE=DURATION:PT1H
X-Robots-Tag:noindex
X-PUBLISHED-TTL:PT1H
BEGIN:VTIMEZONE
TZID:America/New_York
BEGIN:DAYLIGHT
TZOFFSETFROM:-0500
TZOFFSETTO:-0400
TZNAME:EDT
DTSTART:20240310T070000
END:DAYLIGHT
BEGIN:STANDARD
TZOFFSETFROM:-0400
TZOFFSETTO:-0500
TZNAME:EST
DTSTART:20241103T060000
END:STANDARD
BEGIN:DAYLIGHT
TZOFFSETFROM:-0500
TZOFFSETTO:-0400
TZNAME:EDT
DTSTART:20250309T070000
END:DAYLIGHT
BEGIN:STANDARD
TZOFFSETFROM:-0400
TZOFFSETTO:-0500
TZNAME:EST
DTSTART:20251102T060000
END:STANDARD
BEGIN:DAYLIGHT
TZOFFSETFROM:-0500
TZOFFSETTO:-0400
TZNAME:EDT
DTSTART:20260308T070000
END:DAYLIGHT
BEGIN:STANDARD
TZOFFSETFROM:-0400
TZOFFSETTO:-0500
TZNAME:EST
DTSTART:20261101T060000
END:STANDARD
END:VTIMEZONE
BEGIN:VEVENT
DTSTART;TZID=America/New_York:20250329T100000
DTEND;TZID=America/New_York:20250329T130000
DTSTAMP:20260425T203247
CREATED:20250307T163242Z
LAST-MODIFIED:20250329T163034Z
UID:10011482-1743242400-1743253200@hrbcrichmond.org
SUMMARY:Kellan's Legacy of Love Toy Drive Packing
DESCRIPTION:
URL:https://hrbcrichmond.org/event/kellans-legacy-of-love-toy-drive-packing/
LOCATION:Microsoft Teams Meeting
END:VEVENT
END:VCALENDAR