BEGIN:VCALENDAR
VERSION:2.0
PRODID:-//Huguenot Road Baptist Church - ECPv6.15.20//NONSGML v1.0//EN
CALSCALE:GREGORIAN
METHOD:PUBLISH
X-ORIGINAL-URL:https://hrbcrichmond.org
X-WR-CALDESC:Events for Huguenot Road Baptist Church
REFRESH-INTERVAL;VALUE=DURATION:PT1H
X-Robots-Tag:noindex
X-PUBLISHED-TTL:PT1H
BEGIN:VTIMEZONE
TZID:America/New_York
BEGIN:DAYLIGHT
TZOFFSETFROM:-0500
TZOFFSETTO:-0400
TZNAME:EDT
DTSTART:20250309T070000
END:DAYLIGHT
BEGIN:STANDARD
TZOFFSETFROM:-0400
TZOFFSETTO:-0500
TZNAME:EST
DTSTART:20251102T060000
END:STANDARD
BEGIN:DAYLIGHT
TZOFFSETFROM:-0500
TZOFFSETTO:-0400
TZNAME:EDT
DTSTART:20260308T070000
END:DAYLIGHT
BEGIN:STANDARD
TZOFFSETFROM:-0400
TZOFFSETTO:-0500
TZNAME:EST
DTSTART:20261101T060000
END:STANDARD
BEGIN:DAYLIGHT
TZOFFSETFROM:-0500
TZOFFSETTO:-0400
TZNAME:EDT
DTSTART:20270314T070000
END:DAYLIGHT
BEGIN:STANDARD
TZOFFSETFROM:-0400
TZOFFSETTO:-0500
TZNAME:EST
DTSTART:20271107T060000
END:STANDARD
END:VTIMEZONE
BEGIN:VEVENT
DTSTART;TZID=America/New_York:20260511T101500
DTEND;TZID=America/New_York:20260511T114500
DTSTAMP:20260424T212911
CREATED:20260112T161637Z
LAST-MODIFIED:20260425T005702Z
UID:10012832-1778494500-1778499900@hrbcrichmond.org
SUMMARY:New Virginians
DESCRIPTION:
URL:https://hrbcrichmond.org/event/new-virginians-5/
LOCATION:Library
END:VEVENT
BEGIN:VEVENT
DTSTART;TZID=America/New_York:20260608T101500
DTEND;TZID=America/New_York:20260608T114500
DTSTAMP:20260424T212911
CREATED:20260112T161753Z
LAST-MODIFIED:20260425T005844Z
UID:10012833-1780913700-1780919100@hrbcrichmond.org
SUMMARY:New Virginians
DESCRIPTION:
URL:https://hrbcrichmond.org/event/new-virginians-6/
LOCATION:Library
END:VEVENT
BEGIN:VEVENT
DTSTART;TZID=America/New_York:20260713T101500
DTEND;TZID=America/New_York:20260713T114500
DTSTAMP:20260424T212911
CREATED:20260112T161911Z
LAST-MODIFIED:20260425T010055Z
UID:10012834-1783937700-1783943100@hrbcrichmond.org
SUMMARY:New Virginians
DESCRIPTION:
URL:https://hrbcrichmond.org/event/new-virginians-7/
LOCATION:Library
END:VEVENT
BEGIN:VEVENT
DTSTART;TZID=America/New_York:20260810T101500
DTEND;TZID=America/New_York:20260810T114500
DTSTAMP:20260424T212911
CREATED:20260112T162017Z
LAST-MODIFIED:20260425T010232Z
UID:10012835-1786356900-1786362300@hrbcrichmond.org
SUMMARY:New Virginians
DESCRIPTION:
URL:https://hrbcrichmond.org/event/new-virginians-8/
LOCATION:Library
END:VEVENT
BEGIN:VEVENT
DTSTART;TZID=America/New_York:20260914T101500
DTEND;TZID=America/New_York:20260914T114500
DTSTAMP:20260424T212911
CREATED:20260204T165112Z
LAST-MODIFIED:20260425T010432Z
UID:10012897-1789380900-1789386300@hrbcrichmond.org
SUMMARY:New Virginians
DESCRIPTION:
URL:https://hrbcrichmond.org/event/new-virginians-9/
LOCATION:Library
END:VEVENT
BEGIN:VEVENT
DTSTART;TZID=America/New_York:20261012T101500
DTEND;TZID=America/New_York:20261012T114500
DTSTAMP:20260424T212911
CREATED:20260402T150702Z
LAST-MODIFIED:20260425T010612Z
UID:10013307-1791800100-1791805500@hrbcrichmond.org
SUMMARY:New Virginians
DESCRIPTION:
URL:https://hrbcrichmond.org/event/new-virginians-10/
LOCATION:Library
END:VEVENT
BEGIN:VEVENT
DTSTART;TZID=America/New_York:20261109T101500
DTEND;TZID=America/New_York:20261109T114500
DTSTAMP:20260424T212911
CREATED:20260424T212222Z
LAST-MODIFIED:20260425T010740Z
UID:10013384-1794219300-1794224700@hrbcrichmond.org
SUMMARY:New Virginians
DESCRIPTION:
URL:https://hrbcrichmond.org/event/new-virginians-11/
LOCATION:Library
END:VEVENT
END:VCALENDAR