BEGIN:VCALENDAR
VERSION:2.0
PRODID:-//Huguenot Road Baptist Church - ECPv6.15.20//NONSGML v1.0//EN
CALSCALE:GREGORIAN
METHOD:PUBLISH
X-ORIGINAL-URL:https://hrbcrichmond.org
X-WR-CALDESC:Events for Huguenot Road Baptist Church
REFRESH-INTERVAL;VALUE=DURATION:PT1H
X-Robots-Tag:noindex
X-PUBLISHED-TTL:PT1H
BEGIN:VTIMEZONE
TZID:America/New_York
BEGIN:DAYLIGHT
TZOFFSETFROM:-0500
TZOFFSETTO:-0400
TZNAME:EDT
DTSTART:20240310T070000
END:DAYLIGHT
BEGIN:STANDARD
TZOFFSETFROM:-0400
TZOFFSETTO:-0500
TZNAME:EST
DTSTART:20241103T060000
END:STANDARD
BEGIN:DAYLIGHT
TZOFFSETFROM:-0500
TZOFFSETTO:-0400
TZNAME:EDT
DTSTART:20250309T070000
END:DAYLIGHT
BEGIN:STANDARD
TZOFFSETFROM:-0400
TZOFFSETTO:-0500
TZNAME:EST
DTSTART:20251102T060000
END:STANDARD
BEGIN:DAYLIGHT
TZOFFSETFROM:-0500
TZOFFSETTO:-0400
TZNAME:EDT
DTSTART:20260308T070000
END:DAYLIGHT
BEGIN:STANDARD
TZOFFSETFROM:-0400
TZOFFSETTO:-0500
TZNAME:EST
DTSTART:20261101T060000
END:STANDARD
BEGIN:DAYLIGHT
TZOFFSETFROM:-0500
TZOFFSETTO:-0400
TZNAME:EDT
DTSTART:20270314T070000
END:DAYLIGHT
BEGIN:STANDARD
TZOFFSETFROM:-0400
TZOFFSETTO:-0500
TZNAME:EST
DTSTART:20271107T060000
END:STANDARD
END:VTIMEZONE
BEGIN:VEVENT
DTSTART;TZID=America/New_York:20260413T101500
DTEND;TZID=America/New_York:20260413T114500
DTSTAMP:20260424T212412
CREATED:20260112T161507Z
LAST-MODIFIED:20260413T152528Z
UID:10012831-1776075300-1776080700@hrbcrichmond.org
SUMMARY:New Virginians
DESCRIPTION:
URL:https://hrbcrichmond.org/event/new-virginians-4/
LOCATION:Library
END:VEVENT
BEGIN:VEVENT
DTSTART;TZID=America/New_York:20260309T101500
DTEND;TZID=America/New_York:20260309T114500
DTSTAMP:20260424T212412
CREATED:20260112T161338Z
LAST-MODIFIED:20260309T151050Z
UID:10012830-1773051300-1773056700@hrbcrichmond.org
SUMMARY:New Virginians
DESCRIPTION:
URL:https://hrbcrichmond.org/event/new-virginians-3/
LOCATION:Library
END:VEVENT
BEGIN:VEVENT
DTSTART;TZID=America/New_York:20260209T101500
DTEND;TZID=America/New_York:20260209T114500
DTSTAMP:20260424T212412
CREATED:20260112T161214Z
LAST-MODIFIED:20260209T161836Z
UID:10012829-1770632100-1770637500@hrbcrichmond.org
SUMMARY:New Virginians
DESCRIPTION:
URL:https://hrbcrichmond.org/event/new-virginians-2/
LOCATION:Library
END:VEVENT
BEGIN:VEVENT
DTSTART;TZID=America/New_York:20260112T101500
DTEND;TZID=America/New_York:20260112T114500
DTSTAMP:20260424T212412
CREATED:20260112T161046Z
LAST-MODIFIED:20260112T161046Z
UID:10012828-1768212900-1768218300@hrbcrichmond.org
SUMMARY:New Virginians
DESCRIPTION:
URL:https://hrbcrichmond.org/event/new-virginians/
LOCATION:Library
END:VEVENT
BEGIN:VEVENT
DTSTART;TZID=America/New_York:20250425T100000
DTEND;TZID=America/New_York:20250425T113000
DTSTAMP:20260424T212412
CREATED:20250318T180437Z
LAST-MODIFIED:20250425T144535Z
UID:10011533-1745575200-1745580600@hrbcrichmond.org
SUMMARY:Chronological Bible Study
DESCRIPTION:
URL:https://hrbcrichmond.org/event/chronological-bible-study-2/
LOCATION:Library
END:VEVENT
BEGIN:VEVENT
DTSTART;TZID=America/New_York:20250424T190000
DTEND;TZID=America/New_York:20250424T203000
DTSTAMP:20260424T212412
CREATED:20250318T180437Z
LAST-MODIFIED:20250424T234541Z
UID:10011532-1745521200-1745526600@hrbcrichmond.org
SUMMARY:Chronological Bible Study
DESCRIPTION:
URL:https://hrbcrichmond.org/event/chronological-bible-study/
LOCATION:Library
END:VEVENT
END:VCALENDAR