BEGIN:VCALENDAR
VERSION:2.0
PRODID:-//Huguenot Road Baptist Church - ECPv6.15.20//NONSGML v1.0//EN
CALSCALE:GREGORIAN
METHOD:PUBLISH
X-WR-CALNAME:Huguenot Road Baptist Church
X-ORIGINAL-URL:https://hrbcrichmond.org
X-WR-CALDESC:Events for Huguenot Road Baptist Church
REFRESH-INTERVAL;VALUE=DURATION:PT1H
X-Robots-Tag:noindex
X-PUBLISHED-TTL:PT1H
BEGIN:VTIMEZONE
TZID:America/New_York
BEGIN:DAYLIGHT
TZOFFSETFROM:-0500
TZOFFSETTO:-0400
TZNAME:EDT
DTSTART:20230312T070000
END:DAYLIGHT
BEGIN:STANDARD
TZOFFSETFROM:-0400
TZOFFSETTO:-0500
TZNAME:EST
DTSTART:20231105T060000
END:STANDARD
BEGIN:DAYLIGHT
TZOFFSETFROM:-0500
TZOFFSETTO:-0400
TZNAME:EDT
DTSTART:20240310T070000
END:DAYLIGHT
BEGIN:STANDARD
TZOFFSETFROM:-0400
TZOFFSETTO:-0500
TZNAME:EST
DTSTART:20241103T060000
END:STANDARD
BEGIN:DAYLIGHT
TZOFFSETFROM:-0500
TZOFFSETTO:-0400
TZNAME:EDT
DTSTART:20250309T070000
END:DAYLIGHT
BEGIN:STANDARD
TZOFFSETFROM:-0400
TZOFFSETTO:-0500
TZNAME:EST
DTSTART:20251102T060000
END:STANDARD
BEGIN:DAYLIGHT
TZOFFSETFROM:-0500
TZOFFSETTO:-0400
TZNAME:EDT
DTSTART:20260308T070000
END:DAYLIGHT
BEGIN:STANDARD
TZOFFSETFROM:-0400
TZOFFSETTO:-0500
TZNAME:EST
DTSTART:20261101T060000
END:STANDARD
END:VTIMEZONE
BEGIN:VEVENT
DTSTART;TZID=America/New_York:20250209T114500
DTEND;TZID=America/New_York:20250209T124500
DTSTAMP:20260425T202621
CREATED:20240918T232304Z
LAST-MODIFIED:20250209T170057Z
UID:10010124-1739101500-1739105100@hrbcrichmond.org
SUMMARY:Family Ministry Team Meeting
DESCRIPTION:
URL:https://hrbcrichmond.org/event/family-ministry-team-meeting-11/
LOCATION:Huguenot Road Baptist Church; Room 210
END:VEVENT
BEGIN:VEVENT
DTSTART;TZID=America/New_York:20250112T114500
DTEND;TZID=America/New_York:20250112T124500
DTSTAMP:20260425T202621
CREATED:20241105T164151Z
LAST-MODIFIED:20250112T171023Z
UID:10010428-1736682300-1736685900@hrbcrichmond.org
SUMMARY:Family Ministry Team Meeting
DESCRIPTION:
URL:https://hrbcrichmond.org/event/family-ministry-team-meeting-10/
LOCATION:Huguenot Road Baptist Church; Room 210
END:VEVENT
BEGIN:VEVENT
DTSTART;TZID=America/New_York:20241208T114500
DTEND;TZID=America/New_York:20241208T124500
DTSTAMP:20260425T202621
CREATED:20240806T221103Z
LAST-MODIFIED:20241208T165844Z
UID:10009623-1733658300-1733661900@hrbcrichmond.org
SUMMARY:Family Ministry Team Meeting
DESCRIPTION:
URL:https://hrbcrichmond.org/event/family-ministry-team-meeting-18/
LOCATION:Huguenot Road Baptist Church; Room 210
END:VEVENT
BEGIN:VEVENT
DTSTART;TZID=America/New_York:20241110T114500
DTEND;TZID=America/New_York:20241110T124500
DTSTAMP:20260425T202621
CREATED:20240806T221053Z
LAST-MODIFIED:20241110T171532Z
UID:10009622-1731239100-1731242700@hrbcrichmond.org
SUMMARY:Family Ministry Team Meeting
DESCRIPTION:
URL:https://hrbcrichmond.org/event/family-ministry-team-meeting-17/
LOCATION:Huguenot Road Baptist Church; Room 210
END:VEVENT
BEGIN:VEVENT
DTSTART;TZID=America/New_York:20241013T114500
DTEND;TZID=America/New_York:20241013T124500
DTSTAMP:20260425T202621
CREATED:20240806T221043Z
LAST-MODIFIED:20241013T163022Z
UID:10009621-1728819900-1728823500@hrbcrichmond.org
SUMMARY:Family Ministry Team Meeting
DESCRIPTION:
URL:https://hrbcrichmond.org/event/family-ministry-team-meeting-16/
LOCATION:Huguenot Road Baptist Church; Room 210
END:VEVENT
BEGIN:VEVENT
DTSTART;TZID=America/New_York:20240908T114500
DTEND;TZID=America/New_York:20240908T124500
DTSTAMP:20260425T202621
CREATED:20240806T220743Z
LAST-MODIFIED:20240908T164114Z
UID:10009620-1725795900-1725799500@hrbcrichmond.org
SUMMARY:Family Ministry Team Meeting
DESCRIPTION:
URL:https://hrbcrichmond.org/event/family-ministry-team-meeting-15/
LOCATION:Huguenot Road Baptist Church; Room 210
END:VEVENT
END:VCALENDAR