BEGIN:VCALENDAR
VERSION:2.0
PRODID:-//Huguenot Road Baptist Church - ECPv6.15.20//NONSGML v1.0//EN
CALSCALE:GREGORIAN
METHOD:PUBLISH
X-ORIGINAL-URL:https://hrbcrichmond.org
X-WR-CALDESC:Events for Huguenot Road Baptist Church
REFRESH-INTERVAL;VALUE=DURATION:PT1H
X-Robots-Tag:noindex
X-PUBLISHED-TTL:PT1H
BEGIN:VTIMEZONE
TZID:America/New_York
BEGIN:DAYLIGHT
TZOFFSETFROM:-0500
TZOFFSETTO:-0400
TZNAME:EDT
DTSTART:20220313T070000
END:DAYLIGHT
BEGIN:STANDARD
TZOFFSETFROM:-0400
TZOFFSETTO:-0500
TZNAME:EST
DTSTART:20221106T060000
END:STANDARD
BEGIN:DAYLIGHT
TZOFFSETFROM:-0500
TZOFFSETTO:-0400
TZNAME:EDT
DTSTART:20230312T070000
END:DAYLIGHT
BEGIN:STANDARD
TZOFFSETFROM:-0400
TZOFFSETTO:-0500
TZNAME:EST
DTSTART:20231105T060000
END:STANDARD
BEGIN:DAYLIGHT
TZOFFSETFROM:-0500
TZOFFSETTO:-0400
TZNAME:EDT
DTSTART:20240310T070000
END:DAYLIGHT
BEGIN:STANDARD
TZOFFSETFROM:-0400
TZOFFSETTO:-0500
TZNAME:EST
DTSTART:20241103T060000
END:STANDARD
BEGIN:DAYLIGHT
TZOFFSETFROM:-0500
TZOFFSETTO:-0400
TZNAME:EDT
DTSTART:20250309T070000
END:DAYLIGHT
BEGIN:STANDARD
TZOFFSETFROM:-0400
TZOFFSETTO:-0500
TZNAME:EST
DTSTART:20251102T060000
END:STANDARD
END:VTIMEZONE
BEGIN:VEVENT
DTSTART;TZID=America/New_York:20240127T190000
DTEND;TZID=America/New_York:20240127T203000
DTSTAMP:20260425T142352
CREATED:20230907T011948Z
LAST-MODIFIED:20240128T003528Z
UID:10008034-1706382000-1706387400@hrbcrichmond.org
SUMMARY:New Life Arabic Church
DESCRIPTION:
URL:https://hrbcrichmond.org/event/new-life-arabic-church-36/
LOCATION:HRBC Room 123
END:VEVENT
BEGIN:VEVENT
DTSTART;TZID=America/New_York:20240120T190000
DTEND;TZID=America/New_York:20240120T203000
DTSTAMP:20260425T142352
CREATED:20230906T160501Z
LAST-MODIFIED:20240121T010033Z
UID:10008016-1705777200-1705782600@hrbcrichmond.org
SUMMARY:New Life Arabic Church
DESCRIPTION:
URL:https://hrbcrichmond.org/event/new-life-arabic-church-35/
LOCATION:HRBC Room 123
END:VEVENT
BEGIN:VEVENT
DTSTART;TZID=America/New_York:20240106T190000
DTEND;TZID=America/New_York:20240106T203000
DTSTAMP:20260425T142352
CREATED:20230719T205026Z
LAST-MODIFIED:20240107T010537Z
UID:10007647-1704567600-1704573000@hrbcrichmond.org
SUMMARY:New Life Arabic Church
DESCRIPTION:
URL:https://hrbcrichmond.org/event/new-life-arabic-church-33/
LOCATION:HRBC Room 123
END:VEVENT
BEGIN:VEVENT
DTSTART;TZID=America/New_York:20231230T190000
DTEND;TZID=America/New_York:20231230T203000
DTSTAMP:20260425T142352
CREATED:20230711T181955Z
LAST-MODIFIED:20231231T002019Z
UID:10007624-1703962800-1703968200@hrbcrichmond.org
SUMMARY:New Life Arabic Church
DESCRIPTION:
URL:https://hrbcrichmond.org/event/new-life-arabic-church-32/
LOCATION:HRBC Room 123
END:VEVENT
BEGIN:VEVENT
DTSTART;TZID=America/New_York:20231223T190000
DTEND;TZID=America/New_York:20231223T203000
DTSTAMP:20260425T142352
CREATED:20230630T171947Z
LAST-MODIFIED:20231224T010755Z
UID:10007592-1703358000-1703363400@hrbcrichmond.org
SUMMARY:New Life Arabic Church
DESCRIPTION:
URL:https://hrbcrichmond.org/event/new-life-arabic-church-31/
LOCATION:HRBC Room 123
END:VEVENT
BEGIN:VEVENT
DTSTART;TZID=America/New_York:20231216T190000
DTEND;TZID=America/New_York:20231216T203000
DTSTAMP:20260425T142352
CREATED:20230630T171922Z
LAST-MODIFIED:20231217T011538Z
UID:10007570-1702753200-1702758600@hrbcrichmond.org
SUMMARY:New Life Arabic Church
DESCRIPTION:
URL:https://hrbcrichmond.org/event/new-life-arabic-church-30/
LOCATION:HRBC Room 123
END:VEVENT
BEGIN:VEVENT
DTSTART;TZID=America/New_York:20231209T190000
DTEND;TZID=America/New_York:20231209T203000
DTSTAMP:20260425T142352
CREATED:20230630T171858Z
LAST-MODIFIED:20231210T012515Z
UID:10007549-1702148400-1702153800@hrbcrichmond.org
SUMMARY:New Life Arabic Church
DESCRIPTION:
URL:https://hrbcrichmond.org/event/new-life-arabic-church-29/
LOCATION:HRBC Room 123
END:VEVENT
BEGIN:VEVENT
DTSTART;TZID=America/New_York:20231202T190000
DTEND;TZID=America/New_York:20231202T203000
DTSTAMP:20260425T142352
CREATED:20230630T171823Z
LAST-MODIFIED:20231203T010041Z
UID:10007525-1701543600-1701549000@hrbcrichmond.org
SUMMARY:New Life Arabic Church
DESCRIPTION:
URL:https://hrbcrichmond.org/event/new-life-arabic-church-28/
LOCATION:HRBC Room 123
END:VEVENT
BEGIN:VEVENT
DTSTART;TZID=America/New_York:20231118T190000
DTEND;TZID=America/New_York:20231118T203000
DTSTAMP:20260425T142352
CREATED:20230630T171747Z
LAST-MODIFIED:20231119T002022Z
UID:10007486-1700334000-1700339400@hrbcrichmond.org
SUMMARY:New Life Arabic Church
DESCRIPTION:
URL:https://hrbcrichmond.org/event/new-life-arabic-church-26/
LOCATION:HRBC Room 123
END:VEVENT
BEGIN:VEVENT
DTSTART;TZID=America/New_York:20231111T190000
DTEND;TZID=America/New_York:20231111T203000
DTSTAMP:20260425T142352
CREATED:20230630T171725Z
LAST-MODIFIED:20231112T010020Z
UID:10007466-1699729200-1699734600@hrbcrichmond.org
SUMMARY:New Life Arabic Church
DESCRIPTION:
URL:https://hrbcrichmond.org/event/new-life-arabic-church-25/
LOCATION:HRBC Room 123
END:VEVENT
BEGIN:VEVENT
DTSTART;TZID=America/New_York:20231021T190000
DTEND;TZID=America/New_York:20231021T203000
DTSTAMP:20260425T142352
CREATED:20230630T171603Z
LAST-MODIFIED:20231022T002538Z
UID:10007401-1697914800-1697920200@hrbcrichmond.org
SUMMARY:New Life Arabic Church
DESCRIPTION:
URL:https://hrbcrichmond.org/event/new-life-arabic-church-22/
LOCATION:HRBC Room 123
END:VEVENT
BEGIN:VEVENT
DTSTART;TZID=America/New_York:20231014T190000
DTEND;TZID=America/New_York:20231014T203000
DTSTAMP:20260425T142352
CREATED:20230623T021022Z
LAST-MODIFIED:20231015T001021Z
UID:10007377-1697310000-1697315400@hrbcrichmond.org
SUMMARY:New Life Arabic Church
DESCRIPTION:
URL:https://hrbcrichmond.org/event/new-life-arabic-church-21/
LOCATION:HRBC Room 123
END:VEVENT
BEGIN:VEVENT
DTSTART;TZID=America/New_York:20231007T190000
DTEND;TZID=America/New_York:20231007T203000
DTSTAMP:20260425T142352
CREATED:20230608T142034Z
LAST-MODIFIED:20231008T002517Z
UID:10007321-1696705200-1696710600@hrbcrichmond.org
SUMMARY:New Life Arabic Church
DESCRIPTION:
URL:https://hrbcrichmond.org/event/new-life-arabic-church-20/
LOCATION:HRBC Room 123
END:VEVENT
BEGIN:VEVENT
DTSTART;TZID=America/New_York:20230930T190000
DTEND;TZID=America/New_York:20230930T203000
DTSTAMP:20260425T142352
CREATED:20230607T163106Z
LAST-MODIFIED:20231001T002533Z
UID:10007300-1696100400-1696105800@hrbcrichmond.org
SUMMARY:New Life Arabic Church
DESCRIPTION:
URL:https://hrbcrichmond.org/event/new-life-arabic-church-19/
LOCATION:HRBC Room 123
END:VEVENT
BEGIN:VEVENT
DTSTART;TZID=America/New_York:20230923T190000
DTEND;TZID=America/New_York:20230923T203000
DTSTAMP:20260425T142352
CREATED:20230606T185100Z
LAST-MODIFIED:20230924T002029Z
UID:10007116-1695495600-1695501000@hrbcrichmond.org
SUMMARY:New Life Arabic Church
DESCRIPTION:
URL:https://hrbcrichmond.org/event/new-life-arabic-church-18/
LOCATION:HRBC Room 123
END:VEVENT
BEGIN:VEVENT
DTSTART;TZID=America/New_York:20230916T190000
DTEND;TZID=America/New_York:20230916T203000
DTSTAMP:20260425T142352
CREATED:20230606T185056Z
LAST-MODIFIED:20230916T234040Z
UID:10007095-1694890800-1694896200@hrbcrichmond.org
SUMMARY:New Life Arabic Church
DESCRIPTION:
URL:https://hrbcrichmond.org/event/new-life-arabic-church-17/
LOCATION:HRBC Room 123
END:VEVENT
BEGIN:VEVENT
DTSTART;TZID=America/New_York:20230909T190000
DTEND;TZID=America/New_York:20230909T203000
DTSTAMP:20260425T142352
CREATED:20230606T185052Z
LAST-MODIFIED:20230909T234019Z
UID:10007076-1694286000-1694291400@hrbcrichmond.org
SUMMARY:New Life Arabic Church
DESCRIPTION:
URL:https://hrbcrichmond.org/event/new-life-arabic-church-16/
LOCATION:HRBC Room 123
END:VEVENT
BEGIN:VEVENT
DTSTART;TZID=America/New_York:20230902T190000
DTEND;TZID=America/New_York:20230902T203000
DTSTAMP:20260425T142352
CREATED:20230606T185048Z
LAST-MODIFIED:20230903T001041Z
UID:10007057-1693681200-1693686600@hrbcrichmond.org
SUMMARY:New Life Arabic Church
DESCRIPTION:
URL:https://hrbcrichmond.org/event/new-life-arabic-church-15/
LOCATION:HRBC Room 123
END:VEVENT
BEGIN:VEVENT
DTSTART;TZID=America/New_York:20230826T190000
DTEND;TZID=America/New_York:20230826T203000
DTSTAMP:20260425T142352
CREATED:20230606T185044Z
LAST-MODIFIED:20230827T002524Z
UID:10007036-1693076400-1693081800@hrbcrichmond.org
SUMMARY:New Life Arabic Church
DESCRIPTION:
URL:https://hrbcrichmond.org/event/new-life-arabic-church-14/
LOCATION:HRBC Room 123
END:VEVENT
BEGIN:VEVENT
DTSTART;TZID=America/New_York:20230819T190000
DTEND;TZID=America/New_York:20230819T203000
DTSTAMP:20260425T142352
CREATED:20230606T185039Z
LAST-MODIFIED:20230820T002533Z
UID:10007015-1692471600-1692477000@hrbcrichmond.org
SUMMARY:New Life Arabic Church
DESCRIPTION:
URL:https://hrbcrichmond.org/event/new-life-arabic-church-13/
LOCATION:HRBC Room 123
END:VEVENT
BEGIN:VEVENT
DTSTART;TZID=America/New_York:20230812T190000
DTEND;TZID=America/New_York:20230812T203000
DTSTAMP:20260425T142352
CREATED:20230606T185036Z
LAST-MODIFIED:20230813T002536Z
UID:10006999-1691866800-1691872200@hrbcrichmond.org
SUMMARY:New Life Arabic Church
DESCRIPTION:
URL:https://hrbcrichmond.org/event/new-life-arabic-church-12/
LOCATION:HRBC Room 123
END:VEVENT
BEGIN:VEVENT
DTSTART;TZID=America/New_York:20230805T190000
DTEND;TZID=America/New_York:20230805T203000
DTSTAMP:20260425T142352
CREATED:20230606T185033Z
LAST-MODIFIED:20230805T234017Z
UID:10006983-1691262000-1691267400@hrbcrichmond.org
SUMMARY:New Life Arabic Church
DESCRIPTION:
URL:https://hrbcrichmond.org/event/new-life-arabic-church-11/
LOCATION:HRBC Room 123
END:VEVENT
BEGIN:VEVENT
DTSTART;TZID=America/New_York:20230729T190000
DTEND;TZID=America/New_York:20230729T203000
DTSTAMP:20260425T142352
CREATED:20230606T185030Z
LAST-MODIFIED:20230730T001044Z
UID:10006971-1690657200-1690662600@hrbcrichmond.org
SUMMARY:New Life Arabic Church
DESCRIPTION:
URL:https://hrbcrichmond.org/event/new-life-arabic-church-10/
LOCATION:HRBC Room 123
END:VEVENT
BEGIN:VEVENT
DTSTART;TZID=America/New_York:20230722T190000
DTEND;TZID=America/New_York:20230722T203000
DTSTAMP:20260425T142352
CREATED:20230606T185027Z
LAST-MODIFIED:20230722T235534Z
UID:10006957-1690052400-1690057800@hrbcrichmond.org
SUMMARY:New Life Arabic Church
DESCRIPTION:
URL:https://hrbcrichmond.org/event/new-life-arabic-church-9/
LOCATION:HRBC Room 123
END:VEVENT
BEGIN:VEVENT
DTSTART;TZID=America/New_York:20230715T190000
DTEND;TZID=America/New_York:20230715T203000
DTSTAMP:20260425T142352
CREATED:20230606T185024Z
LAST-MODIFIED:20230716T002515Z
UID:10006941-1689447600-1689453000@hrbcrichmond.org
SUMMARY:New Life Arabic Church
DESCRIPTION:
URL:https://hrbcrichmond.org/event/new-life-arabic-church-8/
LOCATION:HRBC Room 123
END:VEVENT
BEGIN:VEVENT
DTSTART;TZID=America/New_York:20230708T190000
DTEND;TZID=America/New_York:20230708T203000
DTSTAMP:20260425T142352
CREATED:20230606T185020Z
LAST-MODIFIED:20230709T002009Z
UID:10006924-1688842800-1688848200@hrbcrichmond.org
SUMMARY:New Life Arabic Church
DESCRIPTION:
URL:https://hrbcrichmond.org/event/new-life-arabic-church-7/
LOCATION:HRBC Room 123
END:VEVENT
BEGIN:VEVENT
DTSTART;TZID=America/New_York:20230701T190000
DTEND;TZID=America/New_York:20230701T203000
DTSTAMP:20260425T142352
CREATED:20230606T185017Z
LAST-MODIFIED:20230705T143648Z
UID:10006909-1688238000-1688243400@hrbcrichmond.org
SUMMARY:New Life Arabic Church
DESCRIPTION:
URL:https://hrbcrichmond.org/event/new-life-arabic-church-6/
LOCATION:HRBC Room 123
END:VEVENT
BEGIN:VEVENT
DTSTART;TZID=America/New_York:20230624T190000
DTEND;TZID=America/New_York:20230624T203000
DTSTAMP:20260425T142352
CREATED:20230606T185013Z
LAST-MODIFIED:20230705T143725Z
UID:10006890-1687633200-1687638600@hrbcrichmond.org
SUMMARY:New Life Arabic Church
DESCRIPTION:
URL:https://hrbcrichmond.org/event/new-life-arabic-church-5/
LOCATION:HRBC Room 123
END:VEVENT
BEGIN:VEVENT
DTSTART;TZID=America/New_York:20230617T190000
DTEND;TZID=America/New_York:20230617T203000
DTSTAMP:20260425T142352
CREATED:20230606T185009Z
LAST-MODIFIED:20230618T002516Z
UID:10006872-1687028400-1687033800@hrbcrichmond.org
SUMMARY:New Life Arabic Church
DESCRIPTION:
URL:https://hrbcrichmond.org/event/new-life-arabic-church-4/
LOCATION:HRBC Room 123
END:VEVENT
BEGIN:VEVENT
DTSTART;TZID=America/New_York:20230610T190000
DTEND;TZID=America/New_York:20230610T203000
DTSTAMP:20260425T142352
CREATED:20230606T185004Z
LAST-MODIFIED:20230611T001035Z
UID:10006847-1686423600-1686429000@hrbcrichmond.org
SUMMARY:New Life Arabic Church
DESCRIPTION:
URL:https://hrbcrichmond.org/event/new-life-arabic-church-3/
LOCATION:HRBC Room 123
END:VEVENT
END:VCALENDAR