BEGIN:VCALENDAR
VERSION:2.0
PRODID:-//Huguenot Road Baptist Church - ECPv6.15.20//NONSGML v1.0//EN
CALSCALE:GREGORIAN
METHOD:PUBLISH
X-WR-CALNAME:Huguenot Road Baptist Church
X-ORIGINAL-URL:https://hrbcrichmond.org
X-WR-CALDESC:Events for Huguenot Road Baptist Church
REFRESH-INTERVAL;VALUE=DURATION:PT1H
X-Robots-Tag:noindex
X-PUBLISHED-TTL:PT1H
BEGIN:VTIMEZONE
TZID:America/New_York
BEGIN:DAYLIGHT
TZOFFSETFROM:-0500
TZOFFSETTO:-0400
TZNAME:EDT
DTSTART:20220313T070000
END:DAYLIGHT
BEGIN:STANDARD
TZOFFSETFROM:-0400
TZOFFSETTO:-0500
TZNAME:EST
DTSTART:20221106T060000
END:STANDARD
BEGIN:DAYLIGHT
TZOFFSETFROM:-0500
TZOFFSETTO:-0400
TZNAME:EDT
DTSTART:20230312T070000
END:DAYLIGHT
BEGIN:STANDARD
TZOFFSETFROM:-0400
TZOFFSETTO:-0500
TZNAME:EST
DTSTART:20231105T060000
END:STANDARD
BEGIN:DAYLIGHT
TZOFFSETFROM:-0500
TZOFFSETTO:-0400
TZNAME:EDT
DTSTART:20240310T070000
END:DAYLIGHT
BEGIN:STANDARD
TZOFFSETFROM:-0400
TZOFFSETTO:-0500
TZNAME:EST
DTSTART:20241103T060000
END:STANDARD
BEGIN:DAYLIGHT
TZOFFSETFROM:-0500
TZOFFSETTO:-0400
TZNAME:EDT
DTSTART:20250309T070000
END:DAYLIGHT
BEGIN:STANDARD
TZOFFSETFROM:-0400
TZOFFSETTO:-0500
TZNAME:EST
DTSTART:20251102T060000
END:STANDARD
END:VTIMEZONE
BEGIN:VEVENT
DTSTART;TZID=America/New_York:20240208T190000
DTEND;TZID=America/New_York:20240208T200000
DTSTAMP:20260425T191759
CREATED:20231002T183411Z
LAST-MODIFIED:20240208T235532Z
UID:10008137-1707418800-1707422400@hrbcrichmond.org
SUMMARY:TR LINE Dancing
DESCRIPTION:
URL:https://hrbcrichmond.org/event/tr-line-dancing-9/
LOCATION:Gym
END:VEVENT
BEGIN:VEVENT
DTSTART;TZID=America/New_York:20240207T193000
DTEND;TZID=America/New_York:20240207T210000
DTSTAMP:20260425T191759
CREATED:20240126T173446Z
LAST-MODIFIED:20240208T020025Z
UID:10008792-1707334200-1707339600@hrbcrichmond.org
SUMMARY:European Wind Ensemble Rehearsal
DESCRIPTION:
URL:https://hrbcrichmond.org/event/european-wind-ensemble-rehearsal-48/
LOCATION:Gym
END:VEVENT
BEGIN:VEVENT
DTSTART;TZID=America/New_York:20240207T163000
DTEND;TZID=America/New_York:20240207T180000
DTSTAMP:20260425T191759
CREATED:20240129T144611Z
LAST-MODIFIED:20240207T215019Z
UID:10008809-1707323400-1707328800@hrbcrichmond.org
SUMMARY:Basketball Open Gym
DESCRIPTION:
URL:https://hrbcrichmond.org/event/basketball-open-gym-2/
LOCATION:Gym
END:VEVENT
BEGIN:VEVENT
DTSTART;TZID=America/New_York:20240205T184500
DTEND;TZID=America/New_York:20240205T203000
DTSTAMP:20260425T191759
CREATED:20231205T170023Z
LAST-MODIFIED:20240206T004530Z
UID:10008539-1707158700-1707165000@hrbcrichmond.org
SUMMARY:Rockit Basketball Practice
DESCRIPTION:
URL:https://hrbcrichmond.org/event/rockit-basketball-practice-9/
LOCATION:Gym
END:VEVENT
BEGIN:VEVENT
DTSTART;TZID=America/New_York:20240201T190000
DTEND;TZID=America/New_York:20240201T200000
DTSTAMP:20260425T191759
CREATED:20231107T150021Z
LAST-MODIFIED:20240202T004049Z
UID:10008305-1706814000-1706817600@hrbcrichmond.org
SUMMARY:TR LINE Dancing
DESCRIPTION:
URL:https://hrbcrichmond.org/event/tr-line-dancing-17/
LOCATION:Gym
END:VEVENT
BEGIN:VEVENT
DTSTART;TZID=America/New_York:20240131T193000
DTEND;TZID=America/New_York:20240131T210000
DTSTAMP:20260425T191759
CREATED:20230910T220458Z
LAST-MODIFIED:20240201T012048Z
UID:10008046-1706729400-1706734800@hrbcrichmond.org
SUMMARY:European Wind Ensemble Rehearsal
DESCRIPTION:
URL:https://hrbcrichmond.org/event/european-wind-ensemble-rehearsal-47/
LOCATION:Gym
END:VEVENT
BEGIN:VEVENT
DTSTART;TZID=America/New_York:20240131T163000
DTEND;TZID=America/New_York:20240131T180000
DTSTAMP:20260425T191759
CREATED:20240116T185718Z
LAST-MODIFIED:20240131T221545Z
UID:10008750-1706718600-1706724000@hrbcrichmond.org
SUMMARY:Basketball Open Gym
DESCRIPTION:
URL:https://hrbcrichmond.org/event/basketball-open-gym/
LOCATION:Gym
END:VEVENT
BEGIN:VEVENT
DTSTART;TZID=America/New_York:20240129T184500
DTEND;TZID=America/New_York:20240129T203000
DTSTAMP:20260425T191759
CREATED:20231205T170022Z
LAST-MODIFIED:20240130T002527Z
UID:10008538-1706553900-1706560200@hrbcrichmond.org
SUMMARY:Rockit Basketball Practice
DESCRIPTION:
URL:https://hrbcrichmond.org/event/rockit-basketball-practice-8/
LOCATION:Gym
END:VEVENT
BEGIN:VEVENT
DTSTART;TZID=America/New_York:20240125T190000
DTEND;TZID=America/New_York:20240125T200000
DTSTAMP:20260425T191759
CREATED:20231107T150020Z
LAST-MODIFIED:20240125T234529Z
UID:10008304-1706209200-1706212800@hrbcrichmond.org
SUMMARY:TR LINE Dancing
DESCRIPTION:
URL:https://hrbcrichmond.org/event/tr-line-dancing-16/
LOCATION:Gym
END:VEVENT
BEGIN:VEVENT
DTSTART;TZID=America/New_York:20240124T193000
DTEND;TZID=America/New_York:20240124T210000
DTSTAMP:20260425T191759
CREATED:20230906T235010Z
LAST-MODIFIED:20240125T010046Z
UID:10008030-1706124600-1706130000@hrbcrichmond.org
SUMMARY:European Wind Ensemble Rehearsal
DESCRIPTION:
URL:https://hrbcrichmond.org/event/european-wind-ensemble-rehearsal-46/
LOCATION:Gym
END:VEVENT
BEGIN:VEVENT
DTSTART;TZID=America/New_York:20240122T184500
DTEND;TZID=America/New_York:20240122T203000
DTSTAMP:20260425T191759
CREATED:20231205T170021Z
LAST-MODIFIED:20240123T005522Z
UID:10008537-1705949100-1705955400@hrbcrichmond.org
SUMMARY:Rockit Basketball Practice
DESCRIPTION:
URL:https://hrbcrichmond.org/event/rockit-basketball-practice-7/
LOCATION:Gym
END:VEVENT
BEGIN:VEVENT
DTSTART;TZID=America/New_York:20240118T190000
DTEND;TZID=America/New_York:20240118T200000
DTSTAMP:20260425T191759
CREATED:20231002T183336Z
LAST-MODIFIED:20240118T234039Z
UID:10008136-1705604400-1705608000@hrbcrichmond.org
SUMMARY:TR LINE Dancing
DESCRIPTION:
URL:https://hrbcrichmond.org/event/tr-line-dancing-8/
LOCATION:Gym
END:VEVENT
BEGIN:VEVENT
DTSTART;TZID=America/New_York:20240115T184500
DTEND;TZID=America/New_York:20240115T203000
DTSTAMP:20260425T191759
CREATED:20231205T170020Z
LAST-MODIFIED:20240116T013038Z
UID:10008536-1705344300-1705350600@hrbcrichmond.org
SUMMARY:Rockit Basketball Practice
DESCRIPTION:
URL:https://hrbcrichmond.org/event/rockit-basketball-practice-6/
LOCATION:Gym
END:VEVENT
BEGIN:VEVENT
DTSTART;TZID=America/New_York:20240110T193000
DTEND;TZID=America/New_York:20240110T210000
DTSTAMP:20260425T191759
CREATED:20230906T160424Z
LAST-MODIFIED:20240111T012010Z
UID:10007997-1704915000-1704920400@hrbcrichmond.org
SUMMARY:European Wind Ensemble Rehearsal
DESCRIPTION:
URL:https://hrbcrichmond.org/event/european-wind-ensemble-rehearsal-44/
LOCATION:Gym
END:VEVENT
BEGIN:VEVENT
DTSTART;TZID=America/New_York:20240108T184500
DTEND;TZID=America/New_York:20240108T203000
DTSTAMP:20260425T191759
CREATED:20231205T170020Z
LAST-MODIFIED:20240108T200526Z
UID:10008535-1704739500-1704745800@hrbcrichmond.org
SUMMARY:Rockit Basketball Practice
DESCRIPTION:
URL:https://hrbcrichmond.org/event/rockit-basketball-practice-5/
LOCATION:Gym
END:VEVENT
BEGIN:VEVENT
DTSTART;TZID=America/New_York:20231218T184500
DTEND;TZID=America/New_York:20231218T203000
DTSTAMP:20260425T191759
CREATED:20231205T170018Z
LAST-MODIFIED:20231219T013010Z
UID:10008533-1702925100-1702931400@hrbcrichmond.org
SUMMARY:Rockit Basketball Practice
DESCRIPTION:
URL:https://hrbcrichmond.org/event/rockit-basketball-practice-3/
LOCATION:Gym
END:VEVENT
BEGIN:VEVENT
DTSTART;TZID=America/New_York:20231213T193000
DTEND;TZID=America/New_York:20231213T210000
DTSTAMP:20260425T191759
CREATED:20230820T041534Z
LAST-MODIFIED:20231214T011021Z
UID:10007941-1702495800-1702501200@hrbcrichmond.org
SUMMARY:European Wind Ensemble Rehearsal
DESCRIPTION:
URL:https://hrbcrichmond.org/event/european-wind-ensemble-rehearsal-40/
LOCATION:Gym
END:VEVENT
BEGIN:VEVENT
DTSTART;TZID=America/New_York:20231211T184500
DTEND;TZID=America/New_York:20231211T203000
DTSTAMP:20260425T191759
CREATED:20231205T170017Z
LAST-MODIFIED:20231212T011513Z
UID:10008532-1702320300-1702326600@hrbcrichmond.org
SUMMARY:Rockit Basketball Practice
DESCRIPTION:
URL:https://hrbcrichmond.org/event/rockit-basketball-practice-2/
LOCATION:Gym
END:VEVENT
BEGIN:VEVENT
DTSTART;TZID=America/New_York:20231120T184500
DTEND;TZID=America/New_York:20231120T203000
DTSTAMP:20260425T191759
CREATED:20231117T214551Z
LAST-MODIFIED:20231121T002021Z
UID:10008516-1700505900-1700512200@hrbcrichmond.org
SUMMARY:Rockit Basketball Practice
DESCRIPTION:
URL:https://hrbcrichmond.org/event/rockit-basketball-practice/
LOCATION:Gym
END:VEVENT
BEGIN:VEVENT
DTSTART;TZID=America/New_York:20231115T193000
DTEND;TZID=America/New_York:20231115T210000
DTSTAMP:20260425T191759
CREATED:20230809T174832Z
LAST-MODIFIED:20231116T015026Z
UID:10007858-1700076600-1700082000@hrbcrichmond.org
SUMMARY:European Wind Ensemble Rehearsal
DESCRIPTION:
URL:https://hrbcrichmond.org/event/european-wind-ensemble-rehearsal-36/
LOCATION:Gym
END:VEVENT
BEGIN:VEVENT
DTSTART;TZID=America/New_York:20231108T193000
DTEND;TZID=America/New_York:20231108T210000
DTSTAMP:20260425T191759
CREATED:20230809T174758Z
LAST-MODIFIED:20231109T013517Z
UID:10007854-1699471800-1699477200@hrbcrichmond.org
SUMMARY:European Wind Ensemble Rehearsal
DESCRIPTION:
URL:https://hrbcrichmond.org/event/european-wind-ensemble-rehearsal-35/
LOCATION:Gym
END:VEVENT
BEGIN:VEVENT
DTSTART;TZID=America/New_York:20231101T193000
DTEND;TZID=America/New_York:20231101T210000
DTSTAMP:20260425T191759
CREATED:20230809T174723Z
LAST-MODIFIED:20231102T002539Z
UID:10007849-1698867000-1698872400@hrbcrichmond.org
SUMMARY:European Wind Ensemble Rehearsal
DESCRIPTION:
URL:https://hrbcrichmond.org/event/european-wind-ensemble-rehearsal-34/
LOCATION:Gym
END:VEVENT
BEGIN:VEVENT
DTSTART;TZID=America/New_York:20231025T193000
DTEND;TZID=America/New_York:20231025T210000
DTSTAMP:20260425T191759
CREATED:20230809T174649Z
LAST-MODIFIED:20231026T003014Z
UID:10007844-1698262200-1698267600@hrbcrichmond.org
SUMMARY:European Wind Ensemble Rehearsal
DESCRIPTION:
URL:https://hrbcrichmond.org/event/european-wind-ensemble-rehearsal-33/
LOCATION:Gym
END:VEVENT
BEGIN:VEVENT
DTSTART;TZID=America/New_York:20231018T193000
DTEND;TZID=America/New_York:20231018T210000
DTSTAMP:20260425T191759
CREATED:20230809T174615Z
LAST-MODIFIED:20231019T002019Z
UID:10007838-1697657400-1697662800@hrbcrichmond.org
SUMMARY:European Wind Ensemble Rehearsal
DESCRIPTION:
URL:https://hrbcrichmond.org/event/european-wind-ensemble-rehearsal-32/
LOCATION:Gym
END:VEVENT
BEGIN:VEVENT
DTSTART;TZID=America/New_York:20231011T193000
DTEND;TZID=America/New_York:20231011T210000
DTSTAMP:20260425T191759
CREATED:20230809T174542Z
LAST-MODIFIED:20231012T005021Z
UID:10007833-1697052600-1697058000@hrbcrichmond.org
SUMMARY:European Wind Ensemble Rehearsal
DESCRIPTION:
URL:https://hrbcrichmond.org/event/european-wind-ensemble-rehearsal-31/
LOCATION:Gym
END:VEVENT
BEGIN:VEVENT
DTSTART;TZID=America/New_York:20231004T193000
DTEND;TZID=America/New_York:20231004T210000
DTSTAMP:20260425T191759
CREATED:20230809T174505Z
LAST-MODIFIED:20231005T005524Z
UID:10007829-1696447800-1696453200@hrbcrichmond.org
SUMMARY:European Wind Ensemble Rehearsal
DESCRIPTION:
URL:https://hrbcrichmond.org/event/european-wind-ensemble-rehearsal-30/
LOCATION:Gym
END:VEVENT
BEGIN:VEVENT
DTSTART;TZID=America/New_York:20230927T193000
DTEND;TZID=America/New_York:20230927T210000
DTSTAMP:20260425T191759
CREATED:20230809T174430Z
LAST-MODIFIED:20230928T003016Z
UID:10007824-1695843000-1695848400@hrbcrichmond.org
SUMMARY:European Wind Ensemble Rehearsal
DESCRIPTION:
URL:https://hrbcrichmond.org/event/european-wind-ensemble-rehearsal-29/
LOCATION:Gym
END:VEVENT
BEGIN:VEVENT
DTSTART;TZID=America/New_York:20230920T193000
DTEND;TZID=America/New_York:20230920T210000
DTSTAMP:20260425T191759
CREATED:20230809T174354Z
LAST-MODIFIED:20230921T002511Z
UID:10007816-1695238200-1695243600@hrbcrichmond.org
SUMMARY:European Wind Ensemble Rehearsal
DESCRIPTION:
URL:https://hrbcrichmond.org/event/european-wind-ensemble-rehearsal-28/
LOCATION:Gym
END:VEVENT
BEGIN:VEVENT
DTSTART;TZID=America/New_York:20230913T193000
DTEND;TZID=America/New_York:20230913T210000
DTSTAMP:20260425T191759
CREATED:20230809T174308Z
LAST-MODIFIED:20230914T005525Z
UID:10007807-1694633400-1694638800@hrbcrichmond.org
SUMMARY:European Wind Ensemble Rehearsal
DESCRIPTION:
URL:https://hrbcrichmond.org/event/european-wind-ensemble-rehearsal-27/
LOCATION:Gym
END:VEVENT
BEGIN:VEVENT
DTSTART;TZID=America/New_York:20230906T193000
DTEND;TZID=America/New_York:20230906T210000
DTSTAMP:20260425T191759
CREATED:20230809T174232Z
LAST-MODIFIED:20230907T000509Z
UID:10007802-1694028600-1694034000@hrbcrichmond.org
SUMMARY:European Wind Ensemble Rehearsal
DESCRIPTION:
URL:https://hrbcrichmond.org/event/european-wind-ensemble-rehearsal-26/
LOCATION:Gym
END:VEVENT
END:VCALENDAR