BEGIN:VCALENDAR
VERSION:2.0
PRODID:-//Huguenot Road Baptist Church - ECPv6.15.20//NONSGML v1.0//EN
CALSCALE:GREGORIAN
METHOD:PUBLISH
X-ORIGINAL-URL:https://hrbcrichmond.org
X-WR-CALDESC:Events for Huguenot Road Baptist Church
REFRESH-INTERVAL;VALUE=DURATION:PT1H
X-Robots-Tag:noindex
X-PUBLISHED-TTL:PT1H
BEGIN:VTIMEZONE
TZID:America/New_York
BEGIN:DAYLIGHT
TZOFFSETFROM:-0500
TZOFFSETTO:-0400
TZNAME:EDT
DTSTART:20230312T070000
END:DAYLIGHT
BEGIN:STANDARD
TZOFFSETFROM:-0400
TZOFFSETTO:-0500
TZNAME:EST
DTSTART:20231105T060000
END:STANDARD
BEGIN:DAYLIGHT
TZOFFSETFROM:-0500
TZOFFSETTO:-0400
TZNAME:EDT
DTSTART:20240310T070000
END:DAYLIGHT
BEGIN:STANDARD
TZOFFSETFROM:-0400
TZOFFSETTO:-0500
TZNAME:EST
DTSTART:20241103T060000
END:STANDARD
BEGIN:DAYLIGHT
TZOFFSETFROM:-0500
TZOFFSETTO:-0400
TZNAME:EDT
DTSTART:20250309T070000
END:DAYLIGHT
BEGIN:STANDARD
TZOFFSETFROM:-0400
TZOFFSETTO:-0500
TZNAME:EST
DTSTART:20251102T060000
END:STANDARD
END:VTIMEZONE
BEGIN:VEVENT
DTSTART;TZID=America/New_York:20241030T193000
DTEND;TZID=America/New_York:20241030T210000
DTSTAMP:20260425T063243
CREATED:20240809T181303Z
LAST-MODIFIED:20241030T234536Z
UID:10009815-1730316600-1730322000@hrbcrichmond.org
SUMMARY:European Wind Ensemble Rehearsal
DESCRIPTION:
URL:https://hrbcrichmond.org/event/european-wind-ensemble-rehearsal-85/
LOCATION:Gym
END:VEVENT
BEGIN:VEVENT
DTSTART;TZID=America/New_York:20241023T193000
DTEND;TZID=America/New_York:20241023T210000
DTSTAMP:20260425T063243
CREATED:20240809T181226Z
LAST-MODIFIED:20241024T000040Z
UID:10009791-1729711800-1729717200@hrbcrichmond.org
SUMMARY:European Wind Ensemble Rehearsal
DESCRIPTION:
URL:https://hrbcrichmond.org/event/european-wind-ensemble-rehearsal-83/
LOCATION:Gym
END:VEVENT
BEGIN:VEVENT
DTSTART;TZID=America/New_York:20241016T193000
DTEND;TZID=America/New_York:20241016T210000
DTSTAMP:20260425T063243
CREATED:20240809T181137Z
LAST-MODIFIED:20241016T235041Z
UID:10009766-1729107000-1729112400@hrbcrichmond.org
SUMMARY:CANCELLED European Wind Ensemble Rehearsal
DESCRIPTION:
URL:https://hrbcrichmond.org/event/european-wind-ensemble-rehearsal-82/
LOCATION:Gym
END:VEVENT
BEGIN:VEVENT
DTSTART;TZID=America/New_York:20240911T193000
DTEND;TZID=America/New_York:20240911T210000
DTSTAMP:20260425T063243
CREATED:20240321T011626Z
LAST-MODIFIED:20240912T004528Z
UID:10009066-1726083000-1726088400@hrbcrichmond.org
SUMMARY:European Wind Ensemble Rehearsal
DESCRIPTION:
URL:https://hrbcrichmond.org/event/european-wind-ensemble-rehearsal-78/
LOCATION:Gym
END:VEVENT
BEGIN:VEVENT
DTSTART;TZID=America/New_York:20240904T193000
DTEND;TZID=America/New_York:20240904T210000
DTSTAMP:20260425T063243
CREATED:20240318T011112Z
LAST-MODIFIED:20240905T000027Z
UID:10009046-1725478200-1725483600@hrbcrichmond.org
SUMMARY:European Wind Ensemble Rehearsal
DESCRIPTION:
URL:https://hrbcrichmond.org/event/european-wind-ensemble-rehearsal-77/
LOCATION:Gym
END:VEVENT
BEGIN:VEVENT
DTSTART;TZID=America/New_York:20240828T193000
DTEND;TZID=America/New_York:20240828T210000
DTSTAMP:20260425T063243
CREATED:20240314T003629Z
LAST-MODIFIED:20240828T234545Z
UID:10009028-1724873400-1724878800@hrbcrichmond.org
SUMMARY:European Wind Ensemble Rehearsal
DESCRIPTION:
URL:https://hrbcrichmond.org/event/european-wind-ensemble-rehearsal-76/
LOCATION:Gym
END:VEVENT
BEGIN:VEVENT
DTSTART;TZID=America/New_York:20240821T193000
DTEND;TZID=America/New_York:20240821T210000
DTSTAMP:20260425T063243
CREATED:20240310T145102Z
LAST-MODIFIED:20240821T235616Z
UID:10009012-1724268600-1724274000@hrbcrichmond.org
SUMMARY:European Wind Ensemble Rehearsal
DESCRIPTION:
URL:https://hrbcrichmond.org/event/european-wind-ensemble-rehearsal-75/
LOCATION:Gym
END:VEVENT
BEGIN:VEVENT
DTSTART;TZID=America/New_York:20240815T190000
DTEND;TZID=America/New_York:20240815T200000
DTSTAMP:20260425T063243
CREATED:20240306T235621Z
LAST-MODIFIED:20240815T234557Z
UID:10008991-1723748400-1723752000@hrbcrichmond.org
SUMMARY:TR Line Dancing
DESCRIPTION:
URL:https://hrbcrichmond.org/event/tr-line-dancing-23/
LOCATION:Gym
END:VEVENT
BEGIN:VEVENT
DTSTART;TZID=America/New_York:20240814T193000
DTEND;TZID=America/New_York:20240814T210000
DTSTAMP:20260425T063243
CREATED:20240306T092119Z
LAST-MODIFIED:20240815T000020Z
UID:10008987-1723663800-1723669200@hrbcrichmond.org
SUMMARY:European Wind Ensemble Rehearsal
DESCRIPTION:
URL:https://hrbcrichmond.org/event/european-wind-ensemble-rehearsal-74/
LOCATION:Gym
END:VEVENT
BEGIN:VEVENT
DTSTART;TZID=America/New_York:20240808T190000
DTEND;TZID=America/New_York:20240808T200000
DTSTAMP:20260425T063243
CREATED:20240306T092117Z
LAST-MODIFIED:20240808T231040Z
UID:10008972-1723143600-1723147200@hrbcrichmond.org
SUMMARY:TR Line Dancing
DESCRIPTION:
URL:https://hrbcrichmond.org/event/tr-line-dancing-22/
LOCATION:Gym
END:VEVENT
BEGIN:VEVENT
DTSTART;TZID=America/New_York:20240807T193000
DTEND;TZID=America/New_York:20240807T210000
DTSTAMP:20260425T063243
CREATED:20240306T092116Z
LAST-MODIFIED:20240808T003524Z
UID:10008966-1723059000-1723064400@hrbcrichmond.org
SUMMARY:European Wind Ensemble Rehearsal
DESCRIPTION:
URL:https://hrbcrichmond.org/event/european-wind-ensemble-rehearsal-73/
LOCATION:Gym
END:VEVENT
BEGIN:VEVENT
DTSTART;TZID=America/New_York:20240801T190000
DTEND;TZID=America/New_York:20240801T200000
DTSTAMP:20260425T063243
CREATED:20240225T162113Z
LAST-MODIFIED:20240801T234519Z
UID:10008948-1722538800-1722542400@hrbcrichmond.org
SUMMARY:TR Line Dancing
DESCRIPTION:
URL:https://hrbcrichmond.org/event/tr-line-dancing-21/
LOCATION:Gym
END:VEVENT
BEGIN:VEVENT
DTSTART;TZID=America/New_York:20240619T193000
DTEND;TZID=America/New_York:20240619T210000
DTSTAMP:20260425T063243
CREATED:20240201T023603Z
LAST-MODIFIED:20240619T200016Z
UID:10008825-1718825400-1718830800@hrbcrichmond.org
SUMMARY:European Wind Ensemble Rehearsal
DESCRIPTION:
URL:https://hrbcrichmond.org/event/european-wind-ensemble-rehearsal-50/
LOCATION:Gym
END:VEVENT
BEGIN:VEVENT
DTSTART;TZID=America/New_York:20240612T193000
DTEND;TZID=America/New_York:20240612T210000
DTSTAMP:20260425T063243
CREATED:20240124T010601Z
LAST-MODIFIED:20240611T225041Z
UID:10008778-1718220600-1718226000@hrbcrichmond.org
SUMMARY:European Wind Ensemble Rehearsal
DESCRIPTION:
URL:https://hrbcrichmond.org/event/european-wind-ensemble-rehearsal-66/
LOCATION:Gym
END:VEVENT
BEGIN:VEVENT
DTSTART;TZID=America/New_York:20240605T193000
DTEND;TZID=America/New_York:20240605T210000
DTSTAMP:20260425T063243
CREATED:20240118T055106Z
LAST-MODIFIED:20240606T004018Z
UID:10008757-1717615800-1717621200@hrbcrichmond.org
SUMMARY:European Wind Ensemble Rehearsal
DESCRIPTION:
URL:https://hrbcrichmond.org/event/european-wind-ensemble-rehearsal-65/
LOCATION:Gym
END:VEVENT
BEGIN:VEVENT
DTSTART;TZID=America/New_York:20240529T193000
DTEND;TZID=America/New_York:20240529T210000
DTSTAMP:20260425T063243
CREATED:20240112T032053Z
LAST-MODIFIED:20240530T005552Z
UID:10008732-1717011000-1717016400@hrbcrichmond.org
SUMMARY:European Wind Ensemble Rehearsal
DESCRIPTION:
URL:https://hrbcrichmond.org/event/european-wind-ensemble-rehearsal-64/
LOCATION:Gym
END:VEVENT
BEGIN:VEVENT
DTSTART;TZID=America/New_York:20240522T193000
DTEND;TZID=America/New_York:20240522T210000
DTSTAMP:20260425T063243
CREATED:20231231T163742Z
LAST-MODIFIED:20240523T004039Z
UID:10008653-1716406200-1716411600@hrbcrichmond.org
SUMMARY:European Wind Ensemble Rehearsal
DESCRIPTION:
URL:https://hrbcrichmond.org/event/european-wind-ensemble-rehearsal-63/
LOCATION:Gym
END:VEVENT
BEGIN:VEVENT
DTSTART;TZID=America/New_York:20240515T193000
DTEND;TZID=America/New_York:20240515T210000
DTSTAMP:20260425T063244
CREATED:20231221T003116Z
LAST-MODIFIED:20240516T003030Z
UID:10008627-1715801400-1715806800@hrbcrichmond.org
SUMMARY:European Wind Ensemble Rehearsal
DESCRIPTION:
URL:https://hrbcrichmond.org/event/european-wind-ensemble-rehearsal-62/
LOCATION:Gym
END:VEVENT
BEGIN:VEVENT
DTSTART;TZID=America/New_York:20240508T193000
DTEND;TZID=America/New_York:20240508T210000
DTSTAMP:20260425T063244
CREATED:20231214T174231Z
LAST-MODIFIED:20240508T193033Z
UID:10008602-1715196600-1715202000@hrbcrichmond.org
SUMMARY:European Wind Ensemble Rehearsal
DESCRIPTION:
URL:https://hrbcrichmond.org/event/european-wind-ensemble-rehearsal-61/
LOCATION:Gym
END:VEVENT
BEGIN:VEVENT
DTSTART;TZID=America/New_York:20240501T193000
DTEND;TZID=America/New_York:20240501T210000
DTSTAMP:20260425T063244
CREATED:20231210T143540Z
LAST-MODIFIED:20240502T004548Z
UID:10008554-1714591800-1714597200@hrbcrichmond.org
SUMMARY:European Wind Ensemble Rehearsal
DESCRIPTION:
URL:https://hrbcrichmond.org/event/european-wind-ensemble-rehearsal-60/
LOCATION:Gym
END:VEVENT
BEGIN:VEVENT
DTSTART;TZID=America/New_York:20240501T163000
DTEND;TZID=America/New_York:20240501T180000
DTSTAMP:20260425T063244
CREATED:20240129T150557Z
LAST-MODIFIED:20240501T205041Z
UID:10008821-1714581000-1714586400@hrbcrichmond.org
SUMMARY:Basketball Open Gym
DESCRIPTION:
URL:https://hrbcrichmond.org/event/basketball-open-gym-14/
LOCATION:Gym
END:VEVENT
BEGIN:VEVENT
DTSTART;TZID=America/New_York:20240425T190000
DTEND;TZID=America/New_York:20240425T200000
DTSTAMP:20260425T063244
CREATED:20231113T011037Z
LAST-MODIFIED:20240425T230517Z
UID:10008410-1714071600-1714075200@hrbcrichmond.org
SUMMARY:TR LINE Dancing
DESCRIPTION:
URL:https://hrbcrichmond.org/event/tr-line-dancing-20/
LOCATION:Gym
END:VEVENT
BEGIN:VEVENT
DTSTART;TZID=America/New_York:20240424T193000
DTEND;TZID=America/New_York:20240424T210000
DTSTAMP:20260425T063244
CREATED:20231112T161625Z
LAST-MODIFIED:20240425T005015Z
UID:10008407-1713987000-1713992400@hrbcrichmond.org
SUMMARY:European Wind Ensemble Rehearsal
DESCRIPTION:
URL:https://hrbcrichmond.org/event/european-wind-ensemble-rehearsal-59/
LOCATION:Gym
END:VEVENT
BEGIN:VEVENT
DTSTART;TZID=America/New_York:20240424T163000
DTEND;TZID=America/New_York:20240424T180000
DTSTAMP:20260425T063244
CREATED:20240129T150554Z
LAST-MODIFIED:20240424T211528Z
UID:10008820-1713976200-1713981600@hrbcrichmond.org
SUMMARY:Basketball Open Gym
DESCRIPTION:
URL:https://hrbcrichmond.org/event/basketball-open-gym-13/
LOCATION:Gym
END:VEVENT
BEGIN:VEVENT
DTSTART;TZID=America/New_York:20240418T190000
DTEND;TZID=America/New_York:20240418T200000
DTSTAMP:20260425T063244
CREATED:20231109T174537Z
LAST-MODIFIED:20240418T231022Z
UID:10008390-1713466800-1713470400@hrbcrichmond.org
SUMMARY:TR LINE Dancing
DESCRIPTION:
URL:https://hrbcrichmond.org/event/tr-line-dancing-19/
LOCATION:Gym
END:VEVENT
BEGIN:VEVENT
DTSTART;TZID=America/New_York:20240417T193000
DTEND;TZID=America/New_York:20240417T210000
DTSTAMP:20260425T063244
CREATED:20231109T174536Z
LAST-MODIFIED:20240418T005035Z
UID:10008382-1713382200-1713387600@hrbcrichmond.org
SUMMARY:European Wind Ensemble Rehearsal
DESCRIPTION:
URL:https://hrbcrichmond.org/event/european-wind-ensemble-rehearsal-58/
LOCATION:Gym
END:VEVENT
BEGIN:VEVENT
DTSTART;TZID=America/New_York:20240417T163000
DTEND;TZID=America/New_York:20240417T180000
DTSTAMP:20260425T063244
CREATED:20240129T150551Z
LAST-MODIFIED:20240417T210018Z
UID:10008819-1713371400-1713376800@hrbcrichmond.org
SUMMARY:Basketball Open Gym
DESCRIPTION:
URL:https://hrbcrichmond.org/event/basketball-open-gym-12/
LOCATION:Gym
END:VEVENT
BEGIN:VEVENT
DTSTART;TZID=America/New_York:20240411T190000
DTEND;TZID=America/New_York:20240411T200000
DTSTAMP:20260425T063244
CREATED:20231109T174535Z
LAST-MODIFIED:20240412T000048Z
UID:10008366-1712862000-1712865600@hrbcrichmond.org
SUMMARY:TR LINE Dancing
DESCRIPTION:
URL:https://hrbcrichmond.org/event/tr-line-dancing-18/
LOCATION:Gym
END:VEVENT
BEGIN:VEVENT
DTSTART;TZID=America/New_York:20240410T193000
DTEND;TZID=America/New_York:20240410T210000
DTSTAMP:20260425T063244
CREATED:20240126T201858Z
LAST-MODIFIED:20240126T201858Z
UID:10008800-1712777400-1712782800@hrbcrichmond.org
SUMMARY:European Wind Ensemble Rehearsal
DESCRIPTION:
URL:https://hrbcrichmond.org/event/european-wind-ensemble-rehearsal-49/
LOCATION:Gym
END:VEVENT
BEGIN:VEVENT
DTSTART;TZID=America/New_York:20240410T163000
DTEND;TZID=America/New_York:20240410T180000
DTSTAMP:20260425T063244
CREATED:20240129T150547Z
LAST-MODIFIED:20240410T213519Z
UID:10008818-1712766600-1712772000@hrbcrichmond.org
SUMMARY:Basketball Open Gym
DESCRIPTION:
URL:https://hrbcrichmond.org/event/basketball-open-gym-11/
LOCATION:Gym
END:VEVENT
END:VCALENDAR