BEGIN:VCALENDAR
VERSION:2.0
PRODID:-//Huguenot Road Baptist Church - ECPv6.15.20//NONSGML v1.0//EN
CALSCALE:GREGORIAN
METHOD:PUBLISH
X-WR-CALNAME:Huguenot Road Baptist Church
X-ORIGINAL-URL:https://hrbcrichmond.org
X-WR-CALDESC:Events for Huguenot Road Baptist Church
REFRESH-INTERVAL;VALUE=DURATION:PT1H
X-Robots-Tag:noindex
X-PUBLISHED-TTL:PT1H
BEGIN:VTIMEZONE
TZID:America/New_York
BEGIN:DAYLIGHT
TZOFFSETFROM:-0500
TZOFFSETTO:-0400
TZNAME:EDT
DTSTART:20230312T070000
END:DAYLIGHT
BEGIN:STANDARD
TZOFFSETFROM:-0400
TZOFFSETTO:-0500
TZNAME:EST
DTSTART:20231105T060000
END:STANDARD
BEGIN:DAYLIGHT
TZOFFSETFROM:-0500
TZOFFSETTO:-0400
TZNAME:EDT
DTSTART:20240310T070000
END:DAYLIGHT
BEGIN:STANDARD
TZOFFSETFROM:-0400
TZOFFSETTO:-0500
TZNAME:EST
DTSTART:20241103T060000
END:STANDARD
BEGIN:DAYLIGHT
TZOFFSETFROM:-0500
TZOFFSETTO:-0400
TZNAME:EDT
DTSTART:20250309T070000
END:DAYLIGHT
BEGIN:STANDARD
TZOFFSETFROM:-0400
TZOFFSETTO:-0500
TZNAME:EST
DTSTART:20251102T060000
END:STANDARD
BEGIN:DAYLIGHT
TZOFFSETFROM:-0500
TZOFFSETTO:-0400
TZNAME:EDT
DTSTART:20260308T070000
END:DAYLIGHT
BEGIN:STANDARD
TZOFFSETFROM:-0400
TZOFFSETTO:-0500
TZNAME:EST
DTSTART:20261101T060000
END:STANDARD
END:VTIMEZONE
BEGIN:VEVENT
DTSTART;TZID=America/New_York:20250417T183000
DTEND;TZID=America/New_York:20250417T193000
DTSTAMP:20260425T174753
CREATED:20241107T194343Z
LAST-MODIFIED:20250417T221547Z
UID:10010683-1744914600-1744918200@hrbcrichmond.org
SUMMARY:TR Line Dancing
DESCRIPTION:
URL:https://hrbcrichmond.org/event/tr-line-dancing-39/
LOCATION:Family Life Center
END:VEVENT
BEGIN:VEVENT
DTSTART;TZID=America/New_York:20250410T183000
DTEND;TZID=America/New_York:20250410T193000
DTSTAMP:20260425T174753
CREATED:20241107T194312Z
LAST-MODIFIED:20250410T232524Z
UID:10010682-1744309800-1744313400@hrbcrichmond.org
SUMMARY:TR Line Dancing
DESCRIPTION:
URL:https://hrbcrichmond.org/event/tr-line-dancing-38/
LOCATION:Family Life Center
END:VEVENT
BEGIN:VEVENT
DTSTART;TZID=America/New_York:20250409T160000
DTEND;TZID=America/New_York:20250409T170000
DTSTAMP:20260425T174753
CREATED:20250311T154319Z
LAST-MODIFIED:20250409T195545Z
UID:10011505-1744214400-1744218000@hrbcrichmond.org
SUMMARY:Open Gym Basketball
DESCRIPTION:
URL:https://hrbcrichmond.org/event/open-gym-basketball-9/
LOCATION:Family Life Center
END:VEVENT
BEGIN:VEVENT
DTSTART;TZID=America/New_York:20250403T183000
DTEND;TZID=America/New_York:20250403T193000
DTSTAMP:20260425T174753
CREATED:20241107T194255Z
LAST-MODIFIED:20250403T223043Z
UID:10010681-1743705000-1743708600@hrbcrichmond.org
SUMMARY:TR Line Dancing
DESCRIPTION:
URL:https://hrbcrichmond.org/event/tr-line-dancing-37/
LOCATION:Family Life Center
END:VEVENT
BEGIN:VEVENT
DTSTART;TZID=America/New_York:20250402T160000
DTEND;TZID=America/New_York:20250402T170000
DTSTAMP:20260425T174753
CREATED:20250311T154243Z
LAST-MODIFIED:20250402T204528Z
UID:10011504-1743609600-1743613200@hrbcrichmond.org
SUMMARY:Open Gym Basketball
DESCRIPTION:
URL:https://hrbcrichmond.org/event/open-gym-basketball-8/
LOCATION:Family Life Center
END:VEVENT
BEGIN:VEVENT
DTSTART;TZID=America/New_York:20250327T183000
DTEND;TZID=America/New_York:20250327T193000
DTSTAMP:20260425T174753
CREATED:20241107T194221Z
LAST-MODIFIED:20250327T224522Z
UID:10010680-1743100200-1743103800@hrbcrichmond.org
SUMMARY:TR Line Dancing
DESCRIPTION:
URL:https://hrbcrichmond.org/event/tr-line-dancing-36/
LOCATION:Family Life Center
END:VEVENT
BEGIN:VEVENT
DTSTART;TZID=America/New_York:20250326T160000
DTEND;TZID=America/New_York:20250326T170000
DTSTAMP:20260425T174753
CREATED:20250311T154153Z
LAST-MODIFIED:20250326T201028Z
UID:10011503-1743004800-1743008400@hrbcrichmond.org
SUMMARY:Open Gym Basketball
DESCRIPTION:
URL:https://hrbcrichmond.org/event/open-gym-basketball-7/
LOCATION:Family Life Center
END:VEVENT
BEGIN:VEVENT
DTSTART;TZID=America/New_York:20250320T183000
DTEND;TZID=America/New_York:20250320T193000
DTSTAMP:20260425T174753
CREATED:20241107T194150Z
LAST-MODIFIED:20250320T231520Z
UID:10010679-1742495400-1742499000@hrbcrichmond.org
SUMMARY:TR Line Dancing
DESCRIPTION:
URL:https://hrbcrichmond.org/event/tr-line-dancing-35/
LOCATION:Family Life Center
END:VEVENT
BEGIN:VEVENT
DTSTART;TZID=America/New_York:20250319T160000
DTEND;TZID=America/New_York:20250319T170000
DTSTAMP:20260425T174753
CREATED:20250311T154117Z
LAST-MODIFIED:20250319T204541Z
UID:10011502-1742400000-1742403600@hrbcrichmond.org
SUMMARY:Open Gym Basketball
DESCRIPTION:
URL:https://hrbcrichmond.org/event/open-gym-basketball-6/
LOCATION:Family Life Center
END:VEVENT
BEGIN:VEVENT
DTSTART;TZID=America/New_York:20250313T183000
DTEND;TZID=America/New_York:20250313T193000
DTSTAMP:20260425T174753
CREATED:20241107T194117Z
LAST-MODIFIED:20250313T224111Z
UID:10010678-1741890600-1741894200@hrbcrichmond.org
SUMMARY:TR Line Dancing
DESCRIPTION:
URL:https://hrbcrichmond.org/event/tr-line-dancing-34/
LOCATION:Family Life Center
END:VEVENT
BEGIN:VEVENT
DTSTART;TZID=America/New_York:20250312T170000
DTEND;TZID=America/New_York:20250312T180000
DTSTAMP:20260425T174753
CREATED:20250311T142524Z
LAST-MODIFIED:20250312T210038Z
UID:10011500-1741798800-1741802400@hrbcrichmond.org
SUMMARY:Family Dinners with Family Ministries
DESCRIPTION:
URL:https://hrbcrichmond.org/event/family-dinners-with-family-ministries/
LOCATION:Family Life Center
END:VEVENT
BEGIN:VEVENT
DTSTART;TZID=America/New_York:20250312T160000
DTEND;TZID=America/New_York:20250312T170000
DTSTAMP:20260425T174753
CREATED:20250311T154022Z
LAST-MODIFIED:20250312T194555Z
UID:10011501-1741795200-1741798800@hrbcrichmond.org
SUMMARY:Open Gym Basketball
DESCRIPTION:
URL:https://hrbcrichmond.org/event/open-gym-basketball-5/
LOCATION:Family Life Center
END:VEVENT
BEGIN:VEVENT
DTSTART;TZID=America/New_York:20250309T114500
DTEND;TZID=America/New_York:20250309T144500
DTSTAMP:20260425T174753
CREATED:20241119T183408Z
LAST-MODIFIED:20250309T183049Z
UID:10010761-1741520700-1741531500@hrbcrichmond.org
SUMMARY:Lunches and Furniture for CARITAS
DESCRIPTION:
URL:https://hrbcrichmond.org/event/lunches-and-furniture-for-caritas/
LOCATION:Family Life Center
END:VEVENT
BEGIN:VEVENT
DTSTART;TZID=America/New_York:20250308T120000
DTEND;TZID=America/New_York:20250308T140000
DTSTAMP:20260425T174753
CREATED:20250306T163554Z
LAST-MODIFIED:20250308T184046Z
UID:10011475-1741435200-1741442400@hrbcrichmond.org
SUMMARY:Hage Reception
DESCRIPTION:
URL:https://hrbcrichmond.org/event/hage-reception/
LOCATION:Family Life Center
END:VEVENT
BEGIN:VEVENT
DTSTART;TZID=America/New_York:20250307T180000
DTEND;TZID=America/New_York:20250307T200000
DTSTAMP:20260425T174753
CREATED:20250117T013037Z
LAST-MODIFIED:20250308T001559Z
UID:10011069-1741370400-1741377600@hrbcrichmond.org
SUMMARY:Church-Wide Pancake Supper & Fellowship
DESCRIPTION:
URL:https://hrbcrichmond.org/event/church-wide-pancake-supper-fellowship/
LOCATION:Family Life Center
END:VEVENT
BEGIN:VEVENT
DTSTART;TZID=America/New_York:20250306T183000
DTEND;TZID=America/New_York:20250306T193000
DTSTAMP:20260425T174753
CREATED:20241107T194046Z
LAST-MODIFIED:20250306T233047Z
UID:10010677-1741285800-1741289400@hrbcrichmond.org
SUMMARY:TR Line Dancing
DESCRIPTION:
URL:https://hrbcrichmond.org/event/tr-line-dancing-33/
LOCATION:Family Life Center
END:VEVENT
BEGIN:VEVENT
DTSTART;TZID=America/New_York:20250227T183000
DTEND;TZID=America/New_York:20250227T193000
DTSTAMP:20260425T174753
CREATED:20241107T194014Z
LAST-MODIFIED:20250228T001557Z
UID:10010676-1740681000-1740684600@hrbcrichmond.org
SUMMARY:TR Line Dancing
DESCRIPTION:
URL:https://hrbcrichmond.org/event/tr-line-dancing-32/
LOCATION:Family Life Center
END:VEVENT
BEGIN:VEVENT
DTSTART;TZID=America/New_York:20250222T150000
DTEND;TZID=America/New_York:20250222T170000
DTSTAMP:20260425T174753
CREATED:20250218T192617Z
LAST-MODIFIED:20250222T213052Z
UID:10011412-1740236400-1740243600@hrbcrichmond.org
SUMMARY:Memorial Reception
DESCRIPTION:
URL:https://hrbcrichmond.org/event/memorial-reception/
LOCATION:Family Life Center
END:VEVENT
BEGIN:VEVENT
DTSTART;TZID=America/New_York:20250220T183000
DTEND;TZID=America/New_York:20250220T193000
DTSTAMP:20260425T174753
CREATED:20241107T193941Z
LAST-MODIFIED:20250220T235557Z
UID:10010675-1740076200-1740079800@hrbcrichmond.org
SUMMARY:TR Line Dancing
DESCRIPTION:
URL:https://hrbcrichmond.org/event/tr-line-dancing-31/
LOCATION:Family Life Center
END:VEVENT
BEGIN:VEVENT
DTSTART;TZID=America/New_York:20250220T130000
DTEND;TZID=America/New_York:20250220T160000
DTSTAMP:20260425T174753
CREATED:20241230T153440Z
LAST-MODIFIED:20250220T195546Z
UID:10010931-1740056400-1740067200@hrbcrichmond.org
SUMMARY:PrimerTimers' Event- "The Life of a Civil War Soldier"\, presented by Ken Chandler
DESCRIPTION:
URL:https://hrbcrichmond.org/event/primertimers-event-the-life-of-a-civil-war-soldier-presented-by-ken-chandler/
LOCATION:Family Life Center
END:VEVENT
BEGIN:VEVENT
DTSTART;TZID=America/New_York:20250202T113000
DTEND;TZID=America/New_York:20250202T170000
DTSTAMP:20260425T174753
CREATED:20241016T162456Z
LAST-MODIFIED:20250202T204549Z
UID:10010254-1738495800-1738515600@hrbcrichmond.org
SUMMARY:Jill's Blankets
DESCRIPTION:
URL:https://hrbcrichmond.org/event/jills-blankets/
LOCATION:Family Life Center
END:VEVENT
BEGIN:VEVENT
DTSTART;TZID=America/New_York:20250131T133000
DTEND;TZID=America/New_York:20250131T163000
DTSTAMP:20260425T174753
CREATED:20250117T012726Z
LAST-MODIFIED:20250131T201040Z
UID:10011068-1738330200-1738341000@hrbcrichmond.org
SUMMARY:Jill's Blankets Cutting Events
DESCRIPTION:
URL:https://hrbcrichmond.org/event/jills-blankets-cutting-events-2/
LOCATION:Family Life Center
END:VEVENT
BEGIN:VEVENT
DTSTART;TZID=America/New_York:20250124T133000
DTEND;TZID=America/New_York:20250124T163000
DTSTAMP:20260425T174753
CREATED:20250117T012652Z
LAST-MODIFIED:20250124T202601Z
UID:10011067-1737725400-1737736200@hrbcrichmond.org
SUMMARY:Jill's Blankets Cutting Events
DESCRIPTION:
URL:https://hrbcrichmond.org/event/jills-blankets-cutting-events/
LOCATION:Family Life Center
END:VEVENT
BEGIN:VEVENT
DTSTART;TZID=America/New_York:20241218T180000
DTEND;TZID=America/New_York:20241218T191500
DTSTAMP:20260425T174753
CREATED:20240809T181754Z
LAST-MODIFIED:20241218T234119Z
UID:10009905-1734544800-1734549300@hrbcrichmond.org
SUMMARY:Reindeer Games
DESCRIPTION:
URL:https://hrbcrichmond.org/event/dive-in-youth-51/
LOCATION:Family Life Center
END:VEVENT
BEGIN:VEVENT
DTSTART;TZID=America/New_York:20241218T120000
DTEND;TZID=America/New_York:20241218T130000
DTSTAMP:20260425T174753
CREATED:20241119T182852Z
LAST-MODIFIED:20241218T171531Z
UID:10010760-1734523200-1734526800@hrbcrichmond.org
SUMMARY:CDC Celebration of Christmas
DESCRIPTION:
URL:https://hrbcrichmond.org/event/cdc-preschool-celebration-of-christmas/
LOCATION:Family Life Center
CATEGORIES:Advent
END:VEVENT
BEGIN:VEVENT
DTSTART;TZID=America/New_York:20241205T183000
DTEND;TZID=America/New_York:20241205T193000
DTSTAMP:20260425T174753
CREATED:20240903T172430Z
LAST-MODIFIED:20241205T233049Z
UID:10010069-1733423400-1733427000@hrbcrichmond.org
SUMMARY:TR Line Dancing
DESCRIPTION:
URL:https://hrbcrichmond.org/event/tr-line-dancing-30/
LOCATION:Family Life Center
END:VEVENT
BEGIN:VEVENT
DTSTART;TZID=America/New_York:20241121T183000
DTEND;TZID=America/New_York:20241121T193000
DTSTAMP:20260425T174753
CREATED:20240903T172313Z
LAST-MODIFIED:20241121T233102Z
UID:10010067-1732213800-1732217400@hrbcrichmond.org
SUMMARY:TR Line Dancing
DESCRIPTION:
URL:https://hrbcrichmond.org/event/tr-line-dancing-28/
LOCATION:Family Life Center
END:VEVENT
BEGIN:VEVENT
DTSTART;TZID=America/New_York:20241107T183000
DTEND;TZID=America/New_York:20241107T193000
DTSTAMP:20260425T174753
CREATED:20240903T172143Z
LAST-MODIFIED:20241107T233049Z
UID:10010065-1731004200-1731007800@hrbcrichmond.org
SUMMARY:TR Line Dancing
DESCRIPTION:
URL:https://hrbcrichmond.org/event/tr-line-dancing-26/
LOCATION:Family Life Center
END:VEVENT
BEGIN:VEVENT
DTSTART;TZID=America/New_York:20241103T114500
DTEND;TZID=America/New_York:20241103T144500
DTSTAMP:20260425T174753
CREATED:20240821T173257Z
LAST-MODIFIED:20241103T185547Z
UID:10009995-1730634300-1730645100@hrbcrichmond.org
SUMMARY:Missions Team Operation Christmas Child
DESCRIPTION:
URL:https://hrbcrichmond.org/event/missions-team-operation-christmas-child/
LOCATION:Family Life Center
END:VEVENT
BEGIN:VEVENT
DTSTART;TZID=America/New_York:20241031T183000
DTEND;TZID=America/New_York:20241031T193000
DTSTAMP:20260425T174753
CREATED:20240903T172111Z
LAST-MODIFIED:20241031T222606Z
UID:10010064-1730399400-1730403000@hrbcrichmond.org
SUMMARY:TR Line Dancing
DESCRIPTION:
URL:https://hrbcrichmond.org/event/tr-line-dancing-25/
LOCATION:Family Life Center
END:VEVENT
END:VCALENDAR