BEGIN:VCALENDAR
VERSION:2.0
PRODID:-//Huguenot Road Baptist Church - ECPv6.15.20//NONSGML v1.0//EN
CALSCALE:GREGORIAN
METHOD:PUBLISH
X-WR-CALNAME:Huguenot Road Baptist Church
X-ORIGINAL-URL:https://hrbcrichmond.org
X-WR-CALDESC:Events for Huguenot Road Baptist Church
REFRESH-INTERVAL;VALUE=DURATION:PT1H
X-Robots-Tag:noindex
X-PUBLISHED-TTL:PT1H
BEGIN:VTIMEZONE
TZID:America/New_York
BEGIN:DAYLIGHT
TZOFFSETFROM:-0500
TZOFFSETTO:-0400
TZNAME:EDT
DTSTART:20240310T070000
END:DAYLIGHT
BEGIN:STANDARD
TZOFFSETFROM:-0400
TZOFFSETTO:-0500
TZNAME:EST
DTSTART:20241103T060000
END:STANDARD
BEGIN:DAYLIGHT
TZOFFSETFROM:-0500
TZOFFSETTO:-0400
TZNAME:EDT
DTSTART:20250309T070000
END:DAYLIGHT
BEGIN:STANDARD
TZOFFSETFROM:-0400
TZOFFSETTO:-0500
TZNAME:EST
DTSTART:20251102T060000
END:STANDARD
BEGIN:DAYLIGHT
TZOFFSETFROM:-0500
TZOFFSETTO:-0400
TZNAME:EDT
DTSTART:20260308T070000
END:DAYLIGHT
BEGIN:STANDARD
TZOFFSETFROM:-0400
TZOFFSETTO:-0500
TZNAME:EST
DTSTART:20261101T060000
END:STANDARD
BEGIN:DAYLIGHT
TZOFFSETFROM:-0500
TZOFFSETTO:-0400
TZNAME:EDT
DTSTART:20270314T070000
END:DAYLIGHT
BEGIN:STANDARD
TZOFFSETFROM:-0400
TZOFFSETTO:-0500
TZNAME:EST
DTSTART:20271107T060000
END:STANDARD
END:VTIMEZONE
BEGIN:VEVENT
DTSTART;TZID=America/New_York:20260222T113000
DTEND;TZID=America/New_York:20260222T173000
DTSTAMP:20260425T142443
CREATED:20250822T174553Z
LAST-MODIFIED:20260222T215556Z
UID:10012192-1771759800-1771781400@hrbcrichmond.org
SUMMARY:Jill's Blankets
DESCRIPTION:
URL:https://hrbcrichmond.org/event/jills-blankets-2/
LOCATION:Family Life Center
END:VEVENT
BEGIN:VEVENT
DTSTART;TZID=America/New_York:20260215T163000
DTEND;TZID=America/New_York:20260215T213000
DTSTAMP:20260425T142443
CREATED:20251229T171300Z
LAST-MODIFIED:20260216T021051Z
UID:10012793-1771173000-1771191000@hrbcrichmond.org
SUMMARY:Movie Night
DESCRIPTION:
URL:https://hrbcrichmond.org/event/movie-night/
LOCATION:Family Life Center
END:VEVENT
BEGIN:VEVENT
DTSTART;TZID=America/New_York:20260214T170000
DTEND;TZID=America/New_York:20260214T193000
DTSTAMP:20260425T142443
CREATED:20251203T184425Z
LAST-MODIFIED:20260214T235556Z
UID:10012708-1771088400-1771097400@hrbcrichmond.org
SUMMARY:PrimeTimers' Valentine's Dinner
DESCRIPTION:
URL:https://hrbcrichmond.org/event/possible-primetimers-dinner/
LOCATION:Family Life Center
END:VEVENT
BEGIN:VEVENT
DTSTART;TZID=America/New_York:20260118T113000
DTEND;TZID=America/New_York:20260118T133000
DTSTAMP:20260425T142443
CREATED:20251211T214200Z
LAST-MODIFIED:20260118T182526Z
UID:10012742-1768735800-1768743000@hrbcrichmond.org
SUMMARY:Tentative: SS appreciation luncheon
DESCRIPTION:
URL:https://hrbcrichmond.org/event/tentative-ss-appreciation-luncheon/
LOCATION:Family Life Center
END:VEVENT
BEGIN:VEVENT
DTSTART;TZID=America/New_York:20251123T090000
DTEND;TZID=America/New_York:20251123T100000
DTSTAMP:20260425T142443
CREATED:20250501T005947Z
LAST-MODIFIED:20251123T145539Z
UID:10011777-1763888400-1763892000@hrbcrichmond.org
SUMMARY:Thanksgiving Day Breakfast
DESCRIPTION:
URL:https://hrbcrichmond.org/event/mens-food-fellowship-breakfast-54/
LOCATION:Family Life Center
END:VEVENT
BEGIN:VEVENT
DTSTART;TZID=America/New_York:20251120T180000
DTEND;TZID=America/New_York:20251120T193000
DTSTAMP:20260425T142443
CREATED:20251106T142659Z
LAST-MODIFIED:20251121T002548Z
UID:10012571-1763661600-1763667000@hrbcrichmond.org
SUMMARY:CDC Fall Dinner of Thanks
DESCRIPTION:
URL:https://hrbcrichmond.org/event/cdc-fall-dinner-of-thanks/
LOCATION:Family Life Center
END:VEVENT
BEGIN:VEVENT
DTSTART;TZID=America/New_York:20251119T180000
DTEND;TZID=America/New_York:20251119T190000
DTSTAMP:20260425T142443
CREATED:20250825T175249Z
LAST-MODIFIED:20251119T232543Z
UID:10012262-1763575200-1763578800@hrbcrichmond.org
SUMMARY:Friendsgiving Fellowship
DESCRIPTION:
URL:https://hrbcrichmond.org/event/dive-in-youth-101/
LOCATION:Family Life Center
END:VEVENT
BEGIN:VEVENT
DTSTART;TZID=America/New_York:20251109T114500
DTEND;TZID=America/New_York:20251109T141500
DTSTAMP:20260425T142443
CREATED:20250919T133405Z
LAST-MODIFIED:20251109T184037Z
UID:10012400-1762688700-1762697700@hrbcrichmond.org
SUMMARY:Operation Christmas Child packing event and lunch
DESCRIPTION:
URL:https://hrbcrichmond.org/event/operation-christmas-child-packing-event-and-lunch/
LOCATION:Family Life Center
END:VEVENT
BEGIN:VEVENT
DTSTART;TZID=America/New_York:20251108T100000
DTEND;TZID=America/New_York:20251108T140000
DTSTAMP:20260425T142443
CREATED:20250919T133350Z
LAST-MODIFIED:20251108T185542Z
UID:10012399-1762596000-1762610400@hrbcrichmond.org
SUMMARY:Operation Christmas Child packing event set up
DESCRIPTION:
URL:https://hrbcrichmond.org/event/operation-christmas-child-packing-event-set-up/
LOCATION:Family Life Center
END:VEVENT
BEGIN:VEVENT
DTSTART;TZID=America/New_York:20251107T143000
DTEND;TZID=America/New_York:20251107T163000
DTSTAMP:20260425T142443
CREATED:20251031T171100Z
LAST-MODIFIED:20251107T202555Z
UID:10012550-1762525800-1762533000@hrbcrichmond.org
SUMMARY:Bradley Reception
DESCRIPTION:
URL:https://hrbcrichmond.org/event/bradley-reception/
LOCATION:Family Life Center
END:VEVENT
BEGIN:VEVENT
DTSTART;TZID=America/New_York:20250906T140000
DTEND;TZID=America/New_York:20250906T163000
DTSTAMP:20260425T142443
CREATED:20250818T185701Z
LAST-MODIFIED:20250906T194530Z
UID:10012188-1757167200-1757176200@hrbcrichmond.org
SUMMARY:Davis Reception
DESCRIPTION:
URL:https://hrbcrichmond.org/event/davis-reception/
LOCATION:Family Life Center
END:VEVENT
BEGIN:VEVENT
DTSTART;TZID=America/New_York:20250724T140000
DTEND;TZID=America/New_York:20250724T153000
DTSTAMP:20260425T142443
CREATED:20250724T123038Z
LAST-MODIFIED:20250724T185534Z
UID:10012089-1753365600-1753371000@hrbcrichmond.org
SUMMARY:Prime Timers' "Life of a Civil War Soldier"
DESCRIPTION:
URL:https://hrbcrichmond.org/event/prime-timers-life-of-a-civil-war-soldier/
LOCATION:Family Life Center
END:VEVENT
BEGIN:VEVENT
DTSTART;TZID=America/New_York:20250703T120000
DTEND;TZID=America/New_York:20250703T140000
DTSTAMP:20260425T142443
CREATED:20250626T153106Z
LAST-MODIFIED:20250703T164546Z
UID:10012011-1751544000-1751551200@hrbcrichmond.org
SUMMARY:Reception for Bob Sangster
DESCRIPTION:
URL:https://hrbcrichmond.org/event/reception-for-bob-sangster/
LOCATION:Family Life Center
END:VEVENT
BEGIN:VEVENT
DTSTART;TZID=America/New_York:20250608T113000
DTEND;TZID=America/New_York:20250608T133000
DTSTAMP:20260425T142443
CREATED:20250603T172554Z
LAST-MODIFIED:20250608T171525Z
UID:10011893-1749382200-1749389400@hrbcrichmond.org
SUMMARY:Heritage Day Luncheon
DESCRIPTION:
URL:https://hrbcrichmond.org/event/heritage-day-luncheon/
LOCATION:Family Life Center
END:VEVENT
BEGIN:VEVENT
DTSTART;TZID=America/New_York:20250606T090000
DTEND;TZID=America/New_York:20250606T170000
DTSTAMP:20260425T142443
CREATED:20250508T194747Z
LAST-MODIFIED:20250606T194553Z
UID:10011813-1749200400-1749229200@hrbcrichmond.org
SUMMARY:Set Up Heritage Day
DESCRIPTION:
URL:https://hrbcrichmond.org/event/set-up-heritage-day/
LOCATION:Family Life Center
END:VEVENT
BEGIN:VEVENT
DTSTART;TZID=America/New_York:20250519T140000
DTEND;TZID=America/New_York:20250519T160000
DTSTAMP:20260425T142443
CREATED:20250507T144623Z
LAST-MODIFIED:20250519T193016Z
UID:10011805-1747663200-1747670400@hrbcrichmond.org
SUMMARY:Memorial Reception
DESCRIPTION:
URL:https://hrbcrichmond.org/event/hold-open-5/
LOCATION:Family Life Center
END:VEVENT
BEGIN:VEVENT
DTSTART;TZID=America/New_York:20250508T183000
DTEND;TZID=America/New_York:20250508T193000
DTSTAMP:20260425T142443
CREATED:20250203T204917Z
LAST-MODIFIED:20250508T221529Z
UID:10011211-1746729000-1746732600@hrbcrichmond.org
SUMMARY:TR Line Dancing
DESCRIPTION:
URL:https://hrbcrichmond.org/event/tr-line-dancing-42/
LOCATION:Family Life Center
END:VEVENT
BEGIN:VEVENT
DTSTART;TZID=America/New_York:20250502T190000
DTEND;TZID=America/New_York:20250502T220000
DTSTAMP:20260425T142443
CREATED:20250430T140049Z
LAST-MODIFIED:20250503T010039Z
UID:10011770-1746212400-1746223200@hrbcrichmond.org
SUMMARY:Youth Night Out
DESCRIPTION:
URL:https://hrbcrichmond.org/event/youth-pot-luck/
LOCATION:Family Life Center
END:VEVENT
BEGIN:VEVENT
DTSTART;TZID=America/New_York:20250501T183000
DTEND;TZID=America/New_York:20250501T193000
DTSTAMP:20260425T142443
CREATED:20250203T204835Z
LAST-MODIFIED:20250501T222544Z
UID:10011188-1746124200-1746127800@hrbcrichmond.org
SUMMARY:TR Line Dancing
DESCRIPTION:
URL:https://hrbcrichmond.org/event/tr-line-dancing-41/
LOCATION:Family Life Center
END:VEVENT
BEGIN:VEVENT
DTSTART;TZID=America/New_York:20250430T190000
DTEND;TZID=America/New_York:20250430T203000
DTSTAMP:20260425T142443
CREATED:20250423T203110Z
LAST-MODIFIED:20250430T232532Z
UID:10011739-1746039600-1746045000@hrbcrichmond.org
SUMMARY:European Wind Ensemble Rehearsal
DESCRIPTION:
URL:https://hrbcrichmond.org/event/european-wind-ensemble-rehearsal-131/
LOCATION:Family Life Center
END:VEVENT
BEGIN:VEVENT
DTSTART;TZID=America/New_York:20250424T190000
DTEND;TZID=America/New_York:20250424T200000
DTSTAMP:20260425T142443
CREATED:20241110T184333Z
LAST-MODIFIED:20250424T234540Z
UID:10010687-1745521200-1745524800@hrbcrichmond.org
SUMMARY:TR Line Dancing
DESCRIPTION:
URL:https://hrbcrichmond.org/event/tr-line-dancing-40/
LOCATION:Family Life Center
END:VEVENT
BEGIN:VEVENT
DTSTART;TZID=America/New_York:20250424T173000
DTEND;TZID=America/New_York:20250424T190000
DTSTAMP:20260425T142443
CREATED:20250313T150454Z
LAST-MODIFIED:20250424T223036Z
UID:10011514-1745515800-1745521200@hrbcrichmond.org
SUMMARY:CDC Art Show
DESCRIPTION:
URL:https://hrbcrichmond.org/event/cdc-art-show/
LOCATION:Family Life Center
END:VEVENT
BEGIN:VEVENT
DTSTART;TZID=America/New_York:20250423T160000
DTEND;TZID=America/New_York:20250423T170000
DTSTAMP:20260425T142443
CREATED:20250311T154456Z
LAST-MODIFIED:20250423T203037Z
UID:10011507-1745424000-1745427600@hrbcrichmond.org
SUMMARY:Open Gym Basketball
DESCRIPTION:
URL:https://hrbcrichmond.org/event/open-gym-basketball-11/
LOCATION:Family Life Center
END:VEVENT
BEGIN:VEVENT
DTSTART;TZID=America/New_York:20250422T120000
DTEND;TZID=America/New_York:20250422T133000
DTSTAMP:20260425T142443
CREATED:20250109T012717Z
LAST-MODIFIED:20250422T164010Z
UID:10010952-1745323200-1745328600@hrbcrichmond.org
SUMMARY:Chesterfield Parks & Recreation Spring Luncheon
DESCRIPTION:
URL:https://hrbcrichmond.org/event/chesterfield-parks-recreation-spring-luncheon/
LOCATION:Family Life Center
END:VEVENT
BEGIN:VEVENT
DTSTART;TZID=America/New_York:20250417T183000
DTEND;TZID=America/New_York:20250417T193000
DTSTAMP:20260425T142443
CREATED:20241107T194343Z
LAST-MODIFIED:20250417T221547Z
UID:10010683-1744914600-1744918200@hrbcrichmond.org
SUMMARY:TR Line Dancing
DESCRIPTION:
URL:https://hrbcrichmond.org/event/tr-line-dancing-39/
LOCATION:Family Life Center
END:VEVENT
BEGIN:VEVENT
DTSTART;TZID=America/New_York:20250410T183000
DTEND;TZID=America/New_York:20250410T193000
DTSTAMP:20260425T142443
CREATED:20241107T194312Z
LAST-MODIFIED:20250410T232524Z
UID:10010682-1744309800-1744313400@hrbcrichmond.org
SUMMARY:TR Line Dancing
DESCRIPTION:
URL:https://hrbcrichmond.org/event/tr-line-dancing-38/
LOCATION:Family Life Center
END:VEVENT
BEGIN:VEVENT
DTSTART;TZID=America/New_York:20250409T160000
DTEND;TZID=America/New_York:20250409T170000
DTSTAMP:20260425T142443
CREATED:20250311T154319Z
LAST-MODIFIED:20250409T195545Z
UID:10011505-1744214400-1744218000@hrbcrichmond.org
SUMMARY:Open Gym Basketball
DESCRIPTION:
URL:https://hrbcrichmond.org/event/open-gym-basketball-9/
LOCATION:Family Life Center
END:VEVENT
BEGIN:VEVENT
DTSTART;TZID=America/New_York:20250403T183000
DTEND;TZID=America/New_York:20250403T193000
DTSTAMP:20260425T142443
CREATED:20241107T194255Z
LAST-MODIFIED:20250403T223043Z
UID:10010681-1743705000-1743708600@hrbcrichmond.org
SUMMARY:TR Line Dancing
DESCRIPTION:
URL:https://hrbcrichmond.org/event/tr-line-dancing-37/
LOCATION:Family Life Center
END:VEVENT
BEGIN:VEVENT
DTSTART;TZID=America/New_York:20250402T160000
DTEND;TZID=America/New_York:20250402T170000
DTSTAMP:20260425T142443
CREATED:20250311T154243Z
LAST-MODIFIED:20250402T204528Z
UID:10011504-1743609600-1743613200@hrbcrichmond.org
SUMMARY:Open Gym Basketball
DESCRIPTION:
URL:https://hrbcrichmond.org/event/open-gym-basketball-8/
LOCATION:Family Life Center
END:VEVENT
BEGIN:VEVENT
DTSTART;TZID=America/New_York:20250327T183000
DTEND;TZID=America/New_York:20250327T193000
DTSTAMP:20260425T142443
CREATED:20241107T194221Z
LAST-MODIFIED:20250327T224522Z
UID:10010680-1743100200-1743103800@hrbcrichmond.org
SUMMARY:TR Line Dancing
DESCRIPTION:
URL:https://hrbcrichmond.org/event/tr-line-dancing-36/
LOCATION:Family Life Center
END:VEVENT
END:VCALENDAR