BEGIN:VCALENDAR
VERSION:2.0
PRODID:-//Huguenot Road Baptist Church - ECPv6.15.20//NONSGML v1.0//EN
CALSCALE:GREGORIAN
METHOD:PUBLISH
X-WR-CALNAME:Huguenot Road Baptist Church
X-ORIGINAL-URL:https://hrbcrichmond.org
X-WR-CALDESC:Events for Huguenot Road Baptist Church
REFRESH-INTERVAL;VALUE=DURATION:PT1H
X-Robots-Tag:noindex
X-PUBLISHED-TTL:PT1H
BEGIN:VTIMEZONE
TZID:America/New_York
BEGIN:DAYLIGHT
TZOFFSETFROM:-0500
TZOFFSETTO:-0400
TZNAME:EDT
DTSTART:20230312T070000
END:DAYLIGHT
BEGIN:STANDARD
TZOFFSETFROM:-0400
TZOFFSETTO:-0500
TZNAME:EST
DTSTART:20231105T060000
END:STANDARD
BEGIN:DAYLIGHT
TZOFFSETFROM:-0500
TZOFFSETTO:-0400
TZNAME:EDT
DTSTART:20240310T070000
END:DAYLIGHT
BEGIN:STANDARD
TZOFFSETFROM:-0400
TZOFFSETTO:-0500
TZNAME:EST
DTSTART:20241103T060000
END:STANDARD
BEGIN:DAYLIGHT
TZOFFSETFROM:-0500
TZOFFSETTO:-0400
TZNAME:EDT
DTSTART:20250309T070000
END:DAYLIGHT
BEGIN:STANDARD
TZOFFSETFROM:-0400
TZOFFSETTO:-0500
TZNAME:EST
DTSTART:20251102T060000
END:STANDARD
BEGIN:DAYLIGHT
TZOFFSETFROM:-0500
TZOFFSETTO:-0400
TZNAME:EDT
DTSTART:20260308T070000
END:DAYLIGHT
BEGIN:STANDARD
TZOFFSETFROM:-0400
TZOFFSETTO:-0500
TZNAME:EST
DTSTART:20261101T060000
END:STANDARD
END:VTIMEZONE
BEGIN:VEVENT
DTSTART;TZID=America/New_York:20250820T100000
DTEND;TZID=America/New_York:20250820T120000
DTSTAMP:20260425T111548
CREATED:20250812T191117Z
LAST-MODIFIED:20250820T194238Z
UID:10012161-1755684000-1755691200@hrbcrichmond.org
SUMMARY:Discipleship Work Session
DESCRIPTION:
URL:https://hrbcrichmond.org/event/discipleship-work-session/
LOCATION:Cousins Room
END:VEVENT
BEGIN:VEVENT
DTSTART;TZID=America/New_York:20250814T184500
DTEND;TZID=America/New_York:20250814T203000
DTSTAMP:20260425T111548
CREATED:20250305T010013Z
LAST-MODIFIED:20250814T234555Z
UID:10011468-1755197100-1755203400@hrbcrichmond.org
SUMMARY:Discipleship Group Meeting
DESCRIPTION:
URL:https://hrbcrichmond.org/event/discipleship-group-meeting-28/
LOCATION:Cousins Room
END:VEVENT
BEGIN:VEVENT
DTSTART;TZID=America/New_York:20250612T184500
DTEND;TZID=America/New_York:20250612T203000
DTSTAMP:20260425T111548
CREATED:20250203T193651Z
LAST-MODIFIED:20250613T002039Z
UID:10011168-1749753900-1749760200@hrbcrichmond.org
SUMMARY:Discipleship Group Meeting
DESCRIPTION:
URL:https://hrbcrichmond.org/event/discipleship-group-meeting-25/
LOCATION:Cousins Room
END:VEVENT
BEGIN:VEVENT
DTSTART;TZID=America/New_York:20250508T184500
DTEND;TZID=America/New_York:20250508T203000
DTSTAMP:20260425T111548
CREATED:20250203T204932Z
LAST-MODIFIED:20250508T233027Z
UID:10011212-1746729900-1746736200@hrbcrichmond.org
SUMMARY:Discipleship Group Meeting
DESCRIPTION:
URL:https://hrbcrichmond.org/event/discipleship-group-meeting-26/
LOCATION:Cousins Room
END:VEVENT
BEGIN:VEVENT
DTSTART;TZID=America/New_York:20250410T184500
DTEND;TZID=America/New_York:20250410T203000
DTSTAMP:20260425T111548
CREATED:20241105T210923Z
LAST-MODIFIED:20250410T232524Z
UID:10010589-1744310700-1744317000@hrbcrichmond.org
SUMMARY:Discipleship Group Meeting
DESCRIPTION:
URL:https://hrbcrichmond.org/event/discipleship-group-meeting-24/
LOCATION:Cousins Room
END:VEVENT
BEGIN:VEVENT
DTSTART;TZID=America/New_York:20250213T184500
DTEND;TZID=America/New_York:20250213T203000
DTSTAMP:20260425T111548
CREATED:20240919T144245Z
LAST-MODIFIED:20250214T011545Z
UID:10010136-1739472300-1739478600@hrbcrichmond.org
SUMMARY:Discipleship Group Meeting
DESCRIPTION:
URL:https://hrbcrichmond.org/event/discipleship-group-meeting-22/
LOCATION:Cousins Room
END:VEVENT
BEGIN:VEVENT
DTSTART;TZID=America/New_York:20250109T184500
DTEND;TZID=America/New_York:20250109T203000
DTSTAMP:20260425T111548
CREATED:20240827T191319Z
LAST-MODIFIED:20250110T001545Z
UID:10010016-1736448300-1736454600@hrbcrichmond.org
SUMMARY:Discipleship Group Meeting
DESCRIPTION:
URL:https://hrbcrichmond.org/event/discipleship-group-meeting-21/
LOCATION:Cousins Room
END:VEVENT
BEGIN:VEVENT
DTSTART;TZID=America/New_York:20241212T184500
DTEND;TZID=America/New_York:20241212T203000
DTSTAMP:20260425T111548
CREATED:20240809T181721Z
LAST-MODIFIED:20241213T004547Z
UID:10009888-1734029100-1734035400@hrbcrichmond.org
SUMMARY:Discipleship Group Meeting
DESCRIPTION:
URL:https://hrbcrichmond.org/event/discipleship-group-meeting-20/
LOCATION:Cousins Room
END:VEVENT
BEGIN:VEVENT
DTSTART;TZID=America/New_York:20241114T184500
DTEND;TZID=America/New_York:20241114T203000
DTSTAMP:20260425T111548
CREATED:20240809T181447Z
LAST-MODIFIED:20241115T010027Z
UID:10009869-1731609900-1731616200@hrbcrichmond.org
SUMMARY:Discipleship Group Meeting
DESCRIPTION:
URL:https://hrbcrichmond.org/event/discipleship-group-meeting-18/
LOCATION:Cousins Room
END:VEVENT
BEGIN:VEVENT
DTSTART;TZID=America/New_York:20241107T183000
DTEND;TZID=America/New_York:20241107T193000
DTSTAMP:20260425T111548
CREATED:20241001T143407Z
LAST-MODIFIED:20241107T233050Z
UID:10010184-1731004200-1731007800@hrbcrichmond.org
SUMMARY:Deacon Nominating Committee Meeting
DESCRIPTION:
URL:https://hrbcrichmond.org/event/deacon-nominating-committee-meeting-6/
LOCATION:Cousins Room
END:VEVENT
BEGIN:VEVENT
DTSTART;TZID=America/New_York:20241105T100000
DTEND;TZID=America/New_York:20241105T113000
DTSTAMP:20260425T111548
CREATED:20240827T174702Z
LAST-MODIFIED:20241105T162557Z
UID:10010007-1730800800-1730806200@hrbcrichmond.org
SUMMARY:WMU Monthly Meeting
DESCRIPTION:
URL:https://hrbcrichmond.org/event/wmu-monthly-meeting-3/
LOCATION:Cousins Room
END:VEVENT
BEGIN:VEVENT
DTSTART;TZID=America/New_York:20241031T183000
DTEND;TZID=America/New_York:20241031T193000
DTSTAMP:20260425T111548
CREATED:20241001T143336Z
LAST-MODIFIED:20241031T222606Z
UID:10010183-1730399400-1730403000@hrbcrichmond.org
SUMMARY:Deacon Nominating Committee Meeting
DESCRIPTION:
URL:https://hrbcrichmond.org/event/deacon-nominating-committee-meeting-5/
LOCATION:Cousins Room
END:VEVENT
BEGIN:VEVENT
DTSTART;TZID=America/New_York:20241024T183000
DTEND;TZID=America/New_York:20241024T193000
DTSTAMP:20260425T111548
CREATED:20241001T143306Z
LAST-MODIFIED:20241024T230019Z
UID:10010182-1729794600-1729798200@hrbcrichmond.org
SUMMARY:Deacon Nominating Committee Meeting
DESCRIPTION:
URL:https://hrbcrichmond.org/event/deacon-nominating-committee-meeting-4/
LOCATION:Cousins Room
END:VEVENT
BEGIN:VEVENT
DTSTART;TZID=America/New_York:20241017T183000
DTEND;TZID=America/New_York:20241017T193000
DTSTAMP:20260425T111548
CREATED:20241001T143219Z
LAST-MODIFIED:20241017T224038Z
UID:10010181-1729189800-1729193400@hrbcrichmond.org
SUMMARY:Deacon Nominating Committee Meeting
DESCRIPTION:
URL:https://hrbcrichmond.org/event/deacon-nominating-committee-meeting-3/
LOCATION:Cousins Room
END:VEVENT
BEGIN:VEVENT
DTSTART;TZID=America/New_York:20241010T183000
DTEND;TZID=America/New_York:20241010T193000
DTSTAMP:20260425T111548
CREATED:20241001T143133Z
LAST-MODIFIED:20241010T231038Z
UID:10010180-1728585000-1728588600@hrbcrichmond.org
SUMMARY:Deacon Nominating Committee Meeting
DESCRIPTION:
URL:https://hrbcrichmond.org/event/deacon-nominating-committee-meeting-2/
LOCATION:Cousins Room
END:VEVENT
BEGIN:VEVENT
DTSTART;TZID=America/New_York:20241003T183000
DTEND;TZID=America/New_York:20241003T193000
DTSTAMP:20260425T111548
CREATED:20241001T143048Z
LAST-MODIFIED:20241003T224534Z
UID:10010179-1727980200-1727983800@hrbcrichmond.org
SUMMARY:Deacon Nominating Committee Meeting
DESCRIPTION:
URL:https://hrbcrichmond.org/event/deacon-nominating-committee-meeting/
LOCATION:Cousins Room
END:VEVENT
BEGIN:VEVENT
DTSTART;TZID=America/New_York:20241001T100000
DTEND;TZID=America/New_York:20241001T113000
DTSTAMP:20260425T111548
CREATED:20240827T174339Z
LAST-MODIFIED:20241001T143032Z
UID:10010006-1727776800-1727782200@hrbcrichmond.org
SUMMARY:WMU Monthly Meeting
DESCRIPTION:
URL:https://hrbcrichmond.org/event/wmu-monthly-meeting-2/
LOCATION:Cousins Room
END:VEVENT
END:VCALENDAR