BEGIN:VCALENDAR
VERSION:2.0
PRODID:-//Huguenot Road Baptist Church - ECPv6.15.20//NONSGML v1.0//EN
CALSCALE:GREGORIAN
METHOD:PUBLISH
X-WR-CALNAME:Huguenot Road Baptist Church
X-ORIGINAL-URL:https://hrbcrichmond.org
X-WR-CALDESC:Events for Huguenot Road Baptist Church
REFRESH-INTERVAL;VALUE=DURATION:PT1H
X-Robots-Tag:noindex
X-PUBLISHED-TTL:PT1H
BEGIN:VTIMEZONE
TZID:America/New_York
BEGIN:DAYLIGHT
TZOFFSETFROM:-0500
TZOFFSETTO:-0400
TZNAME:EDT
DTSTART:20230312T070000
END:DAYLIGHT
BEGIN:STANDARD
TZOFFSETFROM:-0400
TZOFFSETTO:-0500
TZNAME:EST
DTSTART:20231105T060000
END:STANDARD
BEGIN:DAYLIGHT
TZOFFSETFROM:-0500
TZOFFSETTO:-0400
TZNAME:EDT
DTSTART:20240310T070000
END:DAYLIGHT
BEGIN:STANDARD
TZOFFSETFROM:-0400
TZOFFSETTO:-0500
TZNAME:EST
DTSTART:20241103T060000
END:STANDARD
BEGIN:DAYLIGHT
TZOFFSETFROM:-0500
TZOFFSETTO:-0400
TZNAME:EDT
DTSTART:20250309T070000
END:DAYLIGHT
BEGIN:STANDARD
TZOFFSETFROM:-0400
TZOFFSETTO:-0500
TZNAME:EST
DTSTART:20251102T060000
END:STANDARD
END:VTIMEZONE
BEGIN:VEVENT
DTSTART;TZID=America/New_York:20240827T090000
DTEND;TZID=America/New_York:20240827T093000
DTSTAMP:20260425T074347
CREATED:20240314T003627Z
LAST-MODIFIED:20240827T123017Z
UID:10009024-1724749200-1724751000@hrbcrichmond.org
SUMMARY:CDC Parents Coffee Drive Thru
DESCRIPTION:
URL:https://hrbcrichmond.org/event/cdc-parents-coffee-drive-thru/
LOCATION:Courtyard
END:VEVENT
BEGIN:VEVENT
DTSTART;TZID=America/New_York:20240826T090000
DTEND;TZID=America/New_York:20240826T100000
DTSTAMP:20260425T074347
CREATED:20240312T194421Z
LAST-MODIFIED:20240826T133024Z
UID:10009021-1724662800-1724666400@hrbcrichmond.org
SUMMARY:CDC Parent Coffee Drive-thru
DESCRIPTION:
URL:https://hrbcrichmond.org/event/cdc-parent-coffee-drive-thru/
LOCATION:Courtyard
END:VEVENT
BEGIN:VEVENT
DTSTART;TZID=America/New_York:20240811T140000
DTEND;TZID=America/New_York:20240811T170000
DTSTAMP:20260425T074347
CREATED:20240306T092117Z
LAST-MODIFIED:20240811T205526Z
UID:10008978-1723384800-1723395600@hrbcrichmond.org
SUMMARY:End of Summer Bash
DESCRIPTION:
URL:https://hrbcrichmond.org/event/end-of-summer-bash-2/
LOCATION:Courtyard
END:VEVENT
END:VCALENDAR