BEGIN:VCALENDAR
VERSION:2.0
PRODID:-//Huguenot Road Baptist Church - ECPv6.15.20//NONSGML v1.0//EN
CALSCALE:GREGORIAN
METHOD:PUBLISH
X-WR-CALNAME:Huguenot Road Baptist Church
X-ORIGINAL-URL:https://hrbcrichmond.org
X-WR-CALDESC:Events for Huguenot Road Baptist Church
REFRESH-INTERVAL;VALUE=DURATION:PT1H
X-Robots-Tag:noindex
X-PUBLISHED-TTL:PT1H
BEGIN:VTIMEZONE
TZID:America/New_York
BEGIN:DAYLIGHT
TZOFFSETFROM:-0500
TZOFFSETTO:-0400
TZNAME:EDT
DTSTART:20230312T070000
END:DAYLIGHT
BEGIN:STANDARD
TZOFFSETFROM:-0400
TZOFFSETTO:-0500
TZNAME:EST
DTSTART:20231105T060000
END:STANDARD
BEGIN:DAYLIGHT
TZOFFSETFROM:-0500
TZOFFSETTO:-0400
TZNAME:EDT
DTSTART:20240310T070000
END:DAYLIGHT
BEGIN:STANDARD
TZOFFSETFROM:-0400
TZOFFSETTO:-0500
TZNAME:EST
DTSTART:20241103T060000
END:STANDARD
BEGIN:DAYLIGHT
TZOFFSETFROM:-0500
TZOFFSETTO:-0400
TZNAME:EDT
DTSTART:20250309T070000
END:DAYLIGHT
BEGIN:STANDARD
TZOFFSETFROM:-0400
TZOFFSETTO:-0500
TZNAME:EST
DTSTART:20251102T060000
END:STANDARD
END:VTIMEZONE
BEGIN:VEVENT
DTSTART;TZID=America/New_York:20240926T140000
DTEND;TZID=America/New_York:20240926T160000
DTSTAMP:20260425T122152
CREATED:20240404T150632Z
LAST-MODIFIED:20240926T191543Z
UID:10009114-1727359200-1727366400@hrbcrichmond.org
SUMMARY:Bridge
DESCRIPTION:
URL:https://hrbcrichmond.org/event/bridge-69/
LOCATION:Commons
END:VEVENT
BEGIN:VEVENT
DTSTART;TZID=America/New_York:20240919T140000
DTEND;TZID=America/New_York:20240919T160000
DTSTAMP:20260425T122152
CREATED:20240330T005609Z
LAST-MODIFIED:20240919T194030Z
UID:10009095-1726754400-1726761600@hrbcrichmond.org
SUMMARY:Bridge
DESCRIPTION:
URL:https://hrbcrichmond.org/event/bridge-68/
LOCATION:Commons
END:VEVENT
BEGIN:VEVENT
DTSTART;TZID=America/New_York:20240912T140000
DTEND;TZID=America/New_York:20240912T160000
DTSTAMP:20260425T122152
CREATED:20240322T010008Z
LAST-MODIFIED:20240912T184040Z
UID:10009070-1726149600-1726156800@hrbcrichmond.org
SUMMARY:Bridge
DESCRIPTION:
URL:https://hrbcrichmond.org/event/bridge-67/
LOCATION:Commons
END:VEVENT
BEGIN:VEVENT
DTSTART;TZID=America/New_York:20240905T140000
DTEND;TZID=America/New_York:20240905T160000
DTSTAMP:20260425T122152
CREATED:20240319T162620Z
LAST-MODIFIED:20240905T191543Z
UID:10009050-1725544800-1725552000@hrbcrichmond.org
SUMMARY:Bridge
DESCRIPTION:
URL:https://hrbcrichmond.org/event/bridge-66/
LOCATION:Commons
END:VEVENT
BEGIN:VEVENT
DTSTART;TZID=America/New_York:20240829T140000
DTEND;TZID=America/New_York:20240829T160000
DTSTAMP:20260425T122152
CREATED:20240314T015618Z
LAST-MODIFIED:20240829T194528Z
UID:10009029-1724940000-1724947200@hrbcrichmond.org
SUMMARY:Bridge
DESCRIPTION:
URL:https://hrbcrichmond.org/event/bridge-65/
LOCATION:Commons
END:VEVENT
BEGIN:VEVENT
DTSTART;TZID=America/New_York:20240822T140000
DTEND;TZID=America/New_York:20240822T160000
DTSTAMP:20260425T122152
CREATED:20240310T161119Z
LAST-MODIFIED:20240822T192548Z
UID:10009013-1724335200-1724342400@hrbcrichmond.org
SUMMARY:Bridge
DESCRIPTION:
URL:https://hrbcrichmond.org/event/bridge-64/
LOCATION:Commons
END:VEVENT
BEGIN:VEVENT
DTSTART;TZID=America/New_York:20240815T140000
DTEND;TZID=America/New_York:20240815T160000
DTSTAMP:20260425T122152
CREATED:20240306T235620Z
LAST-MODIFIED:20240815T195611Z
UID:10008990-1723730400-1723737600@hrbcrichmond.org
SUMMARY:Bridge
DESCRIPTION:
URL:https://hrbcrichmond.org/event/bridge-63/
LOCATION:Commons
END:VEVENT
BEGIN:VEVENT
DTSTART;TZID=America/New_York:20240808T140000
DTEND;TZID=America/New_York:20240808T160000
DTSTAMP:20260425T122152
CREATED:20240306T092116Z
LAST-MODIFIED:20240808T190527Z
UID:10008969-1723125600-1723132800@hrbcrichmond.org
SUMMARY:Bridge
DESCRIPTION:
URL:https://hrbcrichmond.org/event/bridge-62/
LOCATION:Commons
END:VEVENT
BEGIN:VEVENT
DTSTART;TZID=America/New_York:20240801T140000
DTEND;TZID=America/New_York:20240801T160000
DTSTAMP:20260425T122152
CREATED:20240224T031605Z
LAST-MODIFIED:20240801T191512Z
UID:10008945-1722520800-1722528000@hrbcrichmond.org
SUMMARY:Bridge
DESCRIPTION:
URL:https://hrbcrichmond.org/event/bridge-61/
LOCATION:Commons
END:VEVENT
BEGIN:VEVENT
DTSTART;TZID=America/New_York:20240725T140000
DTEND;TZID=America/New_York:20240725T160000
DTSTAMP:20260425T122152
CREATED:20240224T031603Z
LAST-MODIFIED:20240729T183741Z
UID:10008931-1721916000-1721923200@hrbcrichmond.org
SUMMARY:Bridge
DESCRIPTION:
URL:https://hrbcrichmond.org/event/bridge-60/
LOCATION:Commons
END:VEVENT
BEGIN:VEVENT
DTSTART;TZID=America/New_York:20240718T140000
DTEND;TZID=America/New_York:20240718T160000
DTSTAMP:20260425T122152
CREATED:20240216T021620Z
LAST-MODIFIED:20240718T193510Z
UID:10008908-1721311200-1721318400@hrbcrichmond.org
SUMMARY:Bridge
DESCRIPTION:
URL:https://hrbcrichmond.org/event/bridge-59/
LOCATION:Commons
END:VEVENT
BEGIN:VEVENT
DTSTART;TZID=America/New_York:20240711T140000
DTEND;TZID=America/New_York:20240711T160000
DTSTAMP:20260425T122152
CREATED:20240208T160613Z
LAST-MODIFIED:20240716T171720Z
UID:10008879-1720706400-1720713600@hrbcrichmond.org
SUMMARY:Bridge
DESCRIPTION:
URL:https://hrbcrichmond.org/event/bridge-58/
LOCATION:Commons
END:VEVENT
BEGIN:VEVENT
DTSTART;TZID=America/New_York:20240627T140000
DTEND;TZID=America/New_York:20240627T160000
DTSTAMP:20260425T122152
CREATED:20240201T221050Z
LAST-MODIFIED:20240627T194018Z
UID:10008843-1719496800-1719504000@hrbcrichmond.org
SUMMARY:Bridge
DESCRIPTION:
URL:https://hrbcrichmond.org/event/bridge-56/
LOCATION:Commons
END:VEVENT
BEGIN:VEVENT
DTSTART;TZID=America/New_York:20240620T140000
DTEND;TZID=America/New_York:20240620T160000
DTSTAMP:20260425T122152
CREATED:20240201T221037Z
LAST-MODIFIED:20240620T200012Z
UID:10008828-1718892000-1718899200@hrbcrichmond.org
SUMMARY:Bridge
DESCRIPTION:
URL:https://hrbcrichmond.org/event/bridge-55/
LOCATION:Commons
END:VEVENT
BEGIN:VEVENT
DTSTART;TZID=America/New_York:20240613T140000
DTEND;TZID=America/New_York:20240613T160000
DTSTAMP:20260425T122152
CREATED:20240125T010131Z
LAST-MODIFIED:20240613T195505Z
UID:10008783-1718287200-1718294400@hrbcrichmond.org
SUMMARY:Bridge
DESCRIPTION:
URL:https://hrbcrichmond.org/event/bridge-54/
LOCATION:Commons
END:VEVENT
BEGIN:VEVENT
DTSTART;TZID=America/New_York:20240606T140000
DTEND;TZID=America/New_York:20240606T160000
DTSTAMP:20260425T122152
CREATED:20240119T010628Z
LAST-MODIFIED:20240606T193532Z
UID:10008760-1717682400-1717689600@hrbcrichmond.org
SUMMARY:Bridge
DESCRIPTION:
URL:https://hrbcrichmond.org/event/bridge-53/
LOCATION:Commons
END:VEVENT
BEGIN:VEVENT
DTSTART;TZID=America/New_York:20240530T140000
DTEND;TZID=America/New_York:20240530T160000
DTSTAMP:20260425T122152
CREATED:20240112T032053Z
LAST-MODIFIED:20240530T194012Z
UID:10008733-1717077600-1717084800@hrbcrichmond.org
SUMMARY:Bridge
DESCRIPTION:
URL:https://hrbcrichmond.org/event/bridge-52/
LOCATION:Commons
END:VEVENT
BEGIN:VEVENT
DTSTART;TZID=America/New_York:20240523T140000
DTEND;TZID=America/New_York:20240523T160000
DTSTAMP:20260425T122152
CREATED:20240102T005102Z
LAST-MODIFIED:20240523T193511Z
UID:10008656-1716472800-1716480000@hrbcrichmond.org
SUMMARY:Bridge
DESCRIPTION:
URL:https://hrbcrichmond.org/event/bridge-51/
LOCATION:Commons
END:VEVENT
BEGIN:VEVENT
DTSTART;TZID=America/New_York:20240516T140000
DTEND;TZID=America/New_York:20240516T160000
DTSTAMP:20260425T122152
CREATED:20231222T000539Z
LAST-MODIFIED:20240516T190511Z
UID:10008632-1715868000-1715875200@hrbcrichmond.org
SUMMARY:Bridge
DESCRIPTION:
URL:https://hrbcrichmond.org/event/bridge-50/
LOCATION:Commons
END:VEVENT
BEGIN:VEVENT
DTSTART;TZID=America/New_York:20240509T140000
DTEND;TZID=America/New_York:20240509T160000
DTSTAMP:20260425T122152
CREATED:20231214T210544Z
LAST-MODIFIED:20240509T192020Z
UID:10008605-1715263200-1715270400@hrbcrichmond.org
SUMMARY:Bridge
DESCRIPTION:
URL:https://hrbcrichmond.org/event/bridge-49/
LOCATION:Commons
END:VEVENT
BEGIN:VEVENT
DTSTART;TZID=America/New_York:20240502T140000
DTEND;TZID=America/New_York:20240502T160000
DTSTAMP:20260425T122152
CREATED:20231210T225451Z
LAST-MODIFIED:20240502T195020Z
UID:10008559-1714658400-1714665600@hrbcrichmond.org
SUMMARY:Bridge
DESCRIPTION:
URL:https://hrbcrichmond.org/event/bridge-48/
LOCATION:Commons
END:VEVENT
BEGIN:VEVENT
DTSTART;TZID=America/New_York:20240425T140000
DTEND;TZID=America/New_York:20240425T160000
DTSTAMP:20260425T122152
CREATED:20231112T223530Z
LAST-MODIFIED:20240425T192515Z
UID:10008408-1714053600-1714060800@hrbcrichmond.org
SUMMARY:Bridge
DESCRIPTION:
URL:https://hrbcrichmond.org/event/bridge-47/
LOCATION:Commons
END:VEVENT
BEGIN:VEVENT
DTSTART;TZID=America/New_York:20240418T140000
DTEND;TZID=America/New_York:20240418T160000
DTSTAMP:20260425T122152
CREATED:20231109T174537Z
LAST-MODIFIED:20240418T191521Z
UID:10008386-1713448800-1713456000@hrbcrichmond.org
SUMMARY:Bridge
DESCRIPTION:
URL:https://hrbcrichmond.org/event/bridge-46/
LOCATION:Commons
END:VEVENT
BEGIN:VEVENT
DTSTART;TZID=America/New_York:20240411T140000
DTEND;TZID=America/New_York:20240411T160000
DTSTAMP:20260425T122152
CREATED:20231109T174535Z
LAST-MODIFIED:20240411T191040Z
UID:10008364-1712844000-1712851200@hrbcrichmond.org
SUMMARY:Bridge
DESCRIPTION:
URL:https://hrbcrichmond.org/event/bridge-45/
LOCATION:Commons
END:VEVENT
BEGIN:VEVENT
DTSTART;TZID=America/New_York:20240404T140000
DTEND;TZID=America/New_York:20240404T160000
DTSTAMP:20260425T122152
CREATED:20231105T164042Z
LAST-MODIFIED:20240404T195007Z
UID:10008294-1712239200-1712246400@hrbcrichmond.org
SUMMARY:Bridge
DESCRIPTION:
URL:https://hrbcrichmond.org/event/bridge-44/
LOCATION:Commons
END:VEVENT
BEGIN:VEVENT
DTSTART;TZID=America/New_York:20240328T140000
DTEND;TZID=America/New_York:20240328T160000
DTSTAMP:20260425T122152
CREATED:20231026T014548Z
LAST-MODIFIED:20240328T194518Z
UID:10008253-1711634400-1711641600@hrbcrichmond.org
SUMMARY:Bridge
DESCRIPTION:
URL:https://hrbcrichmond.org/event/bridge-43/
LOCATION:Commons
END:VEVENT
BEGIN:VEVENT
DTSTART;TZID=America/New_York:20240321T140000
DTEND;TZID=America/New_York:20240321T160000
DTSTAMP:20260425T122152
CREATED:20231020T015532Z
LAST-MODIFIED:20240321T193520Z
UID:10008232-1711029600-1711036800@hrbcrichmond.org
SUMMARY:Bridge
DESCRIPTION:
URL:https://hrbcrichmond.org/event/bridge-42/
LOCATION:Commons
END:VEVENT
BEGIN:VEVENT
DTSTART;TZID=America/New_York:20240314T140000
DTEND;TZID=America/New_York:20240314T160000
DTSTAMP:20260425T122152
CREATED:20231017T162028Z
LAST-MODIFIED:20240314T194021Z
UID:10008211-1710424800-1710432000@hrbcrichmond.org
SUMMARY:Bridge
DESCRIPTION:
URL:https://hrbcrichmond.org/event/bridge-41/
LOCATION:Commons
END:VEVENT
BEGIN:VEVENT
DTSTART;TZID=America/New_York:20240307T140000
DTEND;TZID=America/New_York:20240307T160000
DTSTAMP:20260425T122152
CREATED:20231012T003452Z
LAST-MODIFIED:20240307T201033Z
UID:10008182-1709820000-1709827200@hrbcrichmond.org
SUMMARY:Bridge
DESCRIPTION:
URL:https://hrbcrichmond.org/event/bridge-40/
LOCATION:Commons
END:VEVENT
BEGIN:VEVENT
DTSTART;TZID=America/New_York:20240229T140000
DTEND;TZID=America/New_York:20240229T160000
DTSTAMP:20260425T122152
CREATED:20231005T010437Z
LAST-MODIFIED:20240228T084009Z
UID:10008158-1709215200-1709222400@hrbcrichmond.org
SUMMARY:Bridge
DESCRIPTION:
URL:https://hrbcrichmond.org/event/bridge-39/
LOCATION:Commons
END:VEVENT
END:VCALENDAR