BEGIN:VCALENDAR
VERSION:2.0
PRODID:-//Huguenot Road Baptist Church - ECPv6.15.20//NONSGML v1.0//EN
CALSCALE:GREGORIAN
METHOD:PUBLISH
X-ORIGINAL-URL:https://hrbcrichmond.org
X-WR-CALDESC:Events for Huguenot Road Baptist Church
REFRESH-INTERVAL;VALUE=DURATION:PT1H
X-Robots-Tag:noindex
X-PUBLISHED-TTL:PT1H
BEGIN:VTIMEZONE
TZID:America/New_York
BEGIN:DAYLIGHT
TZOFFSETFROM:-0500
TZOFFSETTO:-0400
TZNAME:EDT
DTSTART:20250309T070000
END:DAYLIGHT
BEGIN:STANDARD
TZOFFSETFROM:-0400
TZOFFSETTO:-0500
TZNAME:EST
DTSTART:20251102T060000
END:STANDARD
BEGIN:DAYLIGHT
TZOFFSETFROM:-0500
TZOFFSETTO:-0400
TZNAME:EDT
DTSTART:20260308T070000
END:DAYLIGHT
BEGIN:STANDARD
TZOFFSETFROM:-0400
TZOFFSETTO:-0500
TZNAME:EST
DTSTART:20261101T060000
END:STANDARD
BEGIN:DAYLIGHT
TZOFFSETFROM:-0500
TZOFFSETTO:-0400
TZNAME:EDT
DTSTART:20270314T070000
END:DAYLIGHT
BEGIN:STANDARD
TZOFFSETFROM:-0400
TZOFFSETTO:-0500
TZNAME:EST
DTSTART:20271107T060000
END:STANDARD
END:VTIMEZONE
BEGIN:VEVENT
DTSTART;TZID=America/New_York:20260730T140000
DTEND;TZID=America/New_York:20260730T160000
DTSTAMP:20260425T073815
CREATED:20251208T162054Z
LAST-MODIFIED:20260425T110138Z
UID:10012724-1785420000-1785427200@hrbcrichmond.org
SUMMARY:Bridge
DESCRIPTION:
URL:https://hrbcrichmond.org/event/bridge-165/
LOCATION:Commons
END:VEVENT
BEGIN:VEVENT
DTSTART;TZID=America/New_York:20260806T140000
DTEND;TZID=America/New_York:20260806T160000
DTSTAMP:20260425T073815
CREATED:20251212T013602Z
LAST-MODIFIED:20260425T110205Z
UID:10012743-1786024800-1786032000@hrbcrichmond.org
SUMMARY:Bridge
DESCRIPTION:
URL:https://hrbcrichmond.org/event/bridge-166/
LOCATION:Commons
END:VEVENT
BEGIN:VEVENT
DTSTART;TZID=America/New_York:20260813T140000
DTEND;TZID=America/New_York:20260813T160000
DTSTAMP:20260425T073815
CREATED:20251216T003617Z
LAST-MODIFIED:20260425T110222Z
UID:10012755-1786629600-1786636800@hrbcrichmond.org
SUMMARY:Bridge
DESCRIPTION:
URL:https://hrbcrichmond.org/event/bridge-167/
LOCATION:Commons
END:VEVENT
BEGIN:VEVENT
DTSTART;TZID=America/New_York:20260820T140000
DTEND;TZID=America/New_York:20260820T160000
DTSTAMP:20260425T073815
CREATED:20251221T180550Z
LAST-MODIFIED:20260425T110248Z
UID:10012772-1787234400-1787241600@hrbcrichmond.org
SUMMARY:Bridge
DESCRIPTION:
URL:https://hrbcrichmond.org/event/bridge-168/
LOCATION:Commons
END:VEVENT
BEGIN:VEVENT
DTSTART;TZID=America/New_York:20260827T140000
DTEND;TZID=America/New_York:20260827T160000
DTSTAMP:20260425T073815
CREATED:20260103T012059Z
LAST-MODIFIED:20260425T110315Z
UID:10012798-1787839200-1787846400@hrbcrichmond.org
SUMMARY:Bridge
DESCRIPTION:
URL:https://hrbcrichmond.org/event/bridge-169/
LOCATION:Commons
END:VEVENT
BEGIN:VEVENT
DTSTART;TZID=America/New_York:20260903T140000
DTEND;TZID=America/New_York:20260903T160000
DTSTAMP:20260425T073815
CREATED:20260110T192056Z
LAST-MODIFIED:20260425T110332Z
UID:10012819-1788444000-1788451200@hrbcrichmond.org
SUMMARY:Bridge
DESCRIPTION:
URL:https://hrbcrichmond.org/event/bridge-170/
LOCATION:Commons
END:VEVENT
BEGIN:VEVENT
DTSTART;TZID=America/New_York:20260910T140000
DTEND;TZID=America/New_York:20260910T160000
DTSTAMP:20260425T073815
CREATED:20260118T222052Z
LAST-MODIFIED:20260425T110358Z
UID:10012845-1789048800-1789056000@hrbcrichmond.org
SUMMARY:Bridge
DESCRIPTION:
URL:https://hrbcrichmond.org/event/bridge-171/
LOCATION:Commons
END:VEVENT
BEGIN:VEVENT
DTSTART;TZID=America/New_York:20260917T140000
DTEND;TZID=America/New_York:20260917T160000
DTSTAMP:20260425T073815
CREATED:20260224T163647Z
LAST-MODIFIED:20260425T110425Z
UID:10012975-1789653600-1789660800@hrbcrichmond.org
SUMMARY:Bridge
DESCRIPTION:
URL:https://hrbcrichmond.org/event/bridge-172/
LOCATION:Commons
END:VEVENT
BEGIN:VEVENT
DTSTART;TZID=America/New_York:20260924T140000
DTEND;TZID=America/New_York:20260924T160000
DTSTAMP:20260425T073815
CREATED:20260301T163647Z
LAST-MODIFIED:20260425T110453Z
UID:10012990-1790258400-1790265600@hrbcrichmond.org
SUMMARY:Bridge
DESCRIPTION:
URL:https://hrbcrichmond.org/event/bridge-173/
LOCATION:Commons
END:VEVENT
BEGIN:VEVENT
DTSTART;TZID=America/New_York:20261001T140000
DTEND;TZID=America/New_York:20261001T160000
DTSTAMP:20260425T073815
CREATED:20260302T212147Z
LAST-MODIFIED:20260425T110508Z
UID:10013001-1790863200-1790870400@hrbcrichmond.org
SUMMARY:Bridge
DESCRIPTION:
URL:https://hrbcrichmond.org/event/bridge-174/
LOCATION:Commons
END:VEVENT
BEGIN:VEVENT
DTSTART;TZID=America/New_York:20261008T140000
DTEND;TZID=America/New_York:20261008T160000
DTSTAMP:20260425T073815
CREATED:20260309T013719Z
LAST-MODIFIED:20260425T110536Z
UID:10013119-1791468000-1791475200@hrbcrichmond.org
SUMMARY:Bridge
DESCRIPTION:
URL:https://hrbcrichmond.org/event/bridge-175/
LOCATION:Commons
END:VEVENT
BEGIN:VEVENT
DTSTART;TZID=America/New_York:20261015T140000
DTEND;TZID=America/New_York:20261015T160000
DTSTAMP:20260425T073815
CREATED:20260405T160709Z
LAST-MODIFIED:20260425T110551Z
UID:10013317-1792072800-1792080000@hrbcrichmond.org
SUMMARY:Bridge
DESCRIPTION:
URL:https://hrbcrichmond.org/event/bridge-176/
LOCATION:Commons
END:VEVENT
BEGIN:VEVENT
DTSTART;TZID=America/New_York:20261022T140000
DTEND;TZID=America/New_York:20261022T160000
DTSTAMP:20260425T073815
CREATED:20260410T050746Z
LAST-MODIFIED:20260425T110621Z
UID:10013334-1792677600-1792684800@hrbcrichmond.org
SUMMARY:Bridge
DESCRIPTION:
URL:https://hrbcrichmond.org/event/bridge-177/
LOCATION:Commons
END:VEVENT
BEGIN:VEVENT
DTSTART;TZID=America/New_York:20261029T140000
DTEND;TZID=America/New_York:20261029T160000
DTSTAMP:20260425T073815
CREATED:20260414T002434Z
LAST-MODIFIED:20260425T110648Z
UID:10013348-1793282400-1793289600@hrbcrichmond.org
SUMMARY:Bridge
DESCRIPTION:
URL:https://hrbcrichmond.org/event/bridge-178/
LOCATION:Commons
END:VEVENT
END:VCALENDAR