BEGIN:VCALENDAR
VERSION:2.0
PRODID:-//Huguenot Road Baptist Church - ECPv6.15.20//NONSGML v1.0//EN
CALSCALE:GREGORIAN
METHOD:PUBLISH
X-ORIGINAL-URL:https://hrbcrichmond.org
X-WR-CALDESC:Events for Huguenot Road Baptist Church
REFRESH-INTERVAL;VALUE=DURATION:PT1H
X-Robots-Tag:noindex
X-PUBLISHED-TTL:PT1H
BEGIN:VTIMEZONE
TZID:America/New_York
BEGIN:DAYLIGHT
TZOFFSETFROM:-0500
TZOFFSETTO:-0400
TZNAME:EDT
DTSTART:20220313T070000
END:DAYLIGHT
BEGIN:STANDARD
TZOFFSETFROM:-0400
TZOFFSETTO:-0500
TZNAME:EST
DTSTART:20221106T060000
END:STANDARD
BEGIN:DAYLIGHT
TZOFFSETFROM:-0500
TZOFFSETTO:-0400
TZNAME:EDT
DTSTART:20230312T070000
END:DAYLIGHT
BEGIN:STANDARD
TZOFFSETFROM:-0400
TZOFFSETTO:-0500
TZNAME:EST
DTSTART:20231105T060000
END:STANDARD
BEGIN:DAYLIGHT
TZOFFSETFROM:-0500
TZOFFSETTO:-0400
TZNAME:EDT
DTSTART:20240310T070000
END:DAYLIGHT
BEGIN:STANDARD
TZOFFSETFROM:-0400
TZOFFSETTO:-0500
TZNAME:EST
DTSTART:20241103T060000
END:STANDARD
BEGIN:DAYLIGHT
TZOFFSETFROM:-0500
TZOFFSETTO:-0400
TZNAME:EDT
DTSTART:20250309T070000
END:DAYLIGHT
BEGIN:STANDARD
TZOFFSETFROM:-0400
TZOFFSETTO:-0500
TZNAME:EST
DTSTART:20251102T060000
END:STANDARD
END:VTIMEZONE
BEGIN:VEVENT
DTSTART;TZID=America/New_York:20240404T140000
DTEND;TZID=America/New_York:20240404T160000
DTSTAMP:20260425T154710
CREATED:20231105T164042Z
LAST-MODIFIED:20240404T195007Z
UID:10008294-1712239200-1712246400@hrbcrichmond.org
SUMMARY:Bridge
DESCRIPTION:
URL:https://hrbcrichmond.org/event/bridge-44/
LOCATION:Commons
END:VEVENT
BEGIN:VEVENT
DTSTART;TZID=America/New_York:20240328T140000
DTEND;TZID=America/New_York:20240328T160000
DTSTAMP:20260425T154710
CREATED:20231026T014548Z
LAST-MODIFIED:20240328T194518Z
UID:10008253-1711634400-1711641600@hrbcrichmond.org
SUMMARY:Bridge
DESCRIPTION:
URL:https://hrbcrichmond.org/event/bridge-43/
LOCATION:Commons
END:VEVENT
BEGIN:VEVENT
DTSTART;TZID=America/New_York:20240321T140000
DTEND;TZID=America/New_York:20240321T160000
DTSTAMP:20260425T154710
CREATED:20231020T015532Z
LAST-MODIFIED:20240321T193520Z
UID:10008232-1711029600-1711036800@hrbcrichmond.org
SUMMARY:Bridge
DESCRIPTION:
URL:https://hrbcrichmond.org/event/bridge-42/
LOCATION:Commons
END:VEVENT
BEGIN:VEVENT
DTSTART;TZID=America/New_York:20240314T140000
DTEND;TZID=America/New_York:20240314T160000
DTSTAMP:20260425T154710
CREATED:20231017T162028Z
LAST-MODIFIED:20240314T194021Z
UID:10008211-1710424800-1710432000@hrbcrichmond.org
SUMMARY:Bridge
DESCRIPTION:
URL:https://hrbcrichmond.org/event/bridge-41/
LOCATION:Commons
END:VEVENT
BEGIN:VEVENT
DTSTART;TZID=America/New_York:20240307T140000
DTEND;TZID=America/New_York:20240307T160000
DTSTAMP:20260425T154710
CREATED:20231012T003452Z
LAST-MODIFIED:20240307T201033Z
UID:10008182-1709820000-1709827200@hrbcrichmond.org
SUMMARY:Bridge
DESCRIPTION:
URL:https://hrbcrichmond.org/event/bridge-40/
LOCATION:Commons
END:VEVENT
BEGIN:VEVENT
DTSTART;TZID=America/New_York:20240229T140000
DTEND;TZID=America/New_York:20240229T160000
DTSTAMP:20260425T154710
CREATED:20231005T010437Z
LAST-MODIFIED:20240228T084009Z
UID:10008158-1709215200-1709222400@hrbcrichmond.org
SUMMARY:Bridge
DESCRIPTION:
URL:https://hrbcrichmond.org/event/bridge-39/
LOCATION:Commons
END:VEVENT
BEGIN:VEVENT
DTSTART;TZID=America/New_York:20240222T140000
DTEND;TZID=America/New_York:20240222T160000
DTSTAMP:20260425T154710
CREATED:20230928T014539Z
LAST-MODIFIED:20240217T024521Z
UID:10008119-1708610400-1708617600@hrbcrichmond.org
SUMMARY:Bridge
DESCRIPTION:
URL:https://hrbcrichmond.org/event/bridge-38/
LOCATION:Commons
END:VEVENT
BEGIN:VEVENT
DTSTART;TZID=America/New_York:20240215T140000
DTEND;TZID=America/New_York:20240215T160000
DTSTAMP:20260425T154710
CREATED:20230921T043452Z
LAST-MODIFIED:20240215T195029Z
UID:10008096-1708005600-1708012800@hrbcrichmond.org
SUMMARY:Bridge
DESCRIPTION:
URL:https://hrbcrichmond.org/event/bridge-37/
LOCATION:Commons
END:VEVENT
BEGIN:VEVENT
DTSTART;TZID=America/New_York:20240208T140000
DTEND;TZID=America/New_York:20240208T160000
DTSTAMP:20260425T154710
CREATED:20230917T151033Z
LAST-MODIFIED:20240208T205535Z
UID:10008074-1707400800-1707408000@hrbcrichmond.org
SUMMARY:Bridge
DESCRIPTION:
URL:https://hrbcrichmond.org/event/bridge-36/
LOCATION:Commons
END:VEVENT
BEGIN:VEVENT
DTSTART;TZID=America/New_York:20240201T140000
DTEND;TZID=America/New_York:20240201T160000
DTSTAMP:20260425T154710
CREATED:20230912T170451Z
LAST-MODIFIED:20240201T205517Z
UID:10008050-1706796000-1706803200@hrbcrichmond.org
SUMMARY:Bridge
DESCRIPTION:
URL:https://hrbcrichmond.org/event/bridge-35/
LOCATION:Commons
END:VEVENT
BEGIN:VEVENT
DTSTART;TZID=America/New_York:20240125T140000
DTEND;TZID=America/New_York:20240125T160000
DTSTAMP:20260425T154710
CREATED:20230906T235010Z
LAST-MODIFIED:20240125T200517Z
UID:10008031-1706191200-1706198400@hrbcrichmond.org
SUMMARY:Bridge
DESCRIPTION:
URL:https://hrbcrichmond.org/event/bridge-34/
LOCATION:Commons
END:VEVENT
BEGIN:VEVENT
DTSTART;TZID=America/New_York:20240118T140000
DTEND;TZID=America/New_York:20240118T160000
DTSTAMP:20260425T154710
CREATED:20230906T160501Z
LAST-MODIFIED:20240118T204516Z
UID:10008012-1705586400-1705593600@hrbcrichmond.org
SUMMARY:Bridge
DESCRIPTION:
URL:https://hrbcrichmond.org/event/bridge-33/
LOCATION:Commons
END:VEVENT
BEGIN:VEVENT
DTSTART;TZID=America/New_York:20231221T140000
DTEND;TZID=America/New_York:20231221T160000
DTSTAMP:20260425T154710
CREATED:20230630T171946Z
LAST-MODIFIED:20231221T205538Z
UID:10007587-1703167200-1703174400@hrbcrichmond.org
SUMMARY:Bridge
DESCRIPTION:
URL:https://hrbcrichmond.org/event/bridge-29/
LOCATION:Commons
END:VEVENT
BEGIN:VEVENT
DTSTART;TZID=America/New_York:20231218T120000
DTEND;TZID=America/New_York:20231218T140000
DTSTAMP:20260425T154710
CREATED:20230928T142029Z
LAST-MODIFIED:20231218T185540Z
UID:10008122-1702900800-1702908000@hrbcrichmond.org
SUMMARY:Meet and Greet for CCPR
DESCRIPTION:
URL:https://hrbcrichmond.org/event/meet-and-greet-for-ccpr-2/
LOCATION:Commons
END:VEVENT
BEGIN:VEVENT
DTSTART;TZID=America/New_York:20231214T140000
DTEND;TZID=America/New_York:20231214T160000
DTSTAMP:20260425T154710
CREATED:20230630T171911Z
LAST-MODIFIED:20231214T195931Z
UID:10007564-1702562400-1702569600@hrbcrichmond.org
SUMMARY:Bridge
DESCRIPTION:
URL:https://hrbcrichmond.org/event/bridge-28/
LOCATION:Commons
END:VEVENT
BEGIN:VEVENT
DTSTART;TZID=America/New_York:20231207T140000
DTEND;TZID=America/New_York:20231207T160000
DTSTAMP:20260425T154710
CREATED:20230630T171846Z
LAST-MODIFIED:20231207T204525Z
UID:10007543-1701957600-1701964800@hrbcrichmond.org
SUMMARY:Bridge
DESCRIPTION:
URL:https://hrbcrichmond.org/event/bridge-27/
LOCATION:Commons
END:VEVENT
BEGIN:VEVENT
DTSTART;TZID=America/New_York:20231130T140000
DTEND;TZID=America/New_York:20231130T160000
DTSTAMP:20260425T154710
CREATED:20230630T171823Z
LAST-MODIFIED:20231130T203515Z
UID:10007520-1701352800-1701360000@hrbcrichmond.org
SUMMARY:Bridge
DESCRIPTION:
URL:https://hrbcrichmond.org/event/bridge-26/
LOCATION:Commons
END:VEVENT
BEGIN:VEVENT
DTSTART;TZID=America/New_York:20231116T140000
DTEND;TZID=America/New_York:20231116T160000
DTSTAMP:20260425T154710
CREATED:20230630T171737Z
LAST-MODIFIED:20231116T205023Z
UID:10007480-1700143200-1700150400@hrbcrichmond.org
SUMMARY:Bridge
DESCRIPTION:
URL:https://hrbcrichmond.org/event/bridge-24/
LOCATION:Commons
END:VEVENT
BEGIN:VEVENT
DTSTART;TZID=America/New_York:20231109T140000
DTEND;TZID=America/New_York:20231109T160000
DTSTAMP:20260425T154710
CREATED:20230630T171713Z
LAST-MODIFIED:20231109T201522Z
UID:10007460-1699538400-1699545600@hrbcrichmond.org
SUMMARY:Bridge
DESCRIPTION:
URL:https://hrbcrichmond.org/event/bridge-23/
LOCATION:Commons
END:VEVENT
BEGIN:VEVENT
DTSTART;TZID=America/New_York:20231107T120000
DTEND;TZID=America/New_York:20231107T140000
DTSTAMP:20260425T154710
CREATED:20230928T142026Z
LAST-MODIFIED:20231107T172522Z
UID:10008121-1699358400-1699365600@hrbcrichmond.org
SUMMARY:Meet and Greet for CCPR
DESCRIPTION:
URL:https://hrbcrichmond.org/event/meet-and-greet-for-ccpr/
LOCATION:Commons
END:VEVENT
BEGIN:VEVENT
DTSTART;TZID=America/New_York:20231102T140000
DTEND;TZID=America/New_York:20231102T160000
DTSTAMP:20260425T154710
CREATED:20230630T171650Z
LAST-MODIFIED:20231102T190205Z
UID:10007437-1698933600-1698940800@hrbcrichmond.org
SUMMARY:Bridge
DESCRIPTION:
URL:https://hrbcrichmond.org/event/bridge-22/
LOCATION:Commons
END:VEVENT
BEGIN:VEVENT
DTSTART;TZID=America/New_York:20231026T140000
DTEND;TZID=America/New_York:20231026T160000
DTSTAMP:20260425T154710
CREATED:20230630T171626Z
LAST-MODIFIED:20231026T192513Z
UID:10007417-1698328800-1698336000@hrbcrichmond.org
SUMMARY:Bridge
DESCRIPTION:
URL:https://hrbcrichmond.org/event/bridge-21/
LOCATION:Commons
END:VEVENT
BEGIN:VEVENT
DTSTART;TZID=America/New_York:20231019T140000
DTEND;TZID=America/New_York:20231019T160000
DTSTAMP:20260425T154710
CREATED:20230630T171603Z
LAST-MODIFIED:20231019T194522Z
UID:10007398-1697724000-1697731200@hrbcrichmond.org
SUMMARY:Bridge
DESCRIPTION:
URL:https://hrbcrichmond.org/event/bridge-20/
LOCATION:Commons
END:VEVENT
BEGIN:VEVENT
DTSTART;TZID=America/New_York:20231018T110000
DTEND;TZID=America/New_York:20231018T140000
DTSTAMP:20260425T154710
CREATED:20230928T142024Z
LAST-MODIFIED:20231018T175514Z
UID:10008120-1697626800-1697637600@hrbcrichmond.org
SUMMARY:Meet and Greet for CCPR - Opportunities for Seniors at HRBC
DESCRIPTION:
URL:https://hrbcrichmond.org/event/meet-and-greet-for-ccpr-opportunities-for-seniors-at-hrbc/
LOCATION:Commons
END:VEVENT
BEGIN:VEVENT
DTSTART;TZID=America/New_York:20231012T140000
DTEND;TZID=America/New_York:20231012T160000
DTSTAMP:20260425T154710
CREATED:20230622T143100Z
LAST-MODIFIED:20231012T194042Z
UID:10007369-1697119200-1697126400@hrbcrichmond.org
SUMMARY:Bridge
DESCRIPTION:
URL:https://hrbcrichmond.org/event/bridge-19/
LOCATION:Commons
END:VEVENT
BEGIN:VEVENT
DTSTART;TZID=America/New_York:20231005T140000
DTEND;TZID=America/New_York:20231005T160000
DTSTAMP:20260425T154710
CREATED:20230608T142033Z
LAST-MODIFIED:20231005T191519Z
UID:10007317-1696514400-1696521600@hrbcrichmond.org
SUMMARY:Bridge
DESCRIPTION:
URL:https://hrbcrichmond.org/event/bridge-18/
LOCATION:Commons
END:VEVENT
BEGIN:VEVENT
DTSTART;TZID=America/New_York:20230928T140000
DTEND;TZID=America/New_York:20230928T160000
DTSTAMP:20260425T154710
CREATED:20230606T185103Z
LAST-MODIFIED:20230928T195534Z
UID:10007129-1695909600-1695916800@hrbcrichmond.org
SUMMARY:Bridge
DESCRIPTION:
URL:https://hrbcrichmond.org/event/bridge-17/
LOCATION:Commons
END:VEVENT
BEGIN:VEVENT
DTSTART;TZID=America/New_York:20230921T140000
DTEND;TZID=America/New_York:20230921T160000
DTSTAMP:20260425T154710
CREATED:20230606T185059Z
LAST-MODIFIED:20230921T192015Z
UID:10007112-1695304800-1695312000@hrbcrichmond.org
SUMMARY:Bridge
DESCRIPTION:
URL:https://hrbcrichmond.org/event/bridge-16/
LOCATION:Commons
END:VEVENT
BEGIN:VEVENT
DTSTART;TZID=America/New_York:20230914T140000
DTEND;TZID=America/New_York:20230914T160000
DTSTAMP:20260425T154710
CREATED:20230606T185055Z
LAST-MODIFIED:20230914T193019Z
UID:10007091-1694700000-1694707200@hrbcrichmond.org
SUMMARY:Bridge
DESCRIPTION:
URL:https://hrbcrichmond.org/event/bridge-15/
LOCATION:Commons
END:VEVENT
BEGIN:VEVENT
DTSTART;TZID=America/New_York:20230907T140000
DTEND;TZID=America/New_York:20230907T160000
DTSTAMP:20260425T154710
CREATED:20230606T185051Z
LAST-MODIFIED:20230907T195536Z
UID:10007070-1694095200-1694102400@hrbcrichmond.org
SUMMARY:Bridge
DESCRIPTION:
URL:https://hrbcrichmond.org/event/bridge-14/
LOCATION:Commons
END:VEVENT
END:VCALENDAR