BEGIN:VCALENDAR
VERSION:2.0
PRODID:-//Huguenot Road Baptist Church - ECPv6.15.20//NONSGML v1.0//EN
CALSCALE:GREGORIAN
METHOD:PUBLISH
X-WR-CALNAME:Huguenot Road Baptist Church
X-ORIGINAL-URL:https://hrbcrichmond.org
X-WR-CALDESC:Events for Huguenot Road Baptist Church
REFRESH-INTERVAL;VALUE=DURATION:PT1H
X-Robots-Tag:noindex
X-PUBLISHED-TTL:PT1H
BEGIN:VTIMEZONE
TZID:America/New_York
BEGIN:DAYLIGHT
TZOFFSETFROM:-0500
TZOFFSETTO:-0400
TZNAME:EDT
DTSTART:20220313T070000
END:DAYLIGHT
BEGIN:STANDARD
TZOFFSETFROM:-0400
TZOFFSETTO:-0500
TZNAME:EST
DTSTART:20221106T060000
END:STANDARD
BEGIN:DAYLIGHT
TZOFFSETFROM:-0500
TZOFFSETTO:-0400
TZNAME:EDT
DTSTART:20230312T070000
END:DAYLIGHT
BEGIN:STANDARD
TZOFFSETFROM:-0400
TZOFFSETTO:-0500
TZNAME:EST
DTSTART:20231105T060000
END:STANDARD
BEGIN:DAYLIGHT
TZOFFSETFROM:-0500
TZOFFSETTO:-0400
TZNAME:EDT
DTSTART:20240310T070000
END:DAYLIGHT
BEGIN:STANDARD
TZOFFSETFROM:-0400
TZOFFSETTO:-0500
TZNAME:EST
DTSTART:20241103T060000
END:STANDARD
END:VTIMEZONE
BEGIN:VEVENT
DTSTART;TZID=America/New_York:20230924T113000
DTEND;TZID=America/New_York:20230924T140000
DTSTAMP:20260425T210116
CREATED:20230809T174406Z
LAST-MODIFIED:20230924T171027Z
UID:10007818-1695555000-1695564000@hrbcrichmond.org
SUMMARY:Ladies and Men’s Christmas Choir Sectional
DESCRIPTION:
URL:https://hrbcrichmond.org/event/ladies-christmas-choir-sectional/
LOCATION:Choir Suite
END:VEVENT
BEGIN:VEVENT
DTSTART;TZID=America/New_York:20230920T180000
DTEND;TZID=America/New_York:20230920T184000
DTSTAMP:20260425T210116
CREATED:20230809T174342Z
LAST-MODIFIED:20230920T224021Z
UID:10007813-1695232800-1695235200@hrbcrichmond.org
SUMMARY:King's Kids Choir
DESCRIPTION:
URL:https://hrbcrichmond.org/event/kings-kids-choir-3/
LOCATION:Choir Suite
END:VEVENT
BEGIN:VEVENT
DTSTART;TZID=America/New_York:20230919T173000
DTEND;TZID=America/New_York:20230919T183000
DTSTAMP:20260425T210116
CREATED:20230831T140643Z
LAST-MODIFIED:20230919T213041Z
UID:10007967-1695144600-1695148200@hrbcrichmond.org
SUMMARY:Choir Officers Meeting
DESCRIPTION:
URL:https://hrbcrichmond.org/event/choir-officers-meeting-22/
LOCATION:Choir Suite
END:VEVENT
BEGIN:VEVENT
DTSTART;TZID=America/New_York:20230913T180000
DTEND;TZID=America/New_York:20230913T184000
DTSTAMP:20260425T210116
CREATED:20230809T174308Z
LAST-MODIFIED:20230913T222015Z
UID:10007805-1694628000-1694630400@hrbcrichmond.org
SUMMARY:King's Kids Choir
DESCRIPTION:
URL:https://hrbcrichmond.org/event/kings-kids-choir-2/
LOCATION:Choir Suite
END:VEVENT
BEGIN:VEVENT
DTSTART;TZID=America/New_York:20230815T190000
DTEND;TZID=America/New_York:20230815T193000
DTSTAMP:20260425T210116
CREATED:20230609T145838Z
LAST-MODIFIED:20230809T145523Z
UID:10007346-1692126000-1692127800@hrbcrichmond.org
SUMMARY:Tues@7 College Bible Study
DESCRIPTION:
URL:https://hrbcrichmond.org/event/tues7-college-bible-study-9/
LOCATION:Choir Suite
END:VEVENT
BEGIN:VEVENT
DTSTART;TZID=America/New_York:20230808T190000
DTEND;TZID=America/New_York:20230808T193000
DTSTAMP:20260425T210116
CREATED:20230609T145816Z
LAST-MODIFIED:20230808T231025Z
UID:10007344-1691521200-1691523000@hrbcrichmond.org
SUMMARY:Tues@7 College Bible Study
DESCRIPTION:
URL:https://hrbcrichmond.org/event/tues7-college-bible-study-8/
LOCATION:Choir Suite
END:VEVENT
BEGIN:VEVENT
DTSTART;TZID=America/New_York:20230801T190000
DTEND;TZID=America/New_York:20230801T193000
DTSTAMP:20260425T210116
CREATED:20230609T145754Z
LAST-MODIFIED:20230801T232538Z
UID:10007342-1690916400-1690918200@hrbcrichmond.org
SUMMARY:Tues@7 College Bible Study
DESCRIPTION:
URL:https://hrbcrichmond.org/event/tues7-college-bible-study-7/
LOCATION:Choir Suite
END:VEVENT
BEGIN:VEVENT
DTSTART;TZID=America/New_York:20230725T190000
DTEND;TZID=America/New_York:20230725T193000
DTSTAMP:20260425T210116
CREATED:20230609T145743Z
LAST-MODIFIED:20230725T194018Z
UID:10007340-1690311600-1690313400@hrbcrichmond.org
SUMMARY:Tues@7 College Bible Study
DESCRIPTION:
URL:https://hrbcrichmond.org/event/tues7-college-bible-study-6/
LOCATION:Choir Suite
END:VEVENT
BEGIN:VEVENT
DTSTART;TZID=America/New_York:20230718T190000
DTEND;TZID=America/New_York:20230718T193000
DTSTAMP:20260425T210116
CREATED:20230609T145721Z
LAST-MODIFIED:20230718T230537Z
UID:10007338-1689706800-1689708600@hrbcrichmond.org
SUMMARY:Tues@7 College Bible Study
DESCRIPTION:
URL:https://hrbcrichmond.org/event/tues7-college-bible-study-5/
LOCATION:Choir Suite
END:VEVENT
BEGIN:VEVENT
DTSTART;TZID=America/New_York:20230711T190000
DTEND;TZID=America/New_York:20230711T193000
DTSTAMP:20260425T210116
CREATED:20230609T145710Z
LAST-MODIFIED:20230711T230510Z
UID:10007336-1689102000-1689103800@hrbcrichmond.org
SUMMARY:Tues@7 College Bible Study
DESCRIPTION:
URL:https://hrbcrichmond.org/event/tues7-college-bible-study-4/
LOCATION:Choir Suite
END:VEVENT
BEGIN:VEVENT
DTSTART;TZID=America/New_York:20230704T190000
DTEND;TZID=America/New_York:20230704T193000
DTSTAMP:20260425T210116
CREATED:20230609T145648Z
LAST-MODIFIED:20230705T143634Z
UID:10007334-1688497200-1688499000@hrbcrichmond.org
SUMMARY:Tues@7 College Bible Study
DESCRIPTION:
URL:https://hrbcrichmond.org/event/tues7-college-bible-study-3/
LOCATION:Choir Suite
END:VEVENT
BEGIN:VEVENT
DTSTART;TZID=America/New_York:20230627T190000
DTEND;TZID=America/New_York:20230627T193000
DTSTAMP:20260425T210116
CREATED:20230609T145626Z
LAST-MODIFIED:20230705T143648Z
UID:10007332-1687892400-1687894200@hrbcrichmond.org
SUMMARY:Tues@7 College Bible Study
DESCRIPTION:
URL:https://hrbcrichmond.org/event/tues7-college-bible-study-2/
LOCATION:Choir Suite
END:VEVENT
BEGIN:VEVENT
DTSTART;TZID=America/New_York:20230620T190000
DTEND;TZID=America/New_York:20230620T193000
DTSTAMP:20260425T210116
CREATED:20230609T145615Z
LAST-MODIFIED:20230620T222034Z
UID:10007330-1687287600-1687289400@hrbcrichmond.org
SUMMARY:Tues@7 College Bible Study
DESCRIPTION:
URL:https://hrbcrichmond.org/event/tues7-college-bible-study/
LOCATION:Choir Suite
END:VEVENT
BEGIN:VEVENT
DTSTART;TZID=America/New_York:20230503T180000
DTEND;TZID=America/New_York:20230503T190000
DTSTAMP:20260425T210116
CREATED:20230207T204034Z
LAST-MODIFIED:20230317T143401Z
UID:10000036-1683136800-1683140400@hrbcrichmond.org
SUMMARY:King's Kids
DESCRIPTION:
URL:https://hrbcrichmond.org/event/kings-kids/2023-05-03/
LOCATION:Choir Suite
CATEGORIES:Children,Music,Wednesday Schedule
END:VEVENT
BEGIN:VEVENT
DTSTART;TZID=America/New_York:20230426T180000
DTEND;TZID=America/New_York:20230426T190000
DTSTAMP:20260425T210116
CREATED:20230207T204034Z
LAST-MODIFIED:20230317T143401Z
UID:10000035-1682532000-1682535600@hrbcrichmond.org
SUMMARY:King's Kids
DESCRIPTION:
URL:https://hrbcrichmond.org/event/kings-kids/2023-04-26/
LOCATION:Choir Suite
CATEGORIES:Children,Music,Wednesday Schedule
END:VEVENT
BEGIN:VEVENT
DTSTART;TZID=America/New_York:20230419T180000
DTEND;TZID=America/New_York:20230419T190000
DTSTAMP:20260425T210116
CREATED:20230207T204034Z
LAST-MODIFIED:20230317T143401Z
UID:10000034-1681927200-1681930800@hrbcrichmond.org
SUMMARY:King's Kids
DESCRIPTION:
URL:https://hrbcrichmond.org/event/kings-kids/2023-04-19/
LOCATION:Choir Suite
CATEGORIES:Children,Music,Wednesday Schedule
END:VEVENT
BEGIN:VEVENT
DTSTART;TZID=America/New_York:20230412T180000
DTEND;TZID=America/New_York:20230412T190000
DTSTAMP:20260425T210116
CREATED:20230207T204034Z
LAST-MODIFIED:20230317T143401Z
UID:10000033-1681322400-1681326000@hrbcrichmond.org
SUMMARY:King's Kids
DESCRIPTION:
URL:https://hrbcrichmond.org/event/kings-kids/2023-04-12/
LOCATION:Choir Suite
CATEGORIES:Children,Music,Wednesday Schedule
END:VEVENT
BEGIN:VEVENT
DTSTART;TZID=America/New_York:20230329T180000
DTEND;TZID=America/New_York:20230329T190000
DTSTAMP:20260425T210116
CREATED:20230207T204034Z
LAST-MODIFIED:20230317T143401Z
UID:10000031-1680112800-1680116400@hrbcrichmond.org
SUMMARY:King's Kids
DESCRIPTION:
URL:https://hrbcrichmond.org/event/kings-kids/2023-03-29/
LOCATION:Choir Suite
CATEGORIES:Children,Music,Wednesday Schedule
END:VEVENT
BEGIN:VEVENT
DTSTART;TZID=America/New_York:20230322T180000
DTEND;TZID=America/New_York:20230322T190000
DTSTAMP:20260425T210116
CREATED:20230207T204034Z
LAST-MODIFIED:20230317T143401Z
UID:10000030-1679508000-1679511600@hrbcrichmond.org
SUMMARY:King's Kids
DESCRIPTION:
URL:https://hrbcrichmond.org/event/kings-kids/2023-03-22/
LOCATION:Choir Suite
CATEGORIES:Children,Music,Wednesday Schedule
END:VEVENT
BEGIN:VEVENT
DTSTART;TZID=America/New_York:20230319T170000
DTEND;TZID=America/New_York:20230319T180000
DTSTAMP:20260425T210116
CREATED:20230208T162659Z
LAST-MODIFIED:20230208T162755Z
UID:10001659-1679245200-1679248800@hrbcrichmond.org
SUMMARY:United Praise
DESCRIPTION:
URL:https://hrbcrichmond.org/event/united-praise/2023-03-19/
LOCATION:Choir Suite
CATEGORIES:Music,Students,Sunday Schedule
END:VEVENT
BEGIN:VEVENT
DTSTART;TZID=America/New_York:20230315T180000
DTEND;TZID=America/New_York:20230315T190000
DTSTAMP:20260425T210116
CREATED:20230207T204034Z
LAST-MODIFIED:20230317T143401Z
UID:10000029-1678903200-1678906800@hrbcrichmond.org
SUMMARY:King's Kids
DESCRIPTION:
URL:https://hrbcrichmond.org/event/kings-kids/2023-03-15/
LOCATION:Choir Suite
CATEGORIES:Children,Music,Wednesday Schedule
END:VEVENT
BEGIN:VEVENT
DTSTART;TZID=America/New_York:20230312T170000
DTEND;TZID=America/New_York:20230312T180000
DTSTAMP:20260425T210116
CREATED:20230208T162659Z
LAST-MODIFIED:20230208T162755Z
UID:10001658-1678640400-1678644000@hrbcrichmond.org
SUMMARY:United Praise
DESCRIPTION:
URL:https://hrbcrichmond.org/event/united-praise/2023-03-12/
LOCATION:Choir Suite
CATEGORIES:Music,Students,Sunday Schedule
END:VEVENT
BEGIN:VEVENT
DTSTART;TZID=America/New_York:20230308T180000
DTEND;TZID=America/New_York:20230308T190000
DTSTAMP:20260425T210116
CREATED:20230207T204034Z
LAST-MODIFIED:20230317T143401Z
UID:10000028-1678298400-1678302000@hrbcrichmond.org
SUMMARY:King's Kids
DESCRIPTION:
URL:https://hrbcrichmond.org/event/kings-kids/2023-03-08/
LOCATION:Choir Suite
CATEGORIES:Children,Music,Wednesday Schedule
END:VEVENT
BEGIN:VEVENT
DTSTART;TZID=America/New_York:20230305T170000
DTEND;TZID=America/New_York:20230305T180000
DTSTAMP:20260425T210116
CREATED:20230208T162659Z
LAST-MODIFIED:20230208T162755Z
UID:10001657-1678035600-1678039200@hrbcrichmond.org
SUMMARY:United Praise
DESCRIPTION:
URL:https://hrbcrichmond.org/event/united-praise/2023-03-05/
LOCATION:Choir Suite
CATEGORIES:Music,Students,Sunday Schedule
END:VEVENT
BEGIN:VEVENT
DTSTART;TZID=America/New_York:20230301T180000
DTEND;TZID=America/New_York:20230301T190000
DTSTAMP:20260425T210116
CREATED:20230207T204034Z
LAST-MODIFIED:20230317T143401Z
UID:10000027-1677693600-1677697200@hrbcrichmond.org
SUMMARY:King's Kids
DESCRIPTION:
URL:https://hrbcrichmond.org/event/kings-kids/2023-03-01/
LOCATION:Choir Suite
CATEGORIES:Children,Music,Wednesday Schedule
END:VEVENT
BEGIN:VEVENT
DTSTART;TZID=America/New_York:20230226T170000
DTEND;TZID=America/New_York:20230226T180000
DTSTAMP:20260425T210116
CREATED:20230208T162659Z
LAST-MODIFIED:20230208T162755Z
UID:10001656-1677430800-1677434400@hrbcrichmond.org
SUMMARY:United Praise
DESCRIPTION:
URL:https://hrbcrichmond.org/event/united-praise/2023-02-26/
LOCATION:Choir Suite
CATEGORIES:Music,Students,Sunday Schedule
END:VEVENT
BEGIN:VEVENT
DTSTART;TZID=America/New_York:20230222T180000
DTEND;TZID=America/New_York:20230222T190000
DTSTAMP:20260425T210116
CREATED:20230207T204034Z
LAST-MODIFIED:20230317T143401Z
UID:10000026-1677088800-1677092400@hrbcrichmond.org
SUMMARY:King's Kids
DESCRIPTION:
URL:https://hrbcrichmond.org/event/kings-kids/2023-02-22/
LOCATION:Choir Suite
CATEGORIES:Children,Music,Wednesday Schedule
END:VEVENT
BEGIN:VEVENT
DTSTART;TZID=America/New_York:20230219T170000
DTEND;TZID=America/New_York:20230219T180000
DTSTAMP:20260425T210116
CREATED:20230208T162659Z
LAST-MODIFIED:20230208T162755Z
UID:10001655-1676826000-1676829600@hrbcrichmond.org
SUMMARY:United Praise
DESCRIPTION:
URL:https://hrbcrichmond.org/event/united-praise/2023-02-19/
LOCATION:Choir Suite
CATEGORIES:Music,Students,Sunday Schedule
END:VEVENT
BEGIN:VEVENT
DTSTART;TZID=America/New_York:20230215T180000
DTEND;TZID=America/New_York:20230215T190000
DTSTAMP:20260425T210116
CREATED:20230207T204034Z
LAST-MODIFIED:20230317T143401Z
UID:10000025-1676484000-1676487600@hrbcrichmond.org
SUMMARY:King's Kids
DESCRIPTION:
URL:https://hrbcrichmond.org/event/kings-kids/2023-02-15/
LOCATION:Choir Suite
CATEGORIES:Children,Music,Wednesday Schedule
END:VEVENT
END:VCALENDAR