BEGIN:VCALENDAR
VERSION:2.0
PRODID:-//Huguenot Road Baptist Church - ECPv6.15.20//NONSGML v1.0//EN
CALSCALE:GREGORIAN
METHOD:PUBLISH
X-ORIGINAL-URL:https://hrbcrichmond.org
X-WR-CALDESC:Events for Huguenot Road Baptist Church
REFRESH-INTERVAL;VALUE=DURATION:PT1H
X-Robots-Tag:noindex
X-PUBLISHED-TTL:PT1H
BEGIN:VTIMEZONE
TZID:America/New_York
BEGIN:DAYLIGHT
TZOFFSETFROM:-0500
TZOFFSETTO:-0400
TZNAME:EDT
DTSTART:20220313T070000
END:DAYLIGHT
BEGIN:STANDARD
TZOFFSETFROM:-0400
TZOFFSETTO:-0500
TZNAME:EST
DTSTART:20221106T060000
END:STANDARD
BEGIN:DAYLIGHT
TZOFFSETFROM:-0500
TZOFFSETTO:-0400
TZNAME:EDT
DTSTART:20230312T070000
END:DAYLIGHT
BEGIN:STANDARD
TZOFFSETFROM:-0400
TZOFFSETTO:-0500
TZNAME:EST
DTSTART:20231105T060000
END:STANDARD
BEGIN:DAYLIGHT
TZOFFSETFROM:-0500
TZOFFSETTO:-0400
TZNAME:EDT
DTSTART:20240310T070000
END:DAYLIGHT
BEGIN:STANDARD
TZOFFSETFROM:-0400
TZOFFSETTO:-0500
TZNAME:EST
DTSTART:20241103T060000
END:STANDARD
BEGIN:DAYLIGHT
TZOFFSETFROM:-0500
TZOFFSETTO:-0400
TZNAME:EDT
DTSTART:20250309T070000
END:DAYLIGHT
BEGIN:STANDARD
TZOFFSETFROM:-0400
TZOFFSETTO:-0500
TZNAME:EST
DTSTART:20251102T060000
END:STANDARD
BEGIN:DAYLIGHT
TZOFFSETFROM:-0500
TZOFFSETTO:-0400
TZNAME:EDT
DTSTART:20260308T070000
END:DAYLIGHT
BEGIN:STANDARD
TZOFFSETFROM:-0400
TZOFFSETTO:-0500
TZNAME:EST
DTSTART:20261101T060000
END:STANDARD
END:VTIMEZONE
BEGIN:VEVENT
DTSTART;TZID=America/New_York:20250129T193000
DTEND;TZID=America/New_York:20250129T203000
DTSTAMP:20260425T095646
CREATED:20241211T163031Z
LAST-MODIFIED:20250130T011527Z
UID:10010865-1738179000-1738182600@hrbcrichmond.org
SUMMARY:Worship Choir Rehearsal
DESCRIPTION:
URL:https://hrbcrichmond.org/event/worship-choir-rehearsal-5/
LOCATION:Choir Suite
END:VEVENT
BEGIN:VEVENT
DTSTART;TZID=America/New_York:20250122T193000
DTEND;TZID=America/New_York:20250122T203000
DTSTAMP:20260425T095646
CREATED:20241211T162957Z
LAST-MODIFIED:20250123T002532Z
UID:10010864-1737574200-1737577800@hrbcrichmond.org
SUMMARY:Worship Choir Rehearsal
DESCRIPTION:
URL:https://hrbcrichmond.org/event/worship-choir-rehearsal-4/
LOCATION:Choir Suite
END:VEVENT
BEGIN:VEVENT
DTSTART;TZID=America/New_York:20250115T193000
DTEND;TZID=America/New_York:20250115T203000
DTSTAMP:20260425T095646
CREATED:20241211T162924Z
LAST-MODIFIED:20250116T003040Z
UID:10010862-1736969400-1736973000@hrbcrichmond.org
SUMMARY:Worship Choir Rehearsal
DESCRIPTION:
URL:https://hrbcrichmond.org/event/worship-choir-rehearsal-3/
LOCATION:Choir Suite
END:VEVENT
BEGIN:VEVENT
DTSTART;TZID=America/New_York:20250108T193000
DTEND;TZID=America/New_York:20250108T203000
DTSTAMP:20260425T095646
CREATED:20241211T162835Z
LAST-MODIFIED:20250109T011756Z
UID:10010861-1736364600-1736368200@hrbcrichmond.org
SUMMARY:Worship Choir Rehearsal
DESCRIPTION:
URL:https://hrbcrichmond.org/event/worship-choir-rehearsal-2/
LOCATION:Choir Suite
END:VEVENT
BEGIN:VEVENT
DTSTART;TZID=America/New_York:20241015T173000
DTEND;TZID=America/New_York:20241015T183000
DTSTAMP:20260425T095646
CREATED:20240809T181134Z
LAST-MODIFIED:20241015T222526Z
UID:10009761-1729013400-1729017000@hrbcrichmond.org
SUMMARY:Choir Officers Meeting
DESCRIPTION:
URL:https://hrbcrichmond.org/event/choir-officers-meeting-35/
LOCATION:Choir Suite
END:VEVENT
BEGIN:VEVENT
DTSTART;TZID=America/New_York:20240917T173000
DTEND;TZID=America/New_York:20240917T183000
DTSTAMP:20260425T095646
CREATED:20240326T201109Z
LAST-MODIFIED:20240917T221542Z
UID:10009083-1726594200-1726597800@hrbcrichmond.org
SUMMARY:Choir Officers Meeting
DESCRIPTION:
URL:https://hrbcrichmond.org/event/choir-officers-meeting-34/
LOCATION:Choir Suite
END:VEVENT
BEGIN:VEVENT
DTSTART;TZID=America/New_York:20240820T173000
DTEND;TZID=America/New_York:20240820T183000
DTSTAMP:20260425T095646
CREATED:20240309T003129Z
LAST-MODIFIED:20240820T221546Z
UID:10009009-1724175000-1724178600@hrbcrichmond.org
SUMMARY:Choir Officers Meeting
DESCRIPTION:
URL:https://hrbcrichmond.org/event/choir-officers-meeting-33/
LOCATION:Choir Suite
END:VEVENT
BEGIN:VEVENT
DTSTART;TZID=America/New_York:20240724T180000
DTEND;TZID=America/New_York:20240724T193000
DTSTAMP:20260425T095646
CREATED:20240523T181930Z
LAST-MODIFIED:20240729T183651Z
UID:10009396-1721844000-1721849400@hrbcrichmond.org
SUMMARY:Worship! Leaders and Friends Bible Study
DESCRIPTION:
URL:https://hrbcrichmond.org/event/worship-leaders-and-friends-bible-study-7/
LOCATION:Choir Suite
END:VEVENT
BEGIN:VEVENT
DTSTART;TZID=America/New_York:20240723T170000
DTEND;TZID=America/New_York:20240723T210000
DTSTAMP:20260425T095646
CREATED:20240523T155001Z
LAST-MODIFIED:20240729T183627Z
UID:10009380-1721754000-1721768400@hrbcrichmond.org
SUMMARY:Tues@7 Summer College Bible Study and Dinner
DESCRIPTION:
URL:https://hrbcrichmond.org/event/tues7-summer-college-bible-study-and-dinner-7/
LOCATION:Choir Suite
END:VEVENT
BEGIN:VEVENT
DTSTART;TZID=America/New_York:20240710T180000
DTEND;TZID=America/New_York:20240710T193000
DTSTAMP:20260425T095646
CREATED:20240523T181846Z
LAST-MODIFIED:20240710T231017Z
UID:10009393-1720634400-1720639800@hrbcrichmond.org
SUMMARY:Worship! Leaders and Friends Bible Study
DESCRIPTION:
URL:https://hrbcrichmond.org/event/worship-leaders-and-friends-bible-study-6/
LOCATION:Choir Suite
END:VEVENT
BEGIN:VEVENT
DTSTART;TZID=America/New_York:20240703T180000
DTEND;TZID=America/New_York:20240703T193000
DTSTAMP:20260425T095646
CREATED:20240523T181802Z
LAST-MODIFIED:20240703T225535Z
UID:10009391-1720029600-1720035000@hrbcrichmond.org
SUMMARY:Worship! Leaders and Friends Bible Study
DESCRIPTION:
URL:https://hrbcrichmond.org/event/worship-leaders-and-friends-bible-study-5/
LOCATION:Choir Suite
END:VEVENT
BEGIN:VEVENT
DTSTART;TZID=America/New_York:20240702T190000
DTEND;TZID=America/New_York:20240702T210000
DTSTAMP:20260425T095646
CREATED:20240523T154820Z
LAST-MODIFIED:20240702T235527Z
UID:10009378-1719946800-1719954000@hrbcrichmond.org
SUMMARY:Tues@7 Summer College Bible Study and Dinner
DESCRIPTION:
URL:https://hrbcrichmond.org/event/tues7-summer-college-bible-study-and-dinner-5/
LOCATION:Choir Suite
END:VEVENT
BEGIN:VEVENT
DTSTART;TZID=America/New_York:20240619T180000
DTEND;TZID=America/New_York:20240619T193000
DTSTAMP:20260425T095646
CREATED:20240523T181705Z
LAST-MODIFIED:20240619T232510Z
UID:10009388-1718820000-1718825400@hrbcrichmond.org
SUMMARY:Worship! Leaders and Friends Bible Study
DESCRIPTION:
URL:https://hrbcrichmond.org/event/worship-leaders-and-friends-bible-study-4/
LOCATION:Choir Suite
END:VEVENT
BEGIN:VEVENT
DTSTART;TZID=America/New_York:20240618T190000
DTEND;TZID=America/New_York:20240618T210000
DTSTAMP:20260425T095646
CREATED:20240523T154733Z
LAST-MODIFIED:20240618T234522Z
UID:10009377-1718737200-1718744400@hrbcrichmond.org
SUMMARY:Tues@7 Summer College Bible Study and Dinner
DESCRIPTION:
URL:https://hrbcrichmond.org/event/tues7-summer-college-bible-study-and-dinner-4/
LOCATION:Choir Suite
END:VEVENT
BEGIN:VEVENT
DTSTART;TZID=America/New_York:20240612T180000
DTEND;TZID=America/New_York:20240612T193000
DTSTAMP:20260425T095646
CREATED:20240523T181634Z
LAST-MODIFIED:20240611T225039Z
UID:10009387-1718215200-1718220600@hrbcrichmond.org
SUMMARY:Worship! Leaders and Friends Bible Study
DESCRIPTION:
URL:https://hrbcrichmond.org/event/worship-leaders-and-friends-bible-study-3/
LOCATION:Choir Suite
END:VEVENT
BEGIN:VEVENT
DTSTART;TZID=America/New_York:20240611T190000
DTEND;TZID=America/New_York:20240611T210000
DTSTAMP:20260425T095646
CREATED:20240523T154703Z
LAST-MODIFIED:20240611T225039Z
UID:10009376-1718132400-1718139600@hrbcrichmond.org
SUMMARY:Tues@7 Summer College Bible Study and Dinner
DESCRIPTION:
URL:https://hrbcrichmond.org/event/tues7-summer-college-bible-study-and-dinner-3/
LOCATION:Choir Suite
END:VEVENT
BEGIN:VEVENT
DTSTART;TZID=America/New_York:20240605T180000
DTEND;TZID=America/New_York:20240605T193000
DTSTAMP:20260425T095646
CREATED:20240523T181605Z
LAST-MODIFIED:20240605T232515Z
UID:10009385-1717610400-1717615800@hrbcrichmond.org
SUMMARY:Worship! Leaders and Friends Bible Study
DESCRIPTION:
URL:https://hrbcrichmond.org/event/worship-leaders-and-friends-bible-study-2/
LOCATION:Choir Suite
END:VEVENT
BEGIN:VEVENT
DTSTART;TZID=America/New_York:20240604T190000
DTEND;TZID=America/New_York:20240604T210000
DTSTAMP:20260425T095646
CREATED:20240523T154634Z
LAST-MODIFIED:20240605T003012Z
UID:10009375-1717527600-1717534800@hrbcrichmond.org
SUMMARY:Tues@7 Summer College Bible Study and Dinner
DESCRIPTION:
URL:https://hrbcrichmond.org/event/tues7-summer-college-bible-study-and-dinner-2/
LOCATION:Choir Suite
END:VEVENT
BEGIN:VEVENT
DTSTART;TZID=America/New_York:20240529T180000
DTEND;TZID=America/New_York:20240529T193000
DTSTAMP:20260425T095646
CREATED:20240523T181536Z
LAST-MODIFIED:20240529T223508Z
UID:10009382-1717005600-1717011000@hrbcrichmond.org
SUMMARY:Worship! Leaders and Friends Bible Study
DESCRIPTION:
URL:https://hrbcrichmond.org/event/worship-leaders-and-friends-bible-study/
LOCATION:Choir Suite
END:VEVENT
BEGIN:VEVENT
DTSTART;TZID=America/New_York:20240528T190000
DTEND;TZID=America/New_York:20240528T210000
DTSTAMP:20260425T095646
CREATED:20240523T154605Z
LAST-MODIFIED:20240528T234034Z
UID:10009374-1716922800-1716930000@hrbcrichmond.org
SUMMARY:Tues@7 Summer College Bible Study and Dinner
DESCRIPTION:
URL:https://hrbcrichmond.org/event/tues7-summer-college-bible-study-and-dinner/
LOCATION:Choir Suite
END:VEVENT
BEGIN:VEVENT
DTSTART;TZID=America/New_York:20240522T180000
DTEND;TZID=America/New_York:20240522T190000
DTSTAMP:20260425T095646
CREATED:20240517T131533Z
LAST-MODIFIED:20240522T221512Z
UID:10009346-1716400800-1716404400@hrbcrichmond.org
SUMMARY:The Chosen Extra - A Look Behind the Scenes
DESCRIPTION:
URL:https://hrbcrichmond.org/event/the-chosen-extra-a-look-behind-the-scenes/
LOCATION:Choir Suite
END:VEVENT
BEGIN:VEVENT
DTSTART;TZID=America/New_York:20240416T173000
DTEND;TZID=America/New_York:20240416T183000
DTSTAMP:20260425T095646
CREATED:20231109T174536Z
LAST-MODIFIED:20240416T213510Z
UID:10008380-1713288600-1713292200@hrbcrichmond.org
SUMMARY:Choir Officers Meeting
DESCRIPTION:
URL:https://hrbcrichmond.org/event/choir-officers-meeting-29/
LOCATION:Choir Suite
END:VEVENT
BEGIN:VEVENT
DTSTART;TZID=America/New_York:20240319T173000
DTEND;TZID=America/New_York:20240319T183000
DTSTAMP:20260425T095646
CREATED:20231019T013536Z
LAST-MODIFIED:20240319T221018Z
UID:10008224-1710869400-1710873000@hrbcrichmond.org
SUMMARY:Choir Officers Meeting
DESCRIPTION:
URL:https://hrbcrichmond.org/event/choir-officers-meeting-28/
LOCATION:Choir Suite
END:VEVENT
BEGIN:VEVENT
DTSTART;TZID=America/New_York:20240220T173000
DTEND;TZID=America/New_York:20240220T183000
DTSTAMP:20260425T095646
CREATED:20230925T041526Z
LAST-MODIFIED:20240217T024520Z
UID:10008108-1708450200-1708453800@hrbcrichmond.org
SUMMARY:Choir Officers Meeting
DESCRIPTION:
URL:https://hrbcrichmond.org/event/choir-officers-meeting-27/
LOCATION:Choir Suite
END:VEVENT
BEGIN:VEVENT
DTSTART;TZID=America/New_York:20240116T173000
DTEND;TZID=America/New_York:20240116T183000
DTSTAMP:20260425T095646
CREATED:20230906T160448Z
LAST-MODIFIED:20240116T225015Z
UID:10008003-1705426200-1705429800@hrbcrichmond.org
SUMMARY:Choir Officers Meeting
DESCRIPTION:
URL:https://hrbcrichmond.org/event/choir-officers-meeting-26/
LOCATION:Choir Suite
END:VEVENT
BEGIN:VEVENT
DTSTART;TZID=America/New_York:20231219T173000
DTEND;TZID=America/New_York:20231219T183000
DTSTAMP:20260425T095646
CREATED:20230831T143025Z
LAST-MODIFIED:20231219T233030Z
UID:10007970-1703007000-1703010600@hrbcrichmond.org
SUMMARY:Choir Officers Meeting
DESCRIPTION:
URL:https://hrbcrichmond.org/event/choir-officers-meeting-25/
LOCATION:Choir Suite
END:VEVENT
BEGIN:VEVENT
DTSTART;TZID=America/New_York:20231115T180000
DTEND;TZID=America/New_York:20231115T184000
DTSTAMP:20260425T095646
CREATED:20231113T201315Z
LAST-MODIFIED:20231115T231017Z
UID:10008415-1700071200-1700073600@hrbcrichmond.org
SUMMARY:King's Kids Choir
DESCRIPTION:
URL:https://hrbcrichmond.org/event/kings-kids-choir-33/
LOCATION:Choir Suite
END:VEVENT
BEGIN:VEVENT
DTSTART;TZID=America/New_York:20231108T180000
DTEND;TZID=America/New_York:20231108T184000
DTSTAMP:20260425T095646
CREATED:20230809T174746Z
LAST-MODIFIED:20231108T231534Z
UID:10007850-1699466400-1699468800@hrbcrichmond.org
SUMMARY:King's Kids Choir
DESCRIPTION:
URL:https://hrbcrichmond.org/event/kings-kids-choir-10/
LOCATION:Choir Suite
END:VEVENT
BEGIN:VEVENT
DTSTART;TZID=America/New_York:20231101T180000
DTEND;TZID=America/New_York:20231101T184000
DTSTAMP:20260425T095646
CREATED:20230809T174711Z
LAST-MODIFIED:20231101T214532Z
UID:10007847-1698861600-1698864000@hrbcrichmond.org
SUMMARY:King's Kids Choir
DESCRIPTION:
URL:https://hrbcrichmond.org/event/kings-kids-choir-9/
LOCATION:Choir Suite
END:VEVENT
BEGIN:VEVENT
DTSTART;TZID=America/New_York:20231025T180000
DTEND;TZID=America/New_York:20231025T184000
DTSTAMP:20260425T095646
CREATED:20230809T174638Z
LAST-MODIFIED:20231025T215530Z
UID:10007840-1698256800-1698259200@hrbcrichmond.org
SUMMARY:King's Kids Choir
DESCRIPTION:
URL:https://hrbcrichmond.org/event/kings-kids-choir-8/
LOCATION:Choir Suite
END:VEVENT
END:VCALENDAR