BEGIN:VCALENDAR
VERSION:2.0
PRODID:-//Huguenot Road Baptist Church - ECPv6.15.20//NONSGML v1.0//EN
CALSCALE:GREGORIAN
METHOD:PUBLISH
X-WR-CALNAME:Huguenot Road Baptist Church
X-ORIGINAL-URL:https://hrbcrichmond.org
X-WR-CALDESC:Events for Huguenot Road Baptist Church
REFRESH-INTERVAL;VALUE=DURATION:PT1H
X-Robots-Tag:noindex
X-PUBLISHED-TTL:PT1H
BEGIN:VTIMEZONE
TZID:America/New_York
BEGIN:DAYLIGHT
TZOFFSETFROM:-0500
TZOFFSETTO:-0400
TZNAME:EDT
DTSTART:20220313T070000
END:DAYLIGHT
BEGIN:STANDARD
TZOFFSETFROM:-0400
TZOFFSETTO:-0500
TZNAME:EST
DTSTART:20221106T060000
END:STANDARD
BEGIN:DAYLIGHT
TZOFFSETFROM:-0500
TZOFFSETTO:-0400
TZNAME:EDT
DTSTART:20230312T070000
END:DAYLIGHT
BEGIN:STANDARD
TZOFFSETFROM:-0400
TZOFFSETTO:-0500
TZNAME:EST
DTSTART:20231105T060000
END:STANDARD
BEGIN:DAYLIGHT
TZOFFSETFROM:-0500
TZOFFSETTO:-0400
TZNAME:EDT
DTSTART:20240310T070000
END:DAYLIGHT
BEGIN:STANDARD
TZOFFSETFROM:-0400
TZOFFSETTO:-0500
TZNAME:EST
DTSTART:20241103T060000
END:STANDARD
BEGIN:DAYLIGHT
TZOFFSETFROM:-0500
TZOFFSETTO:-0400
TZNAME:EDT
DTSTART:20250309T070000
END:DAYLIGHT
BEGIN:STANDARD
TZOFFSETFROM:-0400
TZOFFSETTO:-0500
TZNAME:EST
DTSTART:20251102T060000
END:STANDARD
END:VTIMEZONE
BEGIN:VEVENT
DTSTART;TZID=America/New_York:20240124T190000
DTEND;TZID=America/New_York:20240124T203000
DTSTAMP:20260425T164232
CREATED:20230906T205027Z
LAST-MODIFIED:20240125T010046Z
UID:10008028-1706122800-1706128200@hrbcrichmond.org
SUMMARY:Worship! Choir and Band Rehearsal
DESCRIPTION:
URL:https://hrbcrichmond.org/event/worship-choir-and-band-rehearsal-34/
LOCATION:Choir Suite; Sanctuary
END:VEVENT
BEGIN:VEVENT
DTSTART;TZID=America/New_York:20240117T190000
DTEND;TZID=America/New_York:20240117T203000
DTSTAMP:20260425T164232
CREATED:20230906T160500Z
LAST-MODIFIED:20240118T003508Z
UID:10008009-1705518000-1705523400@hrbcrichmond.org
SUMMARY:Worship! Choir and Band Rehearsal
DESCRIPTION:
URL:https://hrbcrichmond.org/event/worship-choir-and-band-rehearsal-33/
LOCATION:Choir Suite; Sanctuary
END:VEVENT
BEGIN:VEVENT
DTSTART;TZID=America/New_York:20240110T190000
DTEND;TZID=America/New_York:20240110T203000
DTSTAMP:20260425T164232
CREATED:20230801T223455Z
LAST-MODIFIED:20240111T012009Z
UID:10007685-1704913200-1704918600@hrbcrichmond.org
SUMMARY:Worship! Choir and Band Rehearsal
DESCRIPTION:
URL:https://hrbcrichmond.org/event/worship-choir-and-band-rehearsal-32/
LOCATION:Choir Suite; Sanctuary
END:VEVENT
BEGIN:VEVENT
DTSTART;TZID=America/New_York:20231220T190000
DTEND;TZID=America/New_York:20231220T193000
DTSTAMP:20260425T164232
CREATED:20230630T171935Z
LAST-MODIFIED:20231221T001010Z
UID:10007583-1703098800-1703100600@hrbcrichmond.org
SUMMARY:Worship! Choir and Band Rehearsal
DESCRIPTION:
URL:https://hrbcrichmond.org/event/worship-choir-and-band-rehearsal-29/
LOCATION:Choir Suite; Sanctuary
END:VEVENT
BEGIN:VEVENT
DTSTART;TZID=America/New_York:20231213T190000
DTEND;TZID=America/New_York:20231213T193000
DTSTAMP:20260425T164232
CREATED:20230630T171910Z
LAST-MODIFIED:20231213T235018Z
UID:10007561-1702494000-1702495800@hrbcrichmond.org
SUMMARY:Worship! Choir and Band Rehearsal
DESCRIPTION:
URL:https://hrbcrichmond.org/event/worship-choir-and-band-rehearsal-28/
LOCATION:Choir Suite; Sanctuary
END:VEVENT
BEGIN:VEVENT
DTSTART;TZID=America/New_York:20231206T190000
DTEND;TZID=America/New_York:20231206T193000
DTSTAMP:20260425T164232
CREATED:20230630T171846Z
LAST-MODIFIED:20231206T235518Z
UID:10007541-1701889200-1701891000@hrbcrichmond.org
SUMMARY:Worship! Choir and Band Rehearsal
DESCRIPTION:
URL:https://hrbcrichmond.org/event/worship-choir-and-band-rehearsal-27/
LOCATION:Choir Suite; Sanctuary
END:VEVENT
BEGIN:VEVENT
DTSTART;TZID=America/New_York:20231129T190000
DTEND;TZID=America/New_York:20231129T193000
DTSTAMP:20260425T164232
CREATED:20230630T171822Z
LAST-MODIFIED:20231129T233516Z
UID:10007518-1701284400-1701286200@hrbcrichmond.org
SUMMARY:Worship! Choir and Band Rehearsal
DESCRIPTION:
URL:https://hrbcrichmond.org/event/worship-choir-and-band-rehearsal-26/
LOCATION:Choir Suite; Sanctuary
END:VEVENT
BEGIN:VEVENT
DTSTART;TZID=America/New_York:20231115T190000
DTEND;TZID=America/New_York:20231115T193000
DTSTAMP:20260425T164232
CREATED:20230630T171737Z
LAST-MODIFIED:20231116T002016Z
UID:10007478-1700074800-1700076600@hrbcrichmond.org
SUMMARY:Worship! Choir and Band Rehearsal
DESCRIPTION:
URL:https://hrbcrichmond.org/event/worship-choir-and-band-rehearsal-24/
LOCATION:Choir Suite; Sanctuary
END:VEVENT
BEGIN:VEVENT
DTSTART;TZID=America/New_York:20231108T190000
DTEND;TZID=America/New_York:20231108T193000
DTSTAMP:20260425T164232
CREATED:20230630T171713Z
LAST-MODIFIED:20231109T001517Z
UID:10007457-1699470000-1699471800@hrbcrichmond.org
SUMMARY:Worship! Choir and Band Rehearsal
DESCRIPTION:
URL:https://hrbcrichmond.org/event/worship-choir-and-band-rehearsal-23/
LOCATION:Choir Suite; Sanctuary
END:VEVENT
BEGIN:VEVENT
DTSTART;TZID=America/New_York:20231101T190000
DTEND;TZID=America/New_York:20231101T193000
DTSTAMP:20260425T164232
CREATED:20230630T171639Z
LAST-MODIFIED:20231101T230020Z
UID:10007433-1698865200-1698867000@hrbcrichmond.org
SUMMARY:Worship! Choir and Band Rehearsal
DESCRIPTION:
URL:https://hrbcrichmond.org/event/worship-choir-and-band-rehearsal-22/
LOCATION:Choir Suite; Sanctuary
END:VEVENT
BEGIN:VEVENT
DTSTART;TZID=America/New_York:20231025T190000
DTEND;TZID=America/New_York:20231025T193000
DTSTAMP:20260425T164232
CREATED:20230630T171615Z
LAST-MODIFIED:20231025T231542Z
UID:10007413-1698260400-1698262200@hrbcrichmond.org
SUMMARY:Worship! Choir and Band Rehearsal
DESCRIPTION:
URL:https://hrbcrichmond.org/event/worship-choir-and-band-rehearsal-21/
LOCATION:Choir Suite; Sanctuary
END:VEVENT
BEGIN:VEVENT
DTSTART;TZID=America/New_York:20231018T190000
DTEND;TZID=America/New_York:20231018T193000
DTSTAMP:20260425T164232
CREATED:20230630T010529Z
LAST-MODIFIED:20231018T231304Z
UID:10007394-1697655600-1697657400@hrbcrichmond.org
SUMMARY:Worship! Choir and Band Rehearsal
DESCRIPTION:
URL:https://hrbcrichmond.org/event/worship-choir-and-band-rehearsal-20/
LOCATION:Choir Suite; Sanctuary
END:VEVENT
BEGIN:VEVENT
DTSTART;TZID=America/New_York:20231011T190000
DTEND;TZID=America/New_York:20231011T193000
DTSTAMP:20260425T164232
CREATED:20230622T005033Z
LAST-MODIFIED:20231011T232025Z
UID:10007368-1697050800-1697052600@hrbcrichmond.org
SUMMARY:Worship! Choir and Band Rehearsal
DESCRIPTION:
URL:https://hrbcrichmond.org/event/worship-choir-and-band-rehearsal-19/
LOCATION:Choir Suite; Sanctuary
END:VEVENT
BEGIN:VEVENT
DTSTART;TZID=America/New_York:20231004T190000
DTEND;TZID=America/New_York:20231004T193000
DTSTAMP:20260425T164232
CREATED:20230608T043048Z
LAST-MODIFIED:20231004T232530Z
UID:10007315-1696446000-1696447800@hrbcrichmond.org
SUMMARY:Worship! Choir and Band Rehearsal
DESCRIPTION:
URL:https://hrbcrichmond.org/event/worship-choir-and-band-rehearsal-18/
LOCATION:Choir Suite; Sanctuary
END:VEVENT
BEGIN:VEVENT
DTSTART;TZID=America/New_York:20230927T190000
DTEND;TZID=America/New_York:20230927T193000
DTSTAMP:20260425T164232
CREATED:20230606T185102Z
LAST-MODIFIED:20230927T231024Z
UID:10007127-1695841200-1695843000@hrbcrichmond.org
SUMMARY:Worship! Choir and Band Rehearsal
DESCRIPTION:
URL:https://hrbcrichmond.org/event/worship-choir-and-band-rehearsal-17/
LOCATION:Choir Suite; Sanctuary
END:VEVENT
BEGIN:VEVENT
DTSTART;TZID=America/New_York:20230920T190000
DTEND;TZID=America/New_York:20230920T193000
DTSTAMP:20260425T164232
CREATED:20230606T185058Z
LAST-MODIFIED:20230920T224021Z
UID:10007108-1695236400-1695238200@hrbcrichmond.org
SUMMARY:Worship! Choir and Band Rehearsal
DESCRIPTION:
URL:https://hrbcrichmond.org/event/worship-choir-and-band-rehearsal-16/
LOCATION:Choir Suite; Sanctuary
END:VEVENT
BEGIN:VEVENT
DTSTART;TZID=America/New_York:20230913T190000
DTEND;TZID=America/New_York:20230913T193000
DTSTAMP:20260425T164232
CREATED:20230606T185054Z
LAST-MODIFIED:20230913T232539Z
UID:10007088-1694631600-1694633400@hrbcrichmond.org
SUMMARY:Worship! Choir and Band Rehearsal
DESCRIPTION:
URL:https://hrbcrichmond.org/event/worship-choir-and-band-rehearsal-15/
LOCATION:Choir Suite; Sanctuary
END:VEVENT
BEGIN:VEVENT
DTSTART;TZID=America/New_York:20230906T190000
DTEND;TZID=America/New_York:20230906T193000
DTSTAMP:20260425T164232
CREATED:20230606T185050Z
LAST-MODIFIED:20230906T224025Z
UID:10007069-1694026800-1694028600@hrbcrichmond.org
SUMMARY:Worship! Choir and Band Rehearsal
DESCRIPTION:
URL:https://hrbcrichmond.org/event/worship-choir-and-band-rehearsal-14/
LOCATION:Choir Suite; Sanctuary
END:VEVENT
BEGIN:VEVENT
DTSTART;TZID=America/New_York:20230830T190000
DTEND;TZID=America/New_York:20230830T203000
DTSTAMP:20260425T164232
CREATED:20230606T185046Z
LAST-MODIFIED:20230830T235036Z
UID:10007047-1693422000-1693427400@hrbcrichmond.org
SUMMARY:Worship! Choir and Band Rehearsal
DESCRIPTION:
URL:https://hrbcrichmond.org/event/worship-choir-and-band-rehearsal-13/
LOCATION:Choir Suite; Sanctuary
END:VEVENT
BEGIN:VEVENT
DTSTART;TZID=America/New_York:20230823T190000
DTEND;TZID=America/New_York:20230823T203000
DTSTAMP:20260425T164232
CREATED:20230606T185042Z
LAST-MODIFIED:20230823T234022Z
UID:10007029-1692817200-1692822600@hrbcrichmond.org
SUMMARY:Worship! Choir and Band Rehearsal
DESCRIPTION:
URL:https://hrbcrichmond.org/event/worship-choir-and-band-rehearsal-12/
LOCATION:Choir Suite; Sanctuary
END:VEVENT
BEGIN:VEVENT
DTSTART;TZID=America/New_York:20230816T190000
DTEND;TZID=America/New_York:20230816T203000
DTSTAMP:20260425T164232
CREATED:20230606T185038Z
LAST-MODIFIED:20230816T235026Z
UID:10007011-1692212400-1692217800@hrbcrichmond.org
SUMMARY:Worship! Choir and Band Rehearsal
DESCRIPTION:
URL:https://hrbcrichmond.org/event/worship-choir-and-band-rehearsal-11/
LOCATION:Choir Suite; Sanctuary
END:VEVENT
BEGIN:VEVENT
DTSTART;TZID=America/New_York:20230809T190000
DTEND;TZID=America/New_York:20230809T203000
DTSTAMP:20260425T164232
CREATED:20230606T185034Z
LAST-MODIFIED:20230809T233016Z
UID:10006993-1691607600-1691613000@hrbcrichmond.org
SUMMARY:Worship! Choir and Band Rehearsal
DESCRIPTION:
URL:https://hrbcrichmond.org/event/worship-choir-and-band-rehearsal-10/
LOCATION:Choir Suite; Sanctuary
END:VEVENT
BEGIN:VEVENT
DTSTART;TZID=America/New_York:20230802T190000
DTEND;TZID=America/New_York:20230802T203000
DTSTAMP:20260425T164232
CREATED:20230606T185032Z
LAST-MODIFIED:20230803T002523Z
UID:10006979-1691002800-1691008200@hrbcrichmond.org
SUMMARY:Worship! Choir and Band Rehearsal
DESCRIPTION:
URL:https://hrbcrichmond.org/event/worship-choir-and-band-rehearsal-9/
LOCATION:Choir Suite; Sanctuary
END:VEVENT
BEGIN:VEVENT
DTSTART;TZID=America/New_York:20230726T190000
DTEND;TZID=America/New_York:20230726T203000
DTSTAMP:20260425T164232
CREATED:20230606T185029Z
LAST-MODIFIED:20230705T143600Z
UID:10006965-1690398000-1690403400@hrbcrichmond.org
SUMMARY:Worship! Choir and Band Rehearsal
DESCRIPTION:
URL:https://hrbcrichmond.org/event/worship-choir-and-band-rehearsal-8/
LOCATION:Choir Suite; Sanctuary
END:VEVENT
BEGIN:VEVENT
DTSTART;TZID=America/New_York:20230719T190000
DTEND;TZID=America/New_York:20230719T203000
DTSTAMP:20260425T164232
CREATED:20230606T185026Z
LAST-MODIFIED:20230720T002523Z
UID:10006951-1689793200-1689798600@hrbcrichmond.org
SUMMARY:Worship! Choir and Band Rehearsal
DESCRIPTION:
URL:https://hrbcrichmond.org/event/worship-choir-and-band-rehearsal-7/
LOCATION:Choir Suite; Sanctuary
END:VEVENT
BEGIN:VEVENT
DTSTART;TZID=America/New_York:20230712T190000
DTEND;TZID=America/New_York:20230712T203000
DTSTAMP:20260425T164232
CREATED:20230606T185023Z
LAST-MODIFIED:20230713T002531Z
UID:10006935-1689188400-1689193800@hrbcrichmond.org
SUMMARY:Worship! Choir and Band Rehearsal
DESCRIPTION:
URL:https://hrbcrichmond.org/event/worship-choir-and-band-rehearsal-6/
LOCATION:Choir Suite; Sanctuary
END:VEVENT
BEGIN:VEVENT
DTSTART;TZID=America/New_York:20230705T190000
DTEND;TZID=America/New_York:20230705T203000
DTSTAMP:20260425T164232
CREATED:20230606T185019Z
LAST-MODIFIED:20230706T002540Z
UID:10006918-1688583600-1688589000@hrbcrichmond.org
SUMMARY:Worship! Choir and Band Rehearsal
DESCRIPTION:
URL:https://hrbcrichmond.org/event/worship-choir-and-band-rehearsal-5/
LOCATION:Choir Suite; Sanctuary
END:VEVENT
BEGIN:VEVENT
DTSTART;TZID=America/New_York:20230628T190000
DTEND;TZID=America/New_York:20230628T203000
DTSTAMP:20260425T164232
CREATED:20230606T185016Z
LAST-MODIFIED:20230705T143648Z
UID:10006904-1687978800-1687984200@hrbcrichmond.org
SUMMARY:Worship! Choir and Band Rehearsal
DESCRIPTION:
URL:https://hrbcrichmond.org/event/worship-choir-and-band-rehearsal-4/
LOCATION:Choir Suite; Sanctuary
END:VEVENT
BEGIN:VEVENT
DTSTART;TZID=America/New_York:20230621T190000
DTEND;TZID=America/New_York:20230621T203000
DTSTAMP:20260425T164232
CREATED:20230606T185012Z
LAST-MODIFIED:20230705T143725Z
UID:10006884-1687374000-1687379400@hrbcrichmond.org
SUMMARY:Worship! Choir and Band Rehearsal
DESCRIPTION:
URL:https://hrbcrichmond.org/event/worship-choir-and-band-rehearsal-3/
LOCATION:Choir Suite; Sanctuary
END:VEVENT
BEGIN:VEVENT
DTSTART;TZID=America/New_York:20230614T190000
DTEND;TZID=America/New_York:20230614T203000
DTSTAMP:20260425T164232
CREATED:20230606T185008Z
LAST-MODIFIED:20230615T002532Z
UID:10006867-1686769200-1686774600@hrbcrichmond.org
SUMMARY:Worship! Choir and Band Rehearsal
DESCRIPTION:
URL:https://hrbcrichmond.org/event/worship-choir-and-band-rehearsal-2/
LOCATION:Choir Suite; Sanctuary
END:VEVENT
END:VCALENDAR