BEGIN:VCALENDAR
VERSION:2.0
PRODID:-//Huguenot Road Baptist Church - ECPv6.15.20//NONSGML v1.0//EN
CALSCALE:GREGORIAN
METHOD:PUBLISH
X-ORIGINAL-URL:https://hrbcrichmond.org
X-WR-CALDESC:Events for Huguenot Road Baptist Church
REFRESH-INTERVAL;VALUE=DURATION:PT1H
X-Robots-Tag:noindex
X-PUBLISHED-TTL:PT1H
BEGIN:VTIMEZONE
TZID:America/New_York
BEGIN:DAYLIGHT
TZOFFSETFROM:-0500
TZOFFSETTO:-0400
TZNAME:EDT
DTSTART:20220313T070000
END:DAYLIGHT
BEGIN:STANDARD
TZOFFSETFROM:-0400
TZOFFSETTO:-0500
TZNAME:EST
DTSTART:20221106T060000
END:STANDARD
BEGIN:DAYLIGHT
TZOFFSETFROM:-0500
TZOFFSETTO:-0400
TZNAME:EDT
DTSTART:20230312T070000
END:DAYLIGHT
BEGIN:STANDARD
TZOFFSETFROM:-0400
TZOFFSETTO:-0500
TZNAME:EST
DTSTART:20231105T060000
END:STANDARD
BEGIN:DAYLIGHT
TZOFFSETFROM:-0500
TZOFFSETTO:-0400
TZNAME:EDT
DTSTART:20240310T070000
END:DAYLIGHT
BEGIN:STANDARD
TZOFFSETFROM:-0400
TZOFFSETTO:-0500
TZNAME:EST
DTSTART:20241103T060000
END:STANDARD
END:VTIMEZONE
BEGIN:VEVENT
DTSTART;TZID=America/New_York:20230411T113000
DTEND;TZID=America/New_York:20230411T133000
DTSTAMP:20260425T114545
CREATED:20230324T185645Z
LAST-MODIFIED:20230324T190024Z
UID:10005617-1681212600-1681219800@hrbcrichmond.org
SUMMARY:Fellowship Lunch
DESCRIPTION:Register here
URL:https://hrbcrichmond.org/event/fellowship-lunch/
LOCATION:Carrabba’s\, 11450 Midlothian Turnpike\, Richmond\, VA\, 23235\, United States
CATEGORIES:All Church Event
ATTACH;FMTTYPE=image/png:https://hrbcrichmond.org/wp-content/uploads/2023/03/04FellowshipLunch.png
END:VEVENT
END:VCALENDAR