BEGIN:VCALENDAR
VERSION:2.0
PRODID:-//Huguenot Road Baptist Church - ECPv6.15.20//NONSGML v1.0//EN
CALSCALE:GREGORIAN
METHOD:PUBLISH
X-WR-CALNAME:Huguenot Road Baptist Church
X-ORIGINAL-URL:https://hrbcrichmond.org
X-WR-CALDESC:Events for Huguenot Road Baptist Church
REFRESH-INTERVAL;VALUE=DURATION:PT1H
X-Robots-Tag:noindex
X-PUBLISHED-TTL:PT1H
BEGIN:VTIMEZONE
TZID:America/New_York
BEGIN:DAYLIGHT
TZOFFSETFROM:-0500
TZOFFSETTO:-0400
TZNAME:EDT
DTSTART:20250309T070000
END:DAYLIGHT
BEGIN:STANDARD
TZOFFSETFROM:-0400
TZOFFSETTO:-0500
TZNAME:EST
DTSTART:20251102T060000
END:STANDARD
BEGIN:DAYLIGHT
TZOFFSETFROM:-0500
TZOFFSETTO:-0400
TZNAME:EDT
DTSTART:20260308T070000
END:DAYLIGHT
BEGIN:STANDARD
TZOFFSETFROM:-0400
TZOFFSETTO:-0500
TZNAME:EST
DTSTART:20261101T060000
END:STANDARD
BEGIN:DAYLIGHT
TZOFFSETFROM:-0500
TZOFFSETTO:-0400
TZNAME:EDT
DTSTART:20270314T070000
END:DAYLIGHT
BEGIN:STANDARD
TZOFFSETFROM:-0400
TZOFFSETTO:-0500
TZNAME:EST
DTSTART:20271107T060000
END:STANDARD
END:VTIMEZONE
BEGIN:VEVENT
DTSTART;TZID=America/New_York:20260430T193000
DTEND;TZID=America/New_York:20260430T203000
DTSTAMP:20260424T193247
CREATED:20250907T164423Z
LAST-MODIFIED:20260424T222555Z
UID:10012329-1777577400-1777581000@hrbcrichmond.org
SUMMARY:Families Anonymous
DESCRIPTION:
URL:https://hrbcrichmond.org/event/families-anonymous-159/
LOCATION:209
END:VEVENT
BEGIN:VEVENT
DTSTART;TZID=America/New_York:20260507T193000
DTEND;TZID=America/New_York:20260507T203000
DTSTAMP:20260424T193247
CREATED:20251002T225401Z
LAST-MODIFIED:20260424T222625Z
UID:10012444-1778182200-1778185800@hrbcrichmond.org
SUMMARY:Families Anonymous
DESCRIPTION:
URL:https://hrbcrichmond.org/event/families-anonymous-160/
LOCATION:209
END:VEVENT
BEGIN:VEVENT
DTSTART;TZID=America/New_York:20260514T193000
DTEND;TZID=America/New_York:20260514T203000
DTSTAMP:20260424T193247
CREATED:20251017T005033Z
LAST-MODIFIED:20260424T222656Z
UID:10012507-1778787000-1778790600@hrbcrichmond.org
SUMMARY:Families Anonymous
DESCRIPTION:
URL:https://hrbcrichmond.org/event/families-anonymous-161/
LOCATION:209
END:VEVENT
BEGIN:VEVENT
DTSTART;TZID=America/New_York:20260521T193000
DTEND;TZID=America/New_York:20260521T203000
DTSTAMP:20260424T193247
CREATED:20251022T043605Z
LAST-MODIFIED:20260424T222726Z
UID:10012523-1779391800-1779395400@hrbcrichmond.org
SUMMARY:Families Anonymous
DESCRIPTION:
URL:https://hrbcrichmond.org/event/families-anonymous-162/
LOCATION:209
END:VEVENT
BEGIN:VEVENT
DTSTART;TZID=America/New_York:20260528T193000
DTEND;TZID=America/New_York:20260528T203000
DTSTAMP:20260424T193247
CREATED:20251027T232102Z
LAST-MODIFIED:20260424T222753Z
UID:10012535-1779996600-1780000200@hrbcrichmond.org
SUMMARY:Families Anonymous
DESCRIPTION:
URL:https://hrbcrichmond.org/event/families-anonymous-163/
LOCATION:209
END:VEVENT
BEGIN:VEVENT
DTSTART;TZID=America/New_York:20260604T193000
DTEND;TZID=America/New_York:20260604T203000
DTSTAMP:20260424T193247
CREATED:20251102T192048Z
LAST-MODIFIED:20260424T222809Z
UID:10012553-1780601400-1780605000@hrbcrichmond.org
SUMMARY:Families Anonymous
DESCRIPTION:
URL:https://hrbcrichmond.org/event/families-anonymous-164/
LOCATION:209
END:VEVENT
BEGIN:VEVENT
DTSTART;TZID=America/New_York:20260611T193000
DTEND;TZID=America/New_York:20260611T203000
DTSTAMP:20260424T193247
CREATED:20251106T005053Z
LAST-MODIFIED:20260424T222848Z
UID:10012568-1781206200-1781209800@hrbcrichmond.org
SUMMARY:Families Anonymous
DESCRIPTION:
URL:https://hrbcrichmond.org/event/families-anonymous-165/
LOCATION:209
END:VEVENT
BEGIN:VEVENT
DTSTART;TZID=America/New_York:20260618T193000
DTEND;TZID=America/New_York:20260618T203000
DTSTAMP:20260424T193247
CREATED:20251114T150619Z
LAST-MODIFIED:20260424T222914Z
UID:10012609-1781811000-1781814600@hrbcrichmond.org
SUMMARY:Families Anonymous
DESCRIPTION:
URL:https://hrbcrichmond.org/event/families-anonymous-166/
LOCATION:209
END:VEVENT
BEGIN:VEVENT
DTSTART;TZID=America/New_York:20260625T193000
DTEND;TZID=America/New_York:20260625T203000
DTSTAMP:20260424T193247
CREATED:20251120T005109Z
LAST-MODIFIED:20260424T222930Z
UID:10012627-1782415800-1782419400@hrbcrichmond.org
SUMMARY:Families Anonymous
DESCRIPTION:
URL:https://hrbcrichmond.org/event/families-anonymous-167/
LOCATION:209
END:VEVENT
BEGIN:VEVENT
DTSTART;TZID=America/New_York:20260702T193000
DTEND;TZID=America/New_York:20260702T203000
DTSTAMP:20260424T193247
CREATED:20251123T062110Z
LAST-MODIFIED:20260424T222947Z
UID:10012644-1783020600-1783024200@hrbcrichmond.org
SUMMARY:Families Anonymous
DESCRIPTION:
URL:https://hrbcrichmond.org/event/families-anonymous-168/
LOCATION:209
END:VEVENT
BEGIN:VEVENT
DTSTART;TZID=America/New_York:20260709T193000
DTEND;TZID=America/New_York:20260709T203000
DTSTAMP:20260424T193247
CREATED:20251201T180613Z
LAST-MODIFIED:20260424T223014Z
UID:10012679-1783625400-1783629000@hrbcrichmond.org
SUMMARY:Families Anonymous
DESCRIPTION:
URL:https://hrbcrichmond.org/event/families-anonymous-169/
LOCATION:209
END:VEVENT
BEGIN:VEVENT
DTSTART;TZID=America/New_York:20260716T193000
DTEND;TZID=America/New_York:20260716T203000
DTSTAMP:20260424T193247
CREATED:20251201T180627Z
LAST-MODIFIED:20260424T223041Z
UID:10012693-1784230200-1784233800@hrbcrichmond.org
SUMMARY:Families Anonymous
DESCRIPTION:
URL:https://hrbcrichmond.org/event/families-anonymous-170/
LOCATION:209
END:VEVENT
BEGIN:VEVENT
DTSTART;TZID=America/New_York:20260723T193000
DTEND;TZID=America/New_York:20260723T203000
DTSTAMP:20260424T193247
CREATED:20251207T175102Z
LAST-MODIFIED:20260424T223108Z
UID:10012715-1784835000-1784838600@hrbcrichmond.org
SUMMARY:Families Anonymous
DESCRIPTION:
URL:https://hrbcrichmond.org/event/families-anonymous-171/
LOCATION:209
END:VEVENT
BEGIN:VEVENT
DTSTART;TZID=America/New_York:20260730T193000
DTEND;TZID=America/New_York:20260730T203000
DTSTAMP:20260424T193247
CREATED:20251208T162054Z
LAST-MODIFIED:20260424T223124Z
UID:10012725-1785439800-1785443400@hrbcrichmond.org
SUMMARY:Families Anonymous
DESCRIPTION:
URL:https://hrbcrichmond.org/event/families-anonymous-172/
LOCATION:209
END:VEVENT
BEGIN:VEVENT
DTSTART;TZID=America/New_York:20260806T193000
DTEND;TZID=America/New_York:20260806T203000
DTSTAMP:20260424T193247
CREATED:20251212T025043Z
LAST-MODIFIED:20260424T223152Z
UID:10012745-1786044600-1786048200@hrbcrichmond.org
SUMMARY:Families Anonymous
DESCRIPTION:
URL:https://hrbcrichmond.org/event/families-anonymous-173/
LOCATION:209
END:VEVENT
BEGIN:VEVENT
DTSTART;TZID=America/New_York:20260813T193000
DTEND;TZID=America/New_York:20260813T203000
DTSTAMP:20260424T193247
CREATED:20251216T153555Z
LAST-MODIFIED:20260424T223219Z
UID:10012756-1786649400-1786653000@hrbcrichmond.org
SUMMARY:Families Anonymous
DESCRIPTION:
URL:https://hrbcrichmond.org/event/families-anonymous-174/
LOCATION:209
END:VEVENT
BEGIN:VEVENT
DTSTART;TZID=America/New_York:20260820T193000
DTEND;TZID=America/New_York:20260820T203000
DTSTAMP:20260424T193247
CREATED:20251223T150618Z
LAST-MODIFIED:20260424T223235Z
UID:10012786-1787254200-1787257800@hrbcrichmond.org
SUMMARY:Families Anonymous
DESCRIPTION:
URL:https://hrbcrichmond.org/event/families-anonymous-175/
LOCATION:209
END:VEVENT
BEGIN:VEVENT
DTSTART;TZID=America/New_York:20260827T193000
DTEND;TZID=America/New_York:20260827T203000
DTSTAMP:20260424T193247
CREATED:20260104T160622Z
LAST-MODIFIED:20260424T223301Z
UID:10012800-1787859000-1787862600@hrbcrichmond.org
SUMMARY:Families Anonymous
DESCRIPTION:
URL:https://hrbcrichmond.org/event/families-anonymous-176/
LOCATION:209
END:VEVENT
BEGIN:VEVENT
DTSTART;TZID=America/New_York:20260903T193000
DTEND;TZID=America/New_York:20260903T203000
DTSTAMP:20260424T193247
CREATED:20260111T175049Z
LAST-MODIFIED:20260424T223318Z
UID:10012822-1788463800-1788467400@hrbcrichmond.org
SUMMARY:Families Anonymous
DESCRIPTION:
URL:https://hrbcrichmond.org/event/families-anonymous-177/
LOCATION:209
END:VEVENT
BEGIN:VEVENT
DTSTART;TZID=America/New_York:20260910T193000
DTEND;TZID=America/New_York:20260910T203000
DTSTAMP:20260424T193247
CREATED:20260120T155105Z
LAST-MODIFIED:20260424T223346Z
UID:10012849-1789068600-1789072200@hrbcrichmond.org
SUMMARY:Families Anonymous
DESCRIPTION:
URL:https://hrbcrichmond.org/event/families-anonymous-178/
LOCATION:209
END:VEVENT
BEGIN:VEVENT
DTSTART;TZID=America/New_York:20260917T193000
DTEND;TZID=America/New_York:20260917T203000
DTSTAMP:20260424T193247
CREATED:20260224T163647Z
LAST-MODIFIED:20260424T223415Z
UID:10012978-1789673400-1789677000@hrbcrichmond.org
SUMMARY:Families Anonymous
DESCRIPTION:
URL:https://hrbcrichmond.org/event/families-anonymous-179/
LOCATION:209
END:VEVENT
BEGIN:VEVENT
DTSTART;TZID=America/New_York:20260924T193000
DTEND;TZID=America/New_York:20260924T203000
DTSTAMP:20260424T193247
CREATED:20260301T175215Z
LAST-MODIFIED:20260424T223442Z
UID:10012991-1790278200-1790281800@hrbcrichmond.org
SUMMARY:Families Anonymous
DESCRIPTION:
URL:https://hrbcrichmond.org/event/families-anonymous-180/
LOCATION:209
END:VEVENT
BEGIN:VEVENT
DTSTART;TZID=America/New_York:20261001T193000
DTEND;TZID=America/New_York:20261001T203000
DTSTAMP:20260424T193247
CREATED:20260303T022144Z
LAST-MODIFIED:20260424T223458Z
UID:10013004-1790883000-1790886600@hrbcrichmond.org
SUMMARY:Families Anonymous
DESCRIPTION:
URL:https://hrbcrichmond.org/event/families-anonymous-181/
LOCATION:209
END:VEVENT
BEGIN:VEVENT
DTSTART;TZID=America/New_York:20261008T193000
DTEND;TZID=America/New_York:20261008T203000
DTSTAMP:20260424T193247
CREATED:20260309T163704Z
LAST-MODIFIED:20260424T223527Z
UID:10013120-1791487800-1791491400@hrbcrichmond.org
SUMMARY:Families Anonymous
DESCRIPTION:
URL:https://hrbcrichmond.org/event/families-anonymous-182/
LOCATION:209
END:VEVENT
BEGIN:VEVENT
DTSTART;TZID=America/New_York:20261015T193000
DTEND;TZID=America/New_York:20261015T203000
DTSTAMP:20260424T193247
CREATED:20260406T005230Z
LAST-MODIFIED:20260424T223555Z
UID:10013320-1792092600-1792096200@hrbcrichmond.org
SUMMARY:Families Anonymous
DESCRIPTION:
URL:https://hrbcrichmond.org/event/families-anonymous-183/
LOCATION:209
END:VEVENT
BEGIN:VEVENT
DTSTART;TZID=America/New_York:20261022T193000
DTEND;TZID=America/New_York:20261022T203000
DTSTAMP:20260424T193247
CREATED:20260410T162245Z
LAST-MODIFIED:20260424T223610Z
UID:10013335-1792697400-1792701000@hrbcrichmond.org
SUMMARY:Families Anonymous
DESCRIPTION:
URL:https://hrbcrichmond.org/event/families-anonymous-184/
LOCATION:209
END:VEVENT
BEGIN:VEVENT
DTSTART;TZID=America/New_York:20261029T193000
DTEND;TZID=America/New_York:20261029T203000
DTSTAMP:20260424T193247
CREATED:20260414T052218Z
LAST-MODIFIED:20260424T223636Z
UID:10013350-1793302200-1793305800@hrbcrichmond.org
SUMMARY:Families Anonymous
DESCRIPTION:
URL:https://hrbcrichmond.org/event/families-anonymous-185/
LOCATION:209
END:VEVENT
END:VCALENDAR