BEGIN:VCALENDAR
VERSION:2.0
PRODID:-//Huguenot Road Baptist Church - ECPv6.15.20//NONSGML v1.0//EN
CALSCALE:GREGORIAN
METHOD:PUBLISH
X-ORIGINAL-URL:https://hrbcrichmond.org
X-WR-CALDESC:Events for Huguenot Road Baptist Church
REFRESH-INTERVAL;VALUE=DURATION:PT1H
X-Robots-Tag:noindex
X-PUBLISHED-TTL:PT1H
BEGIN:VTIMEZONE
TZID:America/New_York
BEGIN:DAYLIGHT
TZOFFSETFROM:-0500
TZOFFSETTO:-0400
TZNAME:EDT
DTSTART:20220313T070000
END:DAYLIGHT
BEGIN:STANDARD
TZOFFSETFROM:-0400
TZOFFSETTO:-0500
TZNAME:EST
DTSTART:20221106T060000
END:STANDARD
BEGIN:DAYLIGHT
TZOFFSETFROM:-0500
TZOFFSETTO:-0400
TZNAME:EDT
DTSTART:20230312T070000
END:DAYLIGHT
BEGIN:STANDARD
TZOFFSETFROM:-0400
TZOFFSETTO:-0500
TZNAME:EST
DTSTART:20231105T060000
END:STANDARD
BEGIN:DAYLIGHT
TZOFFSETFROM:-0500
TZOFFSETTO:-0400
TZNAME:EDT
DTSTART:20240310T070000
END:DAYLIGHT
BEGIN:STANDARD
TZOFFSETFROM:-0400
TZOFFSETTO:-0500
TZNAME:EST
DTSTART:20241103T060000
END:STANDARD
BEGIN:DAYLIGHT
TZOFFSETFROM:-0500
TZOFFSETTO:-0400
TZNAME:EDT
DTSTART:20250309T070000
END:DAYLIGHT
BEGIN:STANDARD
TZOFFSETFROM:-0400
TZOFFSETTO:-0500
TZNAME:EST
DTSTART:20251102T060000
END:STANDARD
END:VTIMEZONE
BEGIN:VEVENT
DTSTART;TZID=America/New_York:20240208T183000
DTEND;TZID=America/New_York:20240208T193000
DTSTAMP:20260425T154710
CREATED:20231031T183536Z
LAST-MODIFIED:20240208T235531Z
UID:10008284-1707417000-1707420600@hrbcrichmond.org
SUMMARY:Cub Scout Pack 1825 Den Meeting
DESCRIPTION:
URL:https://hrbcrichmond.org/event/cub-scout-pack-1825-den-meeting-3/
LOCATION:121
END:VEVENT
BEGIN:VEVENT
DTSTART;TZID=America/New_York:20240111T183000
DTEND;TZID=America/New_York:20240111T193000
DTSTAMP:20260425T154710
CREATED:20231031T183532Z
LAST-MODIFIED:20240112T003011Z
UID:10008281-1704997800-1705001400@hrbcrichmond.org
SUMMARY:Cub Scout Pack 1825 Den Meeting
DESCRIPTION:
URL:https://hrbcrichmond.org/event/cub-scout-pack-1825-den-meeting-2/
LOCATION:121
END:VEVENT
BEGIN:VEVENT
DTSTART;TZID=America/New_York:20231214T184500
DTEND;TZID=America/New_York:20231214T203000
DTSTAMP:20260425T154710
CREATED:20230803T141038Z
LAST-MODIFIED:20231215T011522Z
UID:10007701-1702579500-1702585800@hrbcrichmond.org
SUMMARY:Discipleship Group Meeting
DESCRIPTION:
URL:https://hrbcrichmond.org/event/discipleship-group-meeting-5/
LOCATION:121
END:VEVENT
BEGIN:VEVENT
DTSTART;TZID=America/New_York:20231207T183000
DTEND;TZID=America/New_York:20231207T193000
DTSTAMP:20260425T154710
CREATED:20231031T183318Z
LAST-MODIFIED:20231208T002042Z
UID:10008278-1701973800-1701977400@hrbcrichmond.org
SUMMARY:Cub Scout Pack 1825 Den Meeting
DESCRIPTION:
URL:https://hrbcrichmond.org/event/cub-scout-pack-1825-den-meeting/
LOCATION:121
END:VEVENT
BEGIN:VEVENT
DTSTART;TZID=America/New_York:20231109T184500
DTEND;TZID=America/New_York:20231109T203000
DTSTAMP:20260425T154710
CREATED:20230803T141035Z
LAST-MODIFIED:20231110T011533Z
UID:10007700-1699555500-1699561800@hrbcrichmond.org
SUMMARY:Discipleship Group Meeting
DESCRIPTION:
URL:https://hrbcrichmond.org/event/discipleship-group-meeting-4/
LOCATION:121
END:VEVENT
BEGIN:VEVENT
DTSTART;TZID=America/New_York:20231012T184500
DTEND;TZID=America/New_York:20231012T203000
DTSTAMP:20260425T154710
CREATED:20230803T141033Z
LAST-MODIFIED:20231013T002511Z
UID:10007699-1697136300-1697142600@hrbcrichmond.org
SUMMARY:Discipleship Group Meeting
DESCRIPTION:
URL:https://hrbcrichmond.org/event/discipleship-group-meeting-3/
LOCATION:121
END:VEVENT
BEGIN:VEVENT
DTSTART;TZID=America/New_York:20230914T184500
DTEND;TZID=America/New_York:20230914T203000
DTSTAMP:20260425T154710
CREATED:20230803T141031Z
LAST-MODIFIED:20230915T002524Z
UID:10007698-1694717100-1694723400@hrbcrichmond.org
SUMMARY:Discipleship Group Meeting
DESCRIPTION:
URL:https://hrbcrichmond.org/event/discipleship-group-meeting-2/
LOCATION:121
END:VEVENT
BEGIN:VEVENT
DTSTART;TZID=America/New_York:20230810T184500
DTEND;TZID=America/New_York:20230810T203000
DTSTAMP:20260425T154710
CREATED:20230803T141029Z
LAST-MODIFIED:20230810T234027Z
UID:10007697-1691693100-1691699400@hrbcrichmond.org
SUMMARY:Discipleship Group Meeting
DESCRIPTION:
URL:https://hrbcrichmond.org/event/discipleship-group-meeting/
LOCATION:121
END:VEVENT
BEGIN:VEVENT
DTSTART;TZID=America/New_York:20230708T184500
DTEND;TZID=America/New_York:20230708T203000
DTSTAMP:20260425T154710
CREATED:20230607T162701Z
LAST-MODIFIED:20230709T002009Z
UID:10007296-1688841900-1688848200@hrbcrichmond.org
SUMMARY:Discipleship Team Meeting
DESCRIPTION:
URL:https://hrbcrichmond.org/event/discipleship-team-meeting-3/
LOCATION:121
END:VEVENT
END:VCALENDAR