BEGIN:VCALENDAR
VERSION:2.0
PRODID:-//Huguenot Road Baptist Church - ECPv6.15.20//NONSGML v1.0//EN
CALSCALE:GREGORIAN
METHOD:PUBLISH
X-ORIGINAL-URL:https://hrbcrichmond.org
X-WR-CALDESC:Events for Huguenot Road Baptist Church
REFRESH-INTERVAL;VALUE=DURATION:PT1H
X-Robots-Tag:noindex
X-PUBLISHED-TTL:PT1H
BEGIN:VTIMEZONE
TZID:America/New_York
BEGIN:DAYLIGHT
TZOFFSETFROM:-0500
TZOFFSETTO:-0400
TZNAME:EDT
DTSTART:20250309T070000
END:DAYLIGHT
BEGIN:STANDARD
TZOFFSETFROM:-0400
TZOFFSETTO:-0500
TZNAME:EST
DTSTART:20251102T060000
END:STANDARD
BEGIN:DAYLIGHT
TZOFFSETFROM:-0500
TZOFFSETTO:-0400
TZNAME:EDT
DTSTART:20260308T070000
END:DAYLIGHT
BEGIN:STANDARD
TZOFFSETFROM:-0400
TZOFFSETTO:-0500
TZNAME:EST
DTSTART:20261101T060000
END:STANDARD
BEGIN:DAYLIGHT
TZOFFSETFROM:-0500
TZOFFSETTO:-0400
TZNAME:EDT
DTSTART:20270314T070000
END:DAYLIGHT
BEGIN:STANDARD
TZOFFSETFROM:-0400
TZOFFSETTO:-0500
TZNAME:EST
DTSTART:20271107T060000
END:STANDARD
END:VTIMEZONE
BEGIN:VEVENT
DTSTART;TZID=America/New_York:20260427T181500
DTEND;TZID=America/New_York:20260427T193000
DTSTAMP:20260425T090958
CREATED:20260122T201528Z
LAST-MODIFIED:20260425T121054Z
UID:10012876-1777313700-1777318200@hrbcrichmond.org
SUMMARY:Praise Team Rehearsal
DESCRIPTION:
URL:https://hrbcrichmond.org/event/praise-team-rehearsal-13/
LOCATION:Sanctuary
END:VEVENT
BEGIN:VEVENT
DTSTART;TZID=America/New_York:20260428T124500
DTEND;TZID=America/New_York:20260428T134500
DTSTAMP:20260425T090958
CREATED:20260120T204528Z
LAST-MODIFIED:20260425T121054Z
UID:10012851-1777380300-1777383900@hrbcrichmond.org
SUMMARY:CDC Dance Recital
DESCRIPTION:
URL:https://hrbcrichmond.org/event/cdc-dance-recital/
LOCATION:flc
END:VEVENT
BEGIN:VEVENT
DTSTART;TZID=America/New_York:20260428T150000
DTEND;TZID=America/New_York:20260428T170000
DTSTAMP:20260425T090958
CREATED:20250905T014428Z
LAST-MODIFIED:20260425T121056Z
UID:10012324-1777388400-1777395600@hrbcrichmond.org
SUMMARY:Ovation Concert
DESCRIPTION:
URL:https://hrbcrichmond.org/event/ovation-concert-5/
LOCATION:Sanctuary
END:VEVENT
BEGIN:VEVENT
DTSTART;TZID=America/New_York:20260428T183000
DTEND;TZID=America/New_York:20260428T193000
DTSTAMP:20260425T090958
CREATED:20250906T184416Z
LAST-MODIFIED:20260425T121056Z
UID:10012325-1777401000-1777404600@hrbcrichmond.org
SUMMARY:Human Resource Group Meeting
DESCRIPTION:
URL:https://hrbcrichmond.org/event/human-resource-group-meeting-27/
LOCATION:Conference Room
END:VEVENT
BEGIN:VEVENT
DTSTART;TZID=America/New_York:20260429T100000
DTEND;TZID=America/New_York:20260429T110000
DTSTAMP:20260425T090958
CREATED:20260401T151236Z
LAST-MODIFIED:20260425T121056Z
UID:10013304-1777456800-1777460400@hrbcrichmond.org
SUMMARY:Adult Bible Study - Walking with God
DESCRIPTION:
URL:https://hrbcrichmond.org/event/adult-bible-study-walking-with-god-4/
LOCATION:MPR 1
END:VEVENT
BEGIN:VEVENT
DTSTART;TZID=America/New_York:20260429T110000
DTEND;TZID=America/New_York:20260429T120000
DTSTAMP:20260425T090958
CREATED:20260423T162553Z
LAST-MODIFIED:20260425T121057Z
UID:10013377-1777460400-1777464000@hrbcrichmond.org
SUMMARY:Dunn Celebration of Life Service
DESCRIPTION:
URL:https://hrbcrichmond.org/event/dunn-service/
LOCATION:Sanctuary
END:VEVENT
BEGIN:VEVENT
DTSTART;TZID=America/New_York:20260429T180000
DTEND;TZID=America/New_York:20260429T193000
DTSTAMP:20260425T090958
CREATED:20251106T204928Z
LAST-MODIFIED:20260425T121059Z
UID:10012587-1777485600-1777491000@hrbcrichmond.org
SUMMARY:Wednesday Night Activities
DESCRIPTION:
URL:https://hrbcrichmond.org/event/wednesday-night-activities-16/
END:VEVENT
BEGIN:VEVENT
DTSTART;TZID=America/New_York:20260429T193000
DTEND;TZID=America/New_York:20260429T210000
DTSTAMP:20260425T090958
CREATED:20250906T211355Z
LAST-MODIFIED:20260425T121059Z
UID:10012326-1777491000-1777496400@hrbcrichmond.org
SUMMARY:European Wind Ensemble Rehearsal
DESCRIPTION:
URL:https://hrbcrichmond.org/event/european-wind-ensemble-rehearsal-156/
LOCATION:Gym
END:VEVENT
BEGIN:VEVENT
DTSTART;TZID=America/New_York:20260430T150000
DTEND;TZID=America/New_York:20260430T170000
DTSTAMP:20260425T090958
CREATED:20250907T151416Z
LAST-MODIFIED:20260425T121111Z
UID:10012328-1777561200-1777568400@hrbcrichmond.org
SUMMARY:Ovation Concert
DESCRIPTION:
URL:https://hrbcrichmond.org/event/ovation-concert-6/
LOCATION:Sanctuary
END:VEVENT
BEGIN:VEVENT
DTSTART;TZID=America/New_York:20260430T190000
DTEND;TZID=America/New_York:20260430T210000
DTSTAMP:20260425T090958
CREATED:20250907T215918Z
LAST-MODIFIED:20260425T121111Z
UID:10012330-1777575600-1777582800@hrbcrichmond.org
SUMMARY:AA
DESCRIPTION:
URL:https://hrbcrichmond.org/event/aa-152/
LOCATION:200
END:VEVENT
BEGIN:VEVENT
DTSTART;TZID=America/New_York:20260430T193000
DTEND;TZID=America/New_York:20260430T203000
DTSTAMP:20260425T090958
CREATED:20250907T164423Z
LAST-MODIFIED:20260425T121111Z
UID:10012329-1777577400-1777581000@hrbcrichmond.org
SUMMARY:Families Anonymous
DESCRIPTION:
URL:https://hrbcrichmond.org/event/families-anonymous-159/
LOCATION:209
END:VEVENT
END:VCALENDAR