BEGIN:VCALENDAR
VERSION:2.0
PRODID:-//Huguenot Road Baptist Church - ECPv6.15.20//NONSGML v1.0//EN
CALSCALE:GREGORIAN
METHOD:PUBLISH
X-ORIGINAL-URL:https://hrbcrichmond.org
X-WR-CALDESC:Events for Huguenot Road Baptist Church
REFRESH-INTERVAL;VALUE=DURATION:PT1H
X-Robots-Tag:noindex
X-PUBLISHED-TTL:PT1H
BEGIN:VTIMEZONE
TZID:America/New_York
BEGIN:DAYLIGHT
TZOFFSETFROM:-0500
TZOFFSETTO:-0400
TZNAME:EDT
DTSTART:20250309T070000
END:DAYLIGHT
BEGIN:STANDARD
TZOFFSETFROM:-0400
TZOFFSETTO:-0500
TZNAME:EST
DTSTART:20251102T060000
END:STANDARD
BEGIN:DAYLIGHT
TZOFFSETFROM:-0500
TZOFFSETTO:-0400
TZNAME:EDT
DTSTART:20260308T070000
END:DAYLIGHT
BEGIN:STANDARD
TZOFFSETFROM:-0400
TZOFFSETTO:-0500
TZNAME:EST
DTSTART:20261101T060000
END:STANDARD
BEGIN:DAYLIGHT
TZOFFSETFROM:-0500
TZOFFSETTO:-0400
TZNAME:EDT
DTSTART:20270314T070000
END:DAYLIGHT
BEGIN:STANDARD
TZOFFSETFROM:-0400
TZOFFSETTO:-0500
TZNAME:EST
DTSTART:20271107T060000
END:STANDARD
END:VTIMEZONE
BEGIN:VEVENT
DTSTART;TZID=America/New_York:20260618T193000
DTEND;TZID=America/New_York:20260618T203000
DTSTAMP:20260425T124758
CREATED:20251114T150619Z
LAST-MODIFIED:20260425T155924Z
UID:10012609-1781811000-1781814600@hrbcrichmond.org
SUMMARY:Families Anonymous
DESCRIPTION:
URL:https://hrbcrichmond.org/event/families-anonymous-166/
LOCATION:209
END:VEVENT
BEGIN:VEVENT
DTSTART;TZID=America/New_York:20260621T080000
DTEND;TZID=America/New_York:20260621T090000
DTSTAMP:20260425T124758
CREATED:20251117T165122Z
LAST-MODIFIED:20260425T155935Z
UID:10012616-1782028800-1782032400@hrbcrichmond.org
SUMMARY:Men's Food & Fellowship Breakfast
DESCRIPTION:
URL:https://hrbcrichmond.org/event/mens-food-fellowship-breakfast-84/
END:VEVENT
BEGIN:VEVENT
DTSTART;TZID=America/New_York:20260621T091500
DTEND;TZID=America/New_York:20260621T101500
DTSTAMP:20260425T124758
CREATED:20251117T215110Z
LAST-MODIFIED:20260425T155935Z
UID:10012617-1782033300-1782036900@hrbcrichmond.org
SUMMARY:Bible Study - All Ages
DESCRIPTION:
URL:https://hrbcrichmond.org/event/bible-study-all-ages-83/
END:VEVENT
BEGIN:VEVENT
DTSTART;TZID=America/New_York:20260621T103000
DTEND;TZID=America/New_York:20260621T113000
DTSTAMP:20260425T124758
CREATED:20251118T140550Z
LAST-MODIFIED:20260425T155937Z
UID:10012618-1782037800-1782041400@hrbcrichmond.org
SUMMARY:Worship
DESCRIPTION:
URL:https://hrbcrichmond.org/event/worship-157/
LOCATION:Sanctuary
END:VEVENT
BEGIN:VEVENT
DTSTART;TZID=America/New_York:20260621T153000
DTEND;TZID=America/New_York:20260621T163000
DTSTAMP:20260425T124758
CREATED:20260309T213356Z
LAST-MODIFIED:20260425T155937Z
UID:10013212-1782055800-1782059400@hrbcrichmond.org
SUMMARY:Small Group for Young Adults
DESCRIPTION:
URL:https://hrbcrichmond.org/event/small-group-for-young-adults-40/
LOCATION:Libbie Mill Area
END:VEVENT
BEGIN:VEVENT
DTSTART;TZID=America/New_York:20260622T143000
DTEND;TZID=America/New_York:20260622T160000
DTSTAMP:20260425T124758
CREATED:20251118T140550Z
LAST-MODIFIED:20260425T155937Z
UID:10012620-1782138600-1782144000@hrbcrichmond.org
SUMMARY:Staff Meeting
DESCRIPTION:
URL:https://hrbcrichmond.org/event/staff-meeting-222/
LOCATION:Conference Room
END:VEVENT
BEGIN:VEVENT
DTSTART;TZID=America/New_York:20260622T181500
DTEND;TZID=America/New_York:20260622T193000
DTSTAMP:20260425T124758
CREATED:20260122T201800Z
LAST-MODIFIED:20260425T155938Z
UID:10012884-1782152100-1782156600@hrbcrichmond.org
SUMMARY:Praise Team Rehearsal
DESCRIPTION:
URL:https://hrbcrichmond.org/event/praise-team-rehearsal-21/
LOCATION:Sanctuary
END:VEVENT
BEGIN:VEVENT
DTSTART;TZID=America/New_York:20260623T183000
DTEND;TZID=America/New_York:20260623T193000
DTSTAMP:20260425T124758
CREATED:20251119T022055Z
LAST-MODIFIED:20260425T155938Z
UID:10012622-1782239400-1782243000@hrbcrichmond.org
SUMMARY:Human Resource Group Meeting
DESCRIPTION:
URL:https://hrbcrichmond.org/event/human-resource-group-meeting-29/
LOCATION:Conference Room
END:VEVENT
BEGIN:VEVENT
DTSTART;TZID=America/New_York:20260624T180000
DTEND;TZID=America/New_York:20260624T193000
DTSTAMP:20260425T124758
CREATED:20260320T164702Z
LAST-MODIFIED:20260425T155938Z
UID:10013274-1782324000-1782329400@hrbcrichmond.org
SUMMARY:Wednesday Night Activities
DESCRIPTION:
URL:https://hrbcrichmond.org/event/wednesday-night-activities-24/
END:VEVENT
BEGIN:VEVENT
DTSTART;TZID=America/New_York:20260624T193000
DTEND;TZID=America/New_York:20260624T210000
DTSTAMP:20260425T124758
CREATED:20251119T172058Z
LAST-MODIFIED:20260425T155940Z
UID:10012624-1782329400-1782334800@hrbcrichmond.org
SUMMARY:European Wind Ensemble Rehearsal
DESCRIPTION:
URL:https://hrbcrichmond.org/event/european-wind-ensemble-rehearsal-164/
LOCATION:Gym
END:VEVENT
BEGIN:VEVENT
DTSTART;TZID=America/New_York:20260625T140000
DTEND;TZID=America/New_York:20260625T160000
DTSTAMP:20260425T124758
CREATED:20251120T005109Z
LAST-MODIFIED:20260425T155951Z
UID:10012626-1782396000-1782403200@hrbcrichmond.org
SUMMARY:Bridge
DESCRIPTION:
URL:https://hrbcrichmond.org/event/bridge-160/
LOCATION:Commons
END:VEVENT
BEGIN:VEVENT
DTSTART;TZID=America/New_York:20260625T190000
DTEND;TZID=America/New_York:20260625T210000
DTSTAMP:20260425T124758
CREATED:20251120T032102Z
LAST-MODIFIED:20260425T155951Z
UID:10012628-1782414000-1782421200@hrbcrichmond.org
SUMMARY:AA
DESCRIPTION:
URL:https://hrbcrichmond.org/event/aa-160/
LOCATION:200
END:VEVENT
BEGIN:VEVENT
DTSTART;TZID=America/New_York:20260625T193000
DTEND;TZID=America/New_York:20260625T203000
DTSTAMP:20260425T124758
CREATED:20251120T005109Z
LAST-MODIFIED:20260425T155951Z
UID:10012627-1782415800-1782419400@hrbcrichmond.org
SUMMARY:Families Anonymous
DESCRIPTION:
URL:https://hrbcrichmond.org/event/families-anonymous-167/
LOCATION:209
END:VEVENT
BEGIN:VEVENT
DTSTART;TZID=America/New_York:20260627T110000
DTEND;TZID=America/New_York:20260627T140000
DTSTAMP:20260425T124758
CREATED:20260422T141506Z
LAST-MODIFIED:20260425T155951Z
UID:10013372-1782558000-1782568800@hrbcrichmond.org
SUMMARY:Sunday School Picnic
DESCRIPTION:
URL:https://hrbcrichmond.org/event/sunday-school-picnic/
LOCATION:Huguenot Park on Robious Road
END:VEVENT
BEGIN:VEVENT
DTSTART;TZID=America/New_York:20260628T080000
DTEND;TZID=America/New_York:20260628T090000
DTSTAMP:20260425T124758
CREATED:20251120T143550Z
LAST-MODIFIED:20260425T155951Z
UID:10012629-1782633600-1782637200@hrbcrichmond.org
SUMMARY:Men's Food & Fellowship Breakfast
DESCRIPTION:
URL:https://hrbcrichmond.org/event/mens-food-fellowship-breakfast-85/
END:VEVENT
BEGIN:VEVENT
DTSTART;TZID=America/New_York:20260628T091500
DTEND;TZID=America/New_York:20260628T101500
DTSTAMP:20260425T124758
CREATED:20251120T155056Z
LAST-MODIFIED:20260425T155951Z
UID:10012630-1782638100-1782641700@hrbcrichmond.org
SUMMARY:Bible Study - All Ages
DESCRIPTION:
URL:https://hrbcrichmond.org/event/bible-study-all-ages-84/
END:VEVENT
BEGIN:VEVENT
DTSTART;TZID=America/New_York:20260628T103000
DTEND;TZID=America/New_York:20260628T113000
DTSTAMP:20260425T124758
CREATED:20251120T182104Z
LAST-MODIFIED:20260425T155953Z
UID:10012632-1782642600-1782646200@hrbcrichmond.org
SUMMARY:Worship
DESCRIPTION:
URL:https://hrbcrichmond.org/event/worship-158/
LOCATION:Sanctuary
END:VEVENT
BEGIN:VEVENT
DTSTART;TZID=America/New_York:20260628T114500
DTEND;TZID=America/New_York:20260628T131500
DTSTAMP:20260425T124758
CREATED:20251120T220622Z
LAST-MODIFIED:20260425T155953Z
UID:10012635-1782647100-1782652500@hrbcrichmond.org
SUMMARY:Deacon Leadership Meeting
DESCRIPTION:
URL:https://hrbcrichmond.org/event/deacon-leadership-meeting-20/
LOCATION:MPR 2
END:VEVENT
BEGIN:VEVENT
DTSTART;TZID=America/New_York:20260628T120000
DTEND;TZID=America/New_York:20260628T140000
DTSTAMP:20260425T124758
CREATED:20251121T003612Z
LAST-MODIFIED:20260425T155953Z
UID:10012636-1782648000-1782655200@hrbcrichmond.org
SUMMARY:Missions Group Meeting
DESCRIPTION:
URL:https://hrbcrichmond.org/event/missions-group-meeting-34/
LOCATION:MPR1
END:VEVENT
BEGIN:VEVENT
DTSTART;TZID=America/New_York:20260628T153000
DTEND;TZID=America/New_York:20260628T163000
DTSTAMP:20260425T124758
CREATED:20260309T213424Z
LAST-MODIFIED:20260425T155953Z
UID:10013218-1782660600-1782664200@hrbcrichmond.org
SUMMARY:Small Group for Young Adults
DESCRIPTION:
URL:https://hrbcrichmond.org/event/small-group-for-young-adults-41/
LOCATION:Libbie Mill Area
END:VEVENT
BEGIN:VEVENT
DTSTART;TZID=America/New_York:20260629T143000
DTEND;TZID=America/New_York:20260629T160000
DTSTAMP:20260425T124758
CREATED:20251121T015046Z
LAST-MODIFIED:20260425T160005Z
UID:10012637-1782743400-1782748800@hrbcrichmond.org
SUMMARY:Staff Meeting
DESCRIPTION:
URL:https://hrbcrichmond.org/event/staff-meeting-223/
LOCATION:Conference Room
END:VEVENT
BEGIN:VEVENT
DTSTART;TZID=America/New_York:20260629T181500
DTEND;TZID=America/New_York:20260629T193000
DTSTAMP:20260425T124758
CREATED:20260122T201826Z
LAST-MODIFIED:20260425T160006Z
UID:10012885-1782756900-1782761400@hrbcrichmond.org
SUMMARY:Praise Team Rehearsal
DESCRIPTION:
URL:https://hrbcrichmond.org/event/praise-team-rehearsal-22/
LOCATION:Sanctuary
END:VEVENT
BEGIN:VEVENT
DTSTART;TZID=America/New_York:20260701T180000
DTEND;TZID=America/New_York:20260701T193000
DTSTAMP:20260425T124758
CREATED:20260320T164717Z
LAST-MODIFIED:20260425T160006Z
UID:10013275-1782928800-1782934200@hrbcrichmond.org
SUMMARY:Wednesday Night Activities
DESCRIPTION:
URL:https://hrbcrichmond.org/event/wednesday-night-activities-25/
END:VEVENT
BEGIN:VEVENT
DTSTART;TZID=America/New_York:20260701T193000
DTEND;TZID=America/New_York:20260701T210000
DTSTAMP:20260425T124758
CREATED:20251121T015048Z
LAST-MODIFIED:20260425T160008Z
UID:10012639-1782934200-1782939600@hrbcrichmond.org
SUMMARY:European Wind Ensemble Rehearsal
DESCRIPTION:
URL:https://hrbcrichmond.org/event/european-wind-ensemble-rehearsal-165/
LOCATION:Gym
END:VEVENT
BEGIN:VEVENT
DTSTART;TZID=America/New_York:20260702T090000
DTEND;TZID=America/New_York:20260702T103000
DTSTAMP:20260425T124758
CREATED:20251121T015048Z
LAST-MODIFIED:20260425T160008Z
UID:10012640-1782982800-1782988200@hrbcrichmond.org
SUMMARY:Second Half Men's Ministry
DESCRIPTION:
URL:https://hrbcrichmond.org/event/second-half-mens-ministry-29/
LOCATION:MPR 1
END:VEVENT
BEGIN:VEVENT
DTSTART;TZID=America/New_York:20260702T140000
DTEND;TZID=America/New_York:20260702T160000
DTSTAMP:20260425T124758
CREATED:20251121T030548Z
LAST-MODIFIED:20260425T160008Z
UID:10012641-1783000800-1783008000@hrbcrichmond.org
SUMMARY:Bridge
DESCRIPTION:
URL:https://hrbcrichmond.org/event/bridge-161/
LOCATION:Commons
END:VEVENT
BEGIN:VEVENT
DTSTART;TZID=America/New_York:20260702T183000
DTEND;TZID=America/New_York:20260702T200000
DTSTAMP:20260425T124758
CREATED:20251121T142109Z
LAST-MODIFIED:20260425T160008Z
UID:10012642-1783017000-1783022400@hrbcrichmond.org
SUMMARY:S.H.E.E.P
DESCRIPTION:
URL:https://hrbcrichmond.org/event/s-h-e-e-p-69/
LOCATION:Cousins Room
END:VEVENT
BEGIN:VEVENT
DTSTART;TZID=America/New_York:20260702T190000
DTEND;TZID=America/New_York:20260702T210000
DTSTAMP:20260425T124758
CREATED:20251122T052055Z
LAST-MODIFIED:20260425T160008Z
UID:10012643-1783018800-1783026000@hrbcrichmond.org
SUMMARY:AA
DESCRIPTION:
URL:https://hrbcrichmond.org/event/aa-161/
LOCATION:200
END:VEVENT
BEGIN:VEVENT
DTSTART;TZID=America/New_York:20260702T193000
DTEND;TZID=America/New_York:20260702T203000
DTSTAMP:20260425T124758
CREATED:20251123T062110Z
LAST-MODIFIED:20260425T160008Z
UID:10012644-1783020600-1783024200@hrbcrichmond.org
SUMMARY:Families Anonymous
DESCRIPTION:
URL:https://hrbcrichmond.org/event/families-anonymous-168/
LOCATION:209
END:VEVENT
BEGIN:VEVENT
DTSTART;VALUE=DATE:20260705
DTEND;VALUE=DATE:20260706
DTSTAMP:20260425T124758
CREATED:20251123T185045Z
LAST-MODIFIED:20260425T160022Z
UID:10012645-1783209600-1783295999@hrbcrichmond.org
SUMMARY:First Sunday Food Offering
DESCRIPTION:
URL:https://hrbcrichmond.org/event/first-sunday-food-offering-53/
END:VEVENT
END:VCALENDAR