BEGIN:VCALENDAR
VERSION:2.0
PRODID:-//Huguenot Road Baptist Church - ECPv6.15.20//NONSGML v1.0//EN
CALSCALE:GREGORIAN
METHOD:PUBLISH
X-WR-CALNAME:Huguenot Road Baptist Church
X-ORIGINAL-URL:https://hrbcrichmond.org
X-WR-CALDESC:Events for Huguenot Road Baptist Church
REFRESH-INTERVAL;VALUE=DURATION:PT1H
X-Robots-Tag:noindex
X-PUBLISHED-TTL:PT1H
BEGIN:VTIMEZONE
TZID:America/New_York
BEGIN:DAYLIGHT
TZOFFSETFROM:-0500
TZOFFSETTO:-0400
TZNAME:EDT
DTSTART:20250309T070000
END:DAYLIGHT
BEGIN:STANDARD
TZOFFSETFROM:-0400
TZOFFSETTO:-0500
TZNAME:EST
DTSTART:20251102T060000
END:STANDARD
BEGIN:DAYLIGHT
TZOFFSETFROM:-0500
TZOFFSETTO:-0400
TZNAME:EDT
DTSTART:20260308T070000
END:DAYLIGHT
BEGIN:STANDARD
TZOFFSETFROM:-0400
TZOFFSETTO:-0500
TZNAME:EST
DTSTART:20261101T060000
END:STANDARD
BEGIN:DAYLIGHT
TZOFFSETFROM:-0500
TZOFFSETTO:-0400
TZNAME:EDT
DTSTART:20270314T070000
END:DAYLIGHT
BEGIN:STANDARD
TZOFFSETFROM:-0400
TZOFFSETTO:-0500
TZNAME:EST
DTSTART:20271107T060000
END:STANDARD
END:VTIMEZONE
BEGIN:VEVENT
DTSTART;TZID=America/New_York:20260417T090000
DTEND;TZID=America/New_York:20260417T100000
DTSTAMP:20260425T085031
CREATED:20260413T164035Z
LAST-MODIFIED:20260417T125551Z
UID:10013344-1776416400-1776420000@hrbcrichmond.org
SUMMARY:Ovation mtg
DESCRIPTION:
URL:https://hrbcrichmond.org/event/ovation-mtg/
LOCATION:Sanctuary
END:VEVENT
BEGIN:VEVENT
DTSTART;TZID=America/New_York:20260419T080000
DTEND;TZID=America/New_York:20260419T090000
DTSTAMP:20260425T085031
CREATED:20250829T014421Z
LAST-MODIFIED:20260419T122523Z
UID:10012303-1776585600-1776589200@hrbcrichmond.org
SUMMARY:Men's Food & Fellowship Breakfast
DESCRIPTION:
URL:https://hrbcrichmond.org/event/mens-food-fellowship-breakfast-75/
END:VEVENT
BEGIN:VEVENT
DTSTART;TZID=America/New_York:20260419T091500
DTEND;TZID=America/New_York:20260419T101500
DTSTAMP:20260425T085031
CREATED:20250829T014422Z
LAST-MODIFIED:20260419T134036Z
UID:10012304-1776590100-1776593700@hrbcrichmond.org
SUMMARY:Bible Study - All Ages
DESCRIPTION:
URL:https://hrbcrichmond.org/event/bible-study-all-ages-74/
END:VEVENT
BEGIN:VEVENT
DTSTART;TZID=America/New_York:20260419T103000
DTEND;TZID=America/New_York:20260419T113000
DTSTAMP:20260425T085031
CREATED:20250831T155846Z
LAST-MODIFIED:20260419T145539Z
UID:10012307-1776594600-1776598200@hrbcrichmond.org
SUMMARY:Worship
DESCRIPTION:
URL:https://hrbcrichmond.org/event/worship-148/
LOCATION:Sanctuary
END:VEVENT
BEGIN:VEVENT
DTSTART;TZID=America/New_York:20260419T153000
DTEND;TZID=America/New_York:20260419T163000
DTSTAMP:20260425T085031
CREATED:20260309T212906Z
LAST-MODIFIED:20260419T195539Z
UID:10013158-1776612600-1776616200@hrbcrichmond.org
SUMMARY:Small Group for Young Adults
DESCRIPTION:
URL:https://hrbcrichmond.org/event/small-group-for-young-adults-31/
LOCATION:Libbie Mill Area
END:VEVENT
BEGIN:VEVENT
DTSTART;TZID=America/New_York:20260419T160000
DTEND;TZID=America/New_York:20260419T180000
DTSTAMP:20260425T085031
CREATED:20260211T182956Z
LAST-MODIFIED:20260419T211054Z
UID:10012950-1776614400-1776621600@hrbcrichmond.org
SUMMARY:CAST Rehearsal
DESCRIPTION:
URL:https://hrbcrichmond.org/event/cast-rehearsal-24/
LOCATION:Sanctuary
END:VEVENT
BEGIN:VEVENT
DTSTART;TZID=America/New_York:20260420T143000
DTEND;TZID=America/New_York:20260420T160000
DTSTAMP:20260425T085031
CREATED:20251002T135305Z
LAST-MODIFIED:20260420T194019Z
UID:10012437-1776695400-1776700800@hrbcrichmond.org
SUMMARY:Staff Meeting
DESCRIPTION:
URL:https://hrbcrichmond.org/event/staff-meeting-175/
LOCATION:Conference Room
END:VEVENT
BEGIN:VEVENT
DTSTART;TZID=America/New_York:20260420T181500
DTEND;TZID=America/New_York:20260420T193000
DTSTAMP:20260425T085031
CREATED:20260122T201503Z
LAST-MODIFIED:20260420T232524Z
UID:10012875-1776708900-1776713400@hrbcrichmond.org
SUMMARY:Praise Team Rehearsal
DESCRIPTION:
URL:https://hrbcrichmond.org/event/praise-team-rehearsal-12/
LOCATION:Sanctuary
END:VEVENT
BEGIN:VEVENT
DTSTART;TZID=America/New_York:20260421T133000
DTEND;TZID=America/New_York:20260421T153000
DTSTAMP:20260425T085031
CREATED:20260209T174437Z
LAST-MODIFIED:20260421T192529Z
UID:10012923-1776778200-1776785400@hrbcrichmond.org
SUMMARY:Ovation Rehearsal
DESCRIPTION:
URL:https://hrbcrichmond.org/event/ovation-rehearsal-105/
LOCATION:Sanctuary
END:VEVENT
BEGIN:VEVENT
DTSTART;TZID=America/New_York:20260421T183000
DTEND;TZID=America/New_York:20260421T203000
DTSTAMP:20260425T085031
CREATED:20250902T152909Z
LAST-MODIFIED:20260422T002517Z
UID:10012310-1776796200-1776803400@hrbcrichmond.org
SUMMARY:Worship Implementation Team
DESCRIPTION:
URL:https://hrbcrichmond.org/event/worship-implementation-team-36/
LOCATION:MPR 1
END:VEVENT
BEGIN:VEVENT
DTSTART;TZID=America/New_York:20260422T100000
DTEND;TZID=America/New_York:20260422T110000
DTSTAMP:20260425T085031
CREATED:20260401T151205Z
LAST-MODIFIED:20260422T141039Z
UID:10013303-1776852000-1776855600@hrbcrichmond.org
SUMMARY:Adult Bible Study - Walking with God
DESCRIPTION:
URL:https://hrbcrichmond.org/event/adult-bible-study-walking-with-god-3/
LOCATION:MPR 1
END:VEVENT
BEGIN:VEVENT
DTSTART;TZID=America/New_York:20260422T130000
DTEND;TZID=America/New_York:20260422T150000
DTSTAMP:20260425T085031
CREATED:20260407T131124Z
LAST-MODIFIED:20260422T175544Z
UID:10013322-1776862800-1776870000@hrbcrichmond.org
SUMMARY:Piano Tuning
DESCRIPTION:
URL:https://hrbcrichmond.org/event/piano-tuning-2/
LOCATION:Sanutuary and Choir Suite
END:VEVENT
BEGIN:VEVENT
DTSTART;TZID=America/New_York:20260422T180000
DTEND;TZID=America/New_York:20260422T193000
DTSTAMP:20260425T085031
CREATED:20251106T204903Z
LAST-MODIFIED:20260422T225518Z
UID:10012586-1776880800-1776886200@hrbcrichmond.org
SUMMARY:Wednesday Night Activities
DESCRIPTION:
URL:https://hrbcrichmond.org/event/wednesday-night-activities-15/
END:VEVENT
BEGIN:VEVENT
DTSTART;TZID=America/New_York:20260422T193000
DTEND;TZID=America/New_York:20260422T210000
DTSTAMP:20260425T085031
CREATED:20250902T164400Z
LAST-MODIFIED:20260423T001050Z
UID:10012311-1776886200-1776891600@hrbcrichmond.org
SUMMARY:European Wind Ensemble Rehearsal
DESCRIPTION:
URL:https://hrbcrichmond.org/event/european-wind-ensemble-rehearsal-155/
LOCATION:Gym
END:VEVENT
BEGIN:VEVENT
DTSTART;TZID=America/New_York:20260423T113000
DTEND;TZID=America/New_York:20260423T133000
DTSTAMP:20260425T085031
CREATED:20260416T191039Z
LAST-MODIFIED:20260423T162517Z
UID:10013358-1776943800-1776951000@hrbcrichmond.org
SUMMARY:Ovation - organ prep
DESCRIPTION:
URL:https://hrbcrichmond.org/event/ovation-organ-prep/
LOCATION:Sanctuary
END:VEVENT
BEGIN:VEVENT
DTSTART;TZID=America/New_York:20260423T140000
DTEND;TZID=America/New_York:20260423T153000
DTSTAMP:20260425T085031
CREATED:20260303T191420Z
LAST-MODIFIED:20260423T185527Z
UID:10013096-1776952800-1776958200@hrbcrichmond.org
SUMMARY:The Art of Downsizing - PrimeTimers'
DESCRIPTION:
URL:https://hrbcrichmond.org/event/the-art-of-downsizing-primetimers/
LOCATION:MPR1
END:VEVENT
BEGIN:VEVENT
DTSTART;TZID=America/New_York:20260423T140000
DTEND;TZID=America/New_York:20260423T160000
DTSTAMP:20260425T085031
CREATED:20250902T202916Z
LAST-MODIFIED:20260423T185527Z
UID:10012312-1776952800-1776960000@hrbcrichmond.org
SUMMARY:Bridge
DESCRIPTION:
URL:https://hrbcrichmond.org/event/bridge-151/
LOCATION:Commons
END:VEVENT
BEGIN:VEVENT
DTSTART;TZID=America/New_York:20260423T150000
DTEND;TZID=America/New_York:20260423T160000
DTSTAMP:20260425T085031
CREATED:20260421T165536Z
LAST-MODIFIED:20260423T185529Z
UID:10013370-1776956400-1776960000@hrbcrichmond.org
SUMMARY:Ovation prep
DESCRIPTION:
URL:https://hrbcrichmond.org/event/ovation-prep/
LOCATION:Sanctuary
END:VEVENT
BEGIN:VEVENT
DTSTART;TZID=America/New_York:20260423T190000
DTEND;TZID=America/New_York:20260423T210000
DTSTAMP:20260425T085031
CREATED:20250903T014427Z
LAST-MODIFIED:20260423T235527Z
UID:10012313-1776970800-1776978000@hrbcrichmond.org
SUMMARY:AA
DESCRIPTION:
URL:https://hrbcrichmond.org/event/aa-151/
LOCATION:200
END:VEVENT
BEGIN:VEVENT
DTSTART;TZID=America/New_York:20260423T193000
DTEND;TZID=America/New_York:20260423T203000
DTSTAMP:20260425T085031
CREATED:20250903T234423Z
LAST-MODIFIED:20260423T235527Z
UID:10012317-1776972600-1776976200@hrbcrichmond.org
SUMMARY:Families Anonymous
DESCRIPTION:
URL:https://hrbcrichmond.org/event/families-anonymous-158/
LOCATION:209
END:VEVENT
BEGIN:VEVENT
DTSTART;TZID=America/New_York:20260424T150000
DTEND;TZID=America/New_York:20260424T160000
DTSTAMP:20260425T085031
CREATED:20260421T181057Z
LAST-MODIFIED:20260424T195533Z
UID:10013371-1777042800-1777046400@hrbcrichmond.org
SUMMARY:Ovation prep
DESCRIPTION:
URL:https://hrbcrichmond.org/event/ovation-prep-2/
LOCATION:Sanctuary
END:VEVENT
BEGIN:VEVENT
DTSTART;TZID=America/New_York:20260425T100000
DTEND;TZID=America/New_York:20260425T110000
DTSTAMP:20260425T085031
CREATED:20260330T142702Z
LAST-MODIFIED:20260425T121037Z
UID:10013299-1777111200-1777114800@hrbcrichmond.org
SUMMARY:Ovation prep
DESCRIPTION:
URL:https://hrbcrichmond.org/event/ovation/
END:VEVENT
BEGIN:VEVENT
DTSTART;TZID=America/New_York:20260426T080000
DTEND;TZID=America/New_York:20260426T090000
DTSTAMP:20260425T085031
CREATED:20250904T011440Z
LAST-MODIFIED:20260425T121037Z
UID:10012318-1777190400-1777194000@hrbcrichmond.org
SUMMARY:Men's Food & Fellowship Breakfast
DESCRIPTION:
URL:https://hrbcrichmond.org/event/mens-food-fellowship-breakfast-76/
END:VEVENT
BEGIN:VEVENT
DTSTART;TZID=America/New_York:20260426T091500
DTEND;TZID=America/New_York:20260426T101500
DTSTAMP:20260425T085031
CREATED:20250904T154417Z
LAST-MODIFIED:20260425T121037Z
UID:10012319-1777194900-1777198500@hrbcrichmond.org
SUMMARY:Bible Study - All Ages
DESCRIPTION:
URL:https://hrbcrichmond.org/event/bible-study-all-ages-75/
END:VEVENT
BEGIN:VEVENT
DTSTART;TZID=America/New_York:20260426T103000
DTEND;TZID=America/New_York:20260426T113000
DTSTAMP:20260425T085031
CREATED:20250904T165851Z
LAST-MODIFIED:20260425T121039Z
UID:10012320-1777199400-1777203000@hrbcrichmond.org
SUMMARY:Worship
DESCRIPTION:
URL:https://hrbcrichmond.org/event/worship-149/
LOCATION:Sanctuary
END:VEVENT
BEGIN:VEVENT
DTSTART;TZID=America/New_York:20260426T120000
DTEND;TZID=America/New_York:20260426T140000
DTSTAMP:20260425T085031
CREATED:20250904T203928Z
LAST-MODIFIED:20260425T121039Z
UID:10012321-1777204800-1777212000@hrbcrichmond.org
SUMMARY:Missions Group Meeting
DESCRIPTION:
URL:https://hrbcrichmond.org/event/missions-group-meeting-32/
LOCATION:MPR1
END:VEVENT
BEGIN:VEVENT
DTSTART;TZID=America/New_York:20260426T120000
DTEND;TZID=America/New_York:20260426T173000
DTSTAMP:20260425T085031
CREATED:20250905T002459Z
LAST-MODIFIED:20260425T121042Z
UID:10012322-1777204800-1777224600@hrbcrichmond.org
SUMMARY:Ovation Set-up & Dress Rehearsal
DESCRIPTION:
URL:https://hrbcrichmond.org/event/ovation-dress-rehearsal-4/
LOCATION:Sanctuary
END:VEVENT
BEGIN:VEVENT
DTSTART;TZID=America/New_York:20260426T150000
DTEND;TZID=America/New_York:20260426T170000
DTSTAMP:20260425T085031
CREATED:20260223T153006Z
LAST-MODIFIED:20260425T121039Z
UID:10012971-1777215600-1777222800@hrbcrichmond.org
SUMMARY:CAST Rehearsal
DESCRIPTION:
URL:https://hrbcrichmond.org/event/cast-rehearsal-27/
LOCATION:flc
END:VEVENT
BEGIN:VEVENT
DTSTART;TZID=America/New_York:20260426T153000
DTEND;TZID=America/New_York:20260426T163000
DTSTAMP:20260425T085031
CREATED:20260309T212935Z
LAST-MODIFIED:20260425T121039Z
UID:10013164-1777217400-1777221000@hrbcrichmond.org
SUMMARY:Small Group for Young Adults
DESCRIPTION:
URL:https://hrbcrichmond.org/event/small-group-for-young-adults-32/
LOCATION:Libbie Mill Area
END:VEVENT
BEGIN:VEVENT
DTSTART;TZID=America/New_York:20260426T160000
DTEND;TZID=America/New_York:20260426T180000
DTSTAMP:20260425T085031
CREATED:20260211T183012Z
LAST-MODIFIED:20260425T121041Z
UID:10012951-1777219200-1777226400@hrbcrichmond.org
SUMMARY:CAST Rehearsal
DESCRIPTION:
URL:https://hrbcrichmond.org/event/cast-rehearsal-25/
LOCATION:Sanctuary
END:VEVENT
END:VCALENDAR