BEGIN:VCALENDAR
VERSION:2.0
PRODID:-//Huguenot Road Baptist Church - ECPv6.15.20//NONSGML v1.0//EN
CALSCALE:GREGORIAN
METHOD:PUBLISH
X-WR-CALNAME:Huguenot Road Baptist Church
X-ORIGINAL-URL:https://hrbcrichmond.org
X-WR-CALDESC:Events for Huguenot Road Baptist Church
REFRESH-INTERVAL;VALUE=DURATION:PT1H
X-Robots-Tag:noindex
X-PUBLISHED-TTL:PT1H
BEGIN:VTIMEZONE
TZID:America/New_York
BEGIN:DAYLIGHT
TZOFFSETFROM:-0500
TZOFFSETTO:-0400
TZNAME:EDT
DTSTART:20250309T070000
END:DAYLIGHT
BEGIN:STANDARD
TZOFFSETFROM:-0400
TZOFFSETTO:-0500
TZNAME:EST
DTSTART:20251102T060000
END:STANDARD
BEGIN:DAYLIGHT
TZOFFSETFROM:-0500
TZOFFSETTO:-0400
TZNAME:EDT
DTSTART:20260308T070000
END:DAYLIGHT
BEGIN:STANDARD
TZOFFSETFROM:-0400
TZOFFSETTO:-0500
TZNAME:EST
DTSTART:20261101T060000
END:STANDARD
BEGIN:DAYLIGHT
TZOFFSETFROM:-0500
TZOFFSETTO:-0400
TZNAME:EDT
DTSTART:20270314T070000
END:DAYLIGHT
BEGIN:STANDARD
TZOFFSETFROM:-0400
TZOFFSETTO:-0500
TZNAME:EST
DTSTART:20271107T060000
END:STANDARD
END:VTIMEZONE
BEGIN:VEVENT
DTSTART;TZID=America/New_York:20260305T090000
DTEND;TZID=America/New_York:20260305T103000
DTSTAMP:20260425T112727
CREATED:20250801T005929Z
LAST-MODIFIED:20260305T145524Z
UID:10012108-1772701200-1772706600@hrbcrichmond.org
SUMMARY:Second Half Men's Ministry
DESCRIPTION:
URL:https://hrbcrichmond.org/event/second-half-mens-ministry-25/
LOCATION:MPR 1
END:VEVENT
BEGIN:VEVENT
DTSTART;TZID=America/New_York:20260305T140000
DTEND;TZID=America/New_York:20260305T160000
DTSTAMP:20260425T112727
CREATED:20250801T021418Z
LAST-MODIFIED:20260305T195522Z
UID:10012109-1772719200-1772726400@hrbcrichmond.org
SUMMARY:Bridge
DESCRIPTION:
URL:https://hrbcrichmond.org/event/bridge-144/
LOCATION:Commons
END:VEVENT
BEGIN:VEVENT
DTSTART;TZID=America/New_York:20260305T183000
DTEND;TZID=America/New_York:20260305T200000
DTSTAMP:20260425T112727
CREATED:20250803T141352Z
LAST-MODIFIED:20260306T005531Z
UID:10012112-1772735400-1772740800@hrbcrichmond.org
SUMMARY:S.H.E.E.P
DESCRIPTION:
URL:https://hrbcrichmond.org/event/s-h-e-e-p-61/
LOCATION:Cousins Room
END:VEVENT
BEGIN:VEVENT
DTSTART;TZID=America/New_York:20260305T190000
DTEND;TZID=America/New_York:20260305T210000
DTSTAMP:20260425T112727
CREATED:20250802T042339Z
LAST-MODIFIED:20260306T005531Z
UID:10012111-1772737200-1772744400@hrbcrichmond.org
SUMMARY:AA
DESCRIPTION:
URL:https://hrbcrichmond.org/event/aa-144/
LOCATION:200
END:VEVENT
BEGIN:VEVENT
DTSTART;TZID=America/New_York:20260305T193000
DTEND;TZID=America/New_York:20260305T203000
DTSTAMP:20260425T112727
CREATED:20250801T172853Z
LAST-MODIFIED:20260306T005531Z
UID:10012110-1772739000-1772742600@hrbcrichmond.org
SUMMARY:Families Anonymous
DESCRIPTION:
URL:https://hrbcrichmond.org/event/families-anonymous-151/
LOCATION:209
END:VEVENT
BEGIN:VEVENT
DTSTART;VALUE=DATE:20260306
DTEND;VALUE=DATE:20260307
DTSTAMP:20260425T112727
CREATED:20260211T171211Z
LAST-MODIFIED:20260306T232539Z
UID:10012940-1772755200-1772841599@hrbcrichmond.org
SUMMARY:Week of Prayer for Home Missions
DESCRIPTION:
URL:https://hrbcrichmond.org/event/week-of-prayer-for-home-missions-7/
END:VEVENT
BEGIN:VEVENT
DTSTART;VALUE=DATE:20260307
DTEND;VALUE=DATE:20260308
DTSTAMP:20260425T112727
CREATED:20260211T171211Z
LAST-MODIFIED:20260307T231027Z
UID:10012939-1772841600-1772927999@hrbcrichmond.org
SUMMARY:Week of Prayer for Home Missions
DESCRIPTION:
URL:https://hrbcrichmond.org/event/week-of-prayer-for-home-missions-6/
END:VEVENT
BEGIN:VEVENT
DTSTART;TZID=America/New_York:20260308T000000
DTEND;TZID=America/New_York:20260308T003000
DTSTAMP:20260425T112727
CREATED:20260107T144400Z
LAST-MODIFIED:20260308T052534Z
UID:10012812-1772928000-1772929800@hrbcrichmond.org
SUMMARY:Daylight Savings Begins
DESCRIPTION:
URL:https://hrbcrichmond.org/event/daylight-savings-begins/
END:VEVENT
BEGIN:VEVENT
DTSTART;TZID=America/New_York:20260308T080000
DTEND;TZID=America/New_York:20260308T090000
DTSTAMP:20260425T112727
CREATED:20250803T163927Z
LAST-MODIFIED:20260309T151226Z
UID:10012113-1772956800-1772960400@hrbcrichmond.org
SUMMARY:Men's Food & Fellowship Breakfast
DESCRIPTION:
URL:https://hrbcrichmond.org/event/mens-food-fellowship-breakfast-69/
END:VEVENT
BEGIN:VEVENT
DTSTART;TZID=America/New_York:20260308T090000
DTEND;TZID=America/New_York:20260308T100000
DTSTAMP:20260425T112727
CREATED:20260303T052538Z
LAST-MODIFIED:20260308T125545Z
UID:10013005-1772960400-1772964000@hrbcrichmond.org
SUMMARY:Men's Food & Fellowship Breakfast
DESCRIPTION:
URL:https://hrbcrichmond.org/event/mens-food-fellowship-breakfast-99/
END:VEVENT
BEGIN:VEVENT
DTSTART;TZID=America/New_York:20260308T091500
DTEND;TZID=America/New_York:20260308T101500
DTSTAMP:20260425T112727
CREATED:20250804T012859Z
LAST-MODIFIED:20260309T151226Z
UID:10012114-1772961300-1772964900@hrbcrichmond.org
SUMMARY:Bible Study - All Ages
DESCRIPTION:
URL:https://hrbcrichmond.org/event/bible-study-all-ages-68/
END:VEVENT
BEGIN:VEVENT
DTSTART;TZID=America/New_York:20260308T101500
DTEND;TZID=America/New_York:20260308T111500
DTSTAMP:20260425T112727
CREATED:20260303T052538Z
LAST-MODIFIED:20260308T141050Z
UID:10013006-1772964900-1772968500@hrbcrichmond.org
SUMMARY:Bible Study - All Ages
DESCRIPTION:
URL:https://hrbcrichmond.org/event/bible-study-all-ages-98/
END:VEVENT
BEGIN:VEVENT
DTSTART;TZID=America/New_York:20260308T103000
DTEND;TZID=America/New_York:20260308T113000
DTSTAMP:20260425T112727
CREATED:20250804T012859Z
LAST-MODIFIED:20260309T151226Z
UID:10012115-1772965800-1772969400@hrbcrichmond.org
SUMMARY:Worship
DESCRIPTION:
URL:https://hrbcrichmond.org/event/worship-142/
LOCATION:Sanctuary
CATEGORIES:Lent
END:VEVENT
BEGIN:VEVENT
DTSTART;TZID=America/New_York:20260308T113000
DTEND;TZID=America/New_York:20260308T123000
DTSTAMP:20260425T112727
CREATED:20260303T052538Z
LAST-MODIFIED:20260308T152537Z
UID:10013007-1772969400-1772973000@hrbcrichmond.org
SUMMARY:Worship
DESCRIPTION:
URL:https://hrbcrichmond.org/event/worship-172/
LOCATION:Sanctuary
END:VEVENT
BEGIN:VEVENT
DTSTART;TZID=America/New_York:20260308T114500
DTEND;TZID=America/New_York:20260308T121500
DTSTAMP:20260425T112727
CREATED:20260105T141346Z
LAST-MODIFIED:20260308T152537Z
UID:10012808-1772970300-1772972100@hrbcrichmond.org
SUMMARY:Deacon Meet and Mingle
DESCRIPTION:
URL:https://hrbcrichmond.org/event/deacon-meet-and-mingle-3/
END:VEVENT
BEGIN:VEVENT
DTSTART;TZID=America/New_York:20260308T114500
DTEND;TZID=America/New_York:20260308T124500
DTSTAMP:20260425T112727
CREATED:20260217T181142Z
LAST-MODIFIED:20260308T164025Z
UID:10012955-1772970300-1772973900@hrbcrichmond.org
SUMMARY:Outreach Meeting
DESCRIPTION:
URL:https://hrbcrichmond.org/event/outreach-meeting-23/
LOCATION:MPR2
END:VEVENT
BEGIN:VEVENT
DTSTART;TZID=America/New_York:20260308T124500
DTEND;TZID=America/New_York:20260308T140000
DTSTAMP:20260425T112727
CREATED:20260210T061156Z
LAST-MODIFIED:20260308T175521Z
UID:10012924-1772973900-1772978400@hrbcrichmond.org
SUMMARY:Nomination Team Monthly Meeting
DESCRIPTION:
URL:https://hrbcrichmond.org/event/nomination-team-monthly-meeting-22/
LOCATION:Room 125
END:VEVENT
BEGIN:VEVENT
DTSTART;TZID=America/New_York:20260308T153000
DTEND;TZID=America/New_York:20260308T163000
DTSTAMP:20260425T112727
CREATED:20251222T151352Z
LAST-MODIFIED:20260308T202535Z
UID:10012785-1772983800-1772987400@hrbcrichmond.org
SUMMARY:Small Group for Young Adults
DESCRIPTION:
URL:https://hrbcrichmond.org/event/small-group-for-young-adults-25/
LOCATION:Libbie Mill Area
END:VEVENT
BEGIN:VEVENT
DTSTART;TZID=America/New_York:20260308T160000
DTEND;TZID=America/New_York:20260308T180000
DTSTAMP:20260425T112727
CREATED:20260211T182720Z
LAST-MODIFIED:20260308T214038Z
UID:10012941-1772985600-1772992800@hrbcrichmond.org
SUMMARY:CAST Rehearsal
DESCRIPTION:
URL:https://hrbcrichmond.org/event/cast-rehearsal-18/
LOCATION:Sanctuary
END:VEVENT
BEGIN:VEVENT
DTSTART;TZID=America/New_York:20260308T190000
DTEND;TZID=America/New_York:20260308T203000
DTSTAMP:20260425T112727
CREATED:20250910T142756Z
LAST-MODIFIED:20260309T001040Z
UID:10012376-1772996400-1773001800@hrbcrichmond.org
SUMMARY:Finance Group Meeting
DESCRIPTION:
URL:https://hrbcrichmond.org/event/finance-group-meeting-28/
LOCATION:By Zoom
END:VEVENT
BEGIN:VEVENT
DTSTART;TZID=America/New_York:20260309T101500
DTEND;TZID=America/New_York:20260309T114500
DTSTAMP:20260425T112727
CREATED:20260112T161338Z
LAST-MODIFIED:20260309T151050Z
UID:10012830-1773051300-1773056700@hrbcrichmond.org
SUMMARY:New Virginians
DESCRIPTION:
URL:https://hrbcrichmond.org/event/new-virginians-3/
LOCATION:Library
END:VEVENT
BEGIN:VEVENT
DTSTART;TZID=America/New_York:20260309T140000
DTEND;TZID=America/New_York:20260309T163000
DTSTAMP:20260425T112727
CREATED:20251002T135052Z
LAST-MODIFIED:20260309T201015Z
UID:10012431-1773064800-1773073800@hrbcrichmond.org
SUMMARY:Staff Worship Planning Meeting
DESCRIPTION:
URL:https://hrbcrichmond.org/event/staff-meeting-169/
LOCATION:Conference Room
END:VEVENT
BEGIN:VEVENT
DTSTART;TZID=America/New_York:20260309T173000
DTEND;TZID=America/New_York:20260309T193000
DTSTAMP:20260425T112727
CREATED:20260226T144133Z
LAST-MODIFIED:20260309T224048Z
UID:10012986-1773077400-1773084600@hrbcrichmond.org
SUMMARY:Church Software meeting
DESCRIPTION:
URL:https://hrbcrichmond.org/event/church-software-meeting-2/
LOCATION:MPR2
END:VEVENT
BEGIN:VEVENT
DTSTART;TZID=America/New_York:20260309T180000
DTEND;TZID=America/New_York:20260309T190000
DTSTAMP:20260425T112727
CREATED:20250910T131206Z
LAST-MODIFIED:20260309T224048Z
UID:10012348-1773079200-1773082800@hrbcrichmond.org
SUMMARY:Girl Scouts
DESCRIPTION:
URL:https://hrbcrichmond.org/event/girl-scouts-12/
LOCATION:room 207
END:VEVENT
BEGIN:VEVENT
DTSTART;TZID=America/New_York:20260309T181500
DTEND;TZID=America/New_York:20260309T193000
DTSTAMP:20260425T112727
CREATED:20260122T201306Z
LAST-MODIFIED:20260309T224047Z
UID:10012869-1773080100-1773084600@hrbcrichmond.org
SUMMARY:Praise Team Rehearsal
DESCRIPTION:
URL:https://hrbcrichmond.org/event/praise-team-rehearsal-6/
LOCATION:Sanctuary
END:VEVENT
BEGIN:VEVENT
DTSTART;TZID=America/New_York:20260310T090000
DTEND;TZID=America/New_York:20260310T120000
DTSTAMP:20260425T112727
CREATED:20260309T212543Z
LAST-MODIFIED:20260310T145521Z
UID:10013124-1773133200-1773144000@hrbcrichmond.org
SUMMARY:Vacation Bible School
DESCRIPTION:
URL:https://hrbcrichmond.org/event/vacation-bible-school-8/
LOCATION:HRBC
END:VEVENT
BEGIN:VEVENT
DTSTART;TZID=America/New_York:20260310T133000
DTEND;TZID=America/New_York:20260310T153000
DTSTAMP:20260425T112727
CREATED:20260209T174215Z
LAST-MODIFIED:20260310T184020Z
UID:10012917-1773149400-1773156600@hrbcrichmond.org
SUMMARY:Ovation Rehearsal
DESCRIPTION:
URL:https://hrbcrichmond.org/event/ovation-rehearsal-99/
LOCATION:Sanctuary
END:VEVENT
BEGIN:VEVENT
DTSTART;TZID=America/New_York:20260311T090000
DTEND;TZID=America/New_York:20260311T093000
DTSTAMP:20260425T112727
CREATED:20260309T185535Z
LAST-MODIFIED:20260311T132541Z
UID:10013121-1773219600-1773221400@hrbcrichmond.org
SUMMARY:Staff Boiler Training
DESCRIPTION:
URL:https://hrbcrichmond.org/event/staff-boiler-training/
END:VEVENT
BEGIN:VEVENT
DTSTART;TZID=America/New_York:20260311T100000
DTEND;TZID=America/New_York:20260311T110000
DTSTAMP:20260425T112727
CREATED:20260304T201124Z
LAST-MODIFIED:20260311T144043Z
UID:10013100-1773223200-1773226800@hrbcrichmond.org
SUMMARY:Adult Bible Study
DESCRIPTION:
URL:https://hrbcrichmond.org/event/adult-bible-study-8/
LOCATION:MPR2
END:VEVENT
BEGIN:VEVENT
DTSTART;TZID=America/New_York:20260311T140000
DTEND;TZID=America/New_York:20260311T143000
DTSTAMP:20260425T112727
CREATED:20260309T185535Z
LAST-MODIFIED:20260311T182529Z
UID:10013122-1773237600-1773239400@hrbcrichmond.org
SUMMARY:Staff Alarm Equip Training
DESCRIPTION:
URL:https://hrbcrichmond.org/event/staff-alarm-equip-training/
END:VEVENT
END:VCALENDAR