BEGIN:VCALENDAR
VERSION:2.0
PRODID:-//Huguenot Road Baptist Church - ECPv6.15.20//NONSGML v1.0//EN
CALSCALE:GREGORIAN
METHOD:PUBLISH
X-WR-CALNAME:Huguenot Road Baptist Church
X-ORIGINAL-URL:https://hrbcrichmond.org
X-WR-CALDESC:Events for Huguenot Road Baptist Church
REFRESH-INTERVAL;VALUE=DURATION:PT1H
X-Robots-Tag:noindex
X-PUBLISHED-TTL:PT1H
BEGIN:VTIMEZONE
TZID:America/New_York
BEGIN:DAYLIGHT
TZOFFSETFROM:-0500
TZOFFSETTO:-0400
TZNAME:EDT
DTSTART:20250309T070000
END:DAYLIGHT
BEGIN:STANDARD
TZOFFSETFROM:-0400
TZOFFSETTO:-0500
TZNAME:EST
DTSTART:20251102T060000
END:STANDARD
BEGIN:DAYLIGHT
TZOFFSETFROM:-0500
TZOFFSETTO:-0400
TZNAME:EDT
DTSTART:20260308T070000
END:DAYLIGHT
BEGIN:STANDARD
TZOFFSETFROM:-0400
TZOFFSETTO:-0500
TZNAME:EST
DTSTART:20261101T060000
END:STANDARD
BEGIN:DAYLIGHT
TZOFFSETFROM:-0500
TZOFFSETTO:-0400
TZNAME:EDT
DTSTART:20270314T070000
END:DAYLIGHT
BEGIN:STANDARD
TZOFFSETFROM:-0400
TZOFFSETTO:-0500
TZNAME:EST
DTSTART:20271107T060000
END:STANDARD
END:VTIMEZONE
BEGIN:VEVENT
DTSTART;TZID=America/New_York:20260118T080000
DTEND;TZID=America/New_York:20260118T090000
DTSTAMP:20260425T210453
CREATED:20250623T144415Z
LAST-MODIFIED:20260118T132542Z
UID:10011985-1768723200-1768726800@hrbcrichmond.org
SUMMARY:Men's Food & Fellowship Breakfast
DESCRIPTION:
URL:https://hrbcrichmond.org/event/mens-food-fellowship-breakfast-62/
END:VEVENT
BEGIN:VEVENT
DTSTART;TZID=America/New_York:20260117T110000
DTEND;TZID=America/New_York:20260117T143000
DTSTAMP:20260425T210453
CREATED:20251229T171131Z
LAST-MODIFIED:20260117T184046Z
UID:10012792-1768647600-1768660200@hrbcrichmond.org
SUMMARY:Funeral service for Marjorie Hobson
DESCRIPTION:
URL:https://hrbcrichmond.org/event/possible-service-for-marjorie-hobson/
LOCATION:Sanctuary; Family Life Center
END:VEVENT
BEGIN:VEVENT
DTSTART;TZID=America/New_York:20260115T193000
DTEND;TZID=America/New_York:20260115T203000
DTSTAMP:20260425T210453
CREATED:20250623T144412Z
LAST-MODIFIED:20260116T012531Z
UID:10011980-1768505400-1768509000@hrbcrichmond.org
SUMMARY:Families Anonymous
DESCRIPTION:
URL:https://hrbcrichmond.org/event/families-anonymous-144/
LOCATION:209
END:VEVENT
BEGIN:VEVENT
DTSTART;TZID=America/New_York:20260115T190000
DTEND;TZID=America/New_York:20260115T210000
DTSTAMP:20260425T210453
CREATED:20250623T144413Z
LAST-MODIFIED:20260116T012531Z
UID:10011982-1768503600-1768510800@hrbcrichmond.org
SUMMARY:AA
DESCRIPTION:
URL:https://hrbcrichmond.org/event/aa-137/
LOCATION:200
END:VEVENT
BEGIN:VEVENT
DTSTART;TZID=America/New_York:20260115T183000
DTEND;TZID=America/New_York:20260115T200000
DTSTAMP:20260425T210453
CREATED:20250623T144412Z
LAST-MODIFIED:20260116T001053Z
UID:10011981-1768501800-1768507200@hrbcrichmond.org
SUMMARY:S.H.E.E.P.
DESCRIPTION:
URL:https://hrbcrichmond.org/event/s-h-e-e-p-58/
LOCATION:Cousins
END:VEVENT
BEGIN:VEVENT
DTSTART;TZID=America/New_York:20260115T140000
DTEND;TZID=America/New_York:20260115T160000
DTSTAMP:20260425T210453
CREATED:20250623T144414Z
LAST-MODIFIED:20260115T202549Z
UID:10011984-1768485600-1768492800@hrbcrichmond.org
SUMMARY:Bridge
DESCRIPTION:
URL:https://hrbcrichmond.org/event/bridge-137/
LOCATION:Commons
END:VEVENT
BEGIN:VEVENT
DTSTART;TZID=America/New_York:20260115T120000
DTEND;TZID=America/New_York:20260115T150000
DTSTAMP:20260425T210453
CREATED:20250910T142505Z
LAST-MODIFIED:20260115T191052Z
UID:10012369-1768478400-1768489200@hrbcrichmond.org
SUMMARY:CDC Group Meeting
DESCRIPTION:
URL:https://hrbcrichmond.org/event/cdc-group-meeting-8/
LOCATION:Conference Room
END:VEVENT
BEGIN:VEVENT
DTSTART;VALUE=DATE:20260115
DTEND;VALUE=DATE:20260116
DTSTAMP:20260425T210453
CREATED:20250623T144413Z
LAST-MODIFIED:20260115T225536Z
UID:10011983-1768435200-1768521599@hrbcrichmond.org
SUMMARY:Bread Day
DESCRIPTION:
URL:https://hrbcrichmond.org/event/bread-day-33/
END:VEVENT
BEGIN:VEVENT
DTSTART;TZID=America/New_York:20260114T193000
DTEND;TZID=America/New_York:20260114T210000
DTSTAMP:20260425T210453
CREATED:20250623T144355Z
LAST-MODIFIED:20260115T014044Z
UID:10011978-1768419000-1768424400@hrbcrichmond.org
SUMMARY:European Wind Ensemble Rehearsal
DESCRIPTION:
URL:https://hrbcrichmond.org/event/european-wind-ensemble-rehearsal-141/
LOCATION:Gym
END:VEVENT
BEGIN:VEVENT
DTSTART;TZID=America/New_York:20260114T180000
DTEND;TZID=America/New_York:20260114T193000
DTSTAMP:20260425T210453
CREATED:20251106T204427Z
LAST-MODIFIED:20260115T002529Z
UID:10012572-1768413600-1768419000@hrbcrichmond.org
SUMMARY:Wednesday Night Activities
DESCRIPTION:
URL:https://hrbcrichmond.org/event/wednesday-night-activities/
END:VEVENT
BEGIN:VEVENT
DTSTART;TZID=America/New_York:20260113T133000
DTEND;TZID=America/New_York:20260113T153000
DTSTAMP:20260425T210453
CREATED:20251201T164309Z
LAST-MODIFIED:20260113T194031Z
UID:10012671-1768311000-1768318200@hrbcrichmond.org
SUMMARY:Ovation Rehearsal
DESCRIPTION:
URL:https://hrbcrichmond.org/event/ovation-rehearsal-96/
END:VEVENT
BEGIN:VEVENT
DTSTART;TZID=America/New_York:20260113T100000
DTEND;TZID=America/New_York:20260113T123000
DTSTAMP:20260425T210453
CREATED:20250818T175030Z
LAST-MODIFIED:20260113T171024Z
UID:10012184-1768298400-1768307400@hrbcrichmond.org
SUMMARY:Dotty Shepard WMU meeting
DESCRIPTION:
URL:https://hrbcrichmond.org/event/dotty-shepard-wmu-meeting-5/
LOCATION:MPR 1
END:VEVENT
BEGIN:VEVENT
DTSTART;TZID=America/New_York:20260112T190000
DTEND;TZID=America/New_York:20260112T210000
DTSTAMP:20260425T210453
CREATED:20250910T142448Z
LAST-MODIFIED:20260113T005521Z
UID:10012368-1768244400-1768251600@hrbcrichmond.org
SUMMARY:Finance Group Meeting
DESCRIPTION:
URL:https://hrbcrichmond.org/event/finance-group-meeting-26/
LOCATION:By Zoom
END:VEVENT
BEGIN:VEVENT
DTSTART;TZID=America/New_York:20260112T180000
DTEND;TZID=America/New_York:20260112T190000
DTSTAMP:20260425T210453
CREATED:20250910T130922Z
LAST-MODIFIED:20260112T234022Z
UID:10012344-1768240800-1768244400@hrbcrichmond.org
SUMMARY:Girl Scouts
DESCRIPTION:
URL:https://hrbcrichmond.org/event/girl-scouts-8/
LOCATION:room 207
END:VEVENT
BEGIN:VEVENT
DTSTART;TZID=America/New_York:20260112T143000
DTEND;TZID=America/New_York:20260112T163000
DTSTAMP:20260425T210453
CREATED:20251002T134746Z
LAST-MODIFIED:20260112T211023Z
UID:10012423-1768228200-1768235400@hrbcrichmond.org
SUMMARY:Staff Worship Meeting
DESCRIPTION:
URL:https://hrbcrichmond.org/event/staff-meeting-161/
LOCATION:Conference Room
END:VEVENT
BEGIN:VEVENT
DTSTART;TZID=America/New_York:20260112T101500
DTEND;TZID=America/New_York:20260112T114500
DTSTAMP:20260425T210453
CREATED:20260112T161046Z
LAST-MODIFIED:20260112T161046Z
UID:10012828-1768212900-1768218300@hrbcrichmond.org
SUMMARY:New Virginians
DESCRIPTION:
URL:https://hrbcrichmond.org/event/new-virginians/
LOCATION:Library
END:VEVENT
BEGIN:VEVENT
DTSTART;TZID=America/New_York:20260111T153000
DTEND;TZID=America/New_York:20260111T163000
DTSTAMP:20260425T210453
CREATED:20251222T151101Z
LAST-MODIFIED:20260111T212534Z
UID:10012777-1768145400-1768149000@hrbcrichmond.org
SUMMARY:Small Group for Young Adults
DESCRIPTION:
URL:https://hrbcrichmond.org/event/small-group-for-young-adults-17/
LOCATION:Libbie Mill Library
END:VEVENT
BEGIN:VEVENT
DTSTART;TZID=America/New_York:20260111T114500
DTEND;TZID=America/New_York:20260111T131500
DTSTAMP:20260425T210453
CREATED:20250818T152525Z
LAST-MODIFIED:20260111T174023Z
UID:10012167-1768131900-1768137300@hrbcrichmond.org
SUMMARY:Deacon Meeting
DESCRIPTION:
URL:https://hrbcrichmond.org/event/deacon-meeting-16/
LOCATION:MPR 1
END:VEVENT
BEGIN:VEVENT
DTSTART;TZID=America/New_York:20260111T114500
DTEND;TZID=America/New_York:20260111T130000
DTSTAMP:20260425T210453
CREATED:20250622T141431Z
LAST-MODIFIED:20260111T174023Z
UID:10011971-1768131900-1768136400@hrbcrichmond.org
SUMMARY:Nomination Team Monthly Meeting
DESCRIPTION:
URL:https://hrbcrichmond.org/event/nomination-team-monthly-meeting-13/
LOCATION:Room 125
END:VEVENT
BEGIN:VEVENT
DTSTART;TZID=America/New_York:20260111T103000
DTEND;TZID=America/New_York:20260111T113000
DTSTAMP:20260425T210453
CREATED:20250621T001455Z
LAST-MODIFIED:20260111T162532Z
UID:10011970-1768127400-1768131000@hrbcrichmond.org
SUMMARY:Worship
DESCRIPTION:
URL:https://hrbcrichmond.org/event/worship-134/
LOCATION:Sanctuary
END:VEVENT
BEGIN:VEVENT
DTSTART;TZID=America/New_York:20260111T091500
DTEND;TZID=America/New_York:20260111T101500
DTSTAMP:20260425T210453
CREATED:20250620T012938Z
LAST-MODIFIED:20260111T151039Z
UID:10011969-1768122900-1768126500@hrbcrichmond.org
SUMMARY:Bible Study - All Ages
DESCRIPTION:
URL:https://hrbcrichmond.org/event/bible-study-all-ages-60/
END:VEVENT
BEGIN:VEVENT
DTSTART;TZID=America/New_York:20260111T080000
DTEND;TZID=America/New_York:20260111T090000
DTSTAMP:20260425T210453
CREATED:20250620T012935Z
LAST-MODIFIED:20260111T135525Z
UID:10011968-1768118400-1768122000@hrbcrichmond.org
SUMMARY:Men's Food & Fellowship Breakfast
DESCRIPTION:
URL:https://hrbcrichmond.org/event/mens-food-fellowship-breakfast-61/
END:VEVENT
BEGIN:VEVENT
DTSTART;TZID=America/New_York:20260110T110000
DTEND;TZID=America/New_York:20260110T140000
DTSTAMP:20260425T210453
CREATED:20251120T192818Z
LAST-MODIFIED:20260110T175546Z
UID:10012634-1768042800-1768053600@hrbcrichmond.org
SUMMARY:Celebration of Life Service and Reception for Gloria Tayman
DESCRIPTION:
URL:https://hrbcrichmond.org/event/celebration-of-life-service-and-reception-for-gloria-tayman-2/
LOCATION:Sanctuary; Family Life Center
END:VEVENT
BEGIN:VEVENT
DTSTART;TZID=America/New_York:20260109T100000
DTEND;TZID=America/New_York:20260109T120000
DTSTAMP:20260425T210453
CREATED:20250620T001511Z
LAST-MODIFIED:20260109T165536Z
UID:10011967-1767952800-1767960000@hrbcrichmond.org
SUMMARY:American Sewing Guild (ASG)
DESCRIPTION:
URL:https://hrbcrichmond.org/event/american-sewing-guild-asg-32/
LOCATION:MPR1
END:VEVENT
BEGIN:VEVENT
DTSTART;TZID=America/New_York:20260108T193000
DTEND;TZID=America/New_York:20260108T203000
DTSTAMP:20260425T210453
CREATED:20250619T175420Z
LAST-MODIFIED:20260109T002536Z
UID:10011964-1767900600-1767904200@hrbcrichmond.org
SUMMARY:Families Anonymous
DESCRIPTION:
URL:https://hrbcrichmond.org/event/families-anonymous-143/
LOCATION:209
END:VEVENT
BEGIN:VEVENT
DTSTART;TZID=America/New_York:20260108T190000
DTEND;TZID=America/New_York:20260108T210000
DTSTAMP:20260425T210453
CREATED:20250620T001511Z
LAST-MODIFIED:20260109T014037Z
UID:10011966-1767898800-1767906000@hrbcrichmond.org
SUMMARY:AA
DESCRIPTION:
URL:https://hrbcrichmond.org/event/aa-136/
LOCATION:200
END:VEVENT
BEGIN:VEVENT
DTSTART;TZID=America/New_York:20260108T180000
DTEND;TZID=America/New_York:20260108T200000
DTSTAMP:20260425T210453
CREATED:20250619T202914Z
LAST-MODIFIED:20260109T002536Z
UID:10011965-1767895200-1767902400@hrbcrichmond.org
SUMMARY:Discipleship Group Meeting
DESCRIPTION:
URL:https://hrbcrichmond.org/event/discipleship-group-meeting-34/
LOCATION:Cousins Room
END:VEVENT
BEGIN:VEVENT
DTSTART;TZID=America/New_York:20260108T140000
DTEND;TZID=America/New_York:20260108T160000
DTSTAMP:20260425T210453
CREATED:20250619T173015Z
LAST-MODIFIED:20260108T204045Z
UID:10011963-1767880800-1767888000@hrbcrichmond.org
SUMMARY:Bridge
DESCRIPTION:
URL:https://hrbcrichmond.org/event/bridge-136/
LOCATION:Commons
END:VEVENT
BEGIN:VEVENT
DTSTART;TZID=America/New_York:20260108T133000
DTEND;TZID=America/New_York:20260108T153000
DTSTAMP:20260425T210453
CREATED:20251201T164246Z
LAST-MODIFIED:20260108T192544Z
UID:10012670-1767879000-1767886200@hrbcrichmond.org
SUMMARY:Ovation Rehearsal
DESCRIPTION:
URL:https://hrbcrichmond.org/event/ovation-rehearsal-95/
END:VEVENT
BEGIN:VEVENT
DTSTART;TZID=America/New_York:20260108T110000
DTEND;TZID=America/New_York:20260108T133000
DTSTAMP:20260425T210453
CREATED:20250619T173014Z
LAST-MODIFIED:20260108T181026Z
UID:10011962-1767870000-1767879000@hrbcrichmond.org
SUMMARY:CDC Monthly Meeting
DESCRIPTION:
URL:https://hrbcrichmond.org/event/cdc-monthly-meeting-40/
LOCATION:Rod Hale Classroom
END:VEVENT
END:VCALENDAR