BEGIN:VCALENDAR
VERSION:2.0
PRODID:-//Huguenot Road Baptist Church - ECPv6.15.20//NONSGML v1.0//EN
CALSCALE:GREGORIAN
METHOD:PUBLISH
X-ORIGINAL-URL:https://hrbcrichmond.org
X-WR-CALDESC:Events for Huguenot Road Baptist Church
REFRESH-INTERVAL;VALUE=DURATION:PT1H
X-Robots-Tag:noindex
X-PUBLISHED-TTL:PT1H
BEGIN:VTIMEZONE
TZID:America/New_York
BEGIN:DAYLIGHT
TZOFFSETFROM:-0500
TZOFFSETTO:-0400
TZNAME:EDT
DTSTART:20250309T070000
END:DAYLIGHT
BEGIN:STANDARD
TZOFFSETFROM:-0400
TZOFFSETTO:-0500
TZNAME:EST
DTSTART:20251102T060000
END:STANDARD
BEGIN:DAYLIGHT
TZOFFSETFROM:-0500
TZOFFSETTO:-0400
TZNAME:EDT
DTSTART:20260308T070000
END:DAYLIGHT
BEGIN:STANDARD
TZOFFSETFROM:-0400
TZOFFSETTO:-0500
TZNAME:EST
DTSTART:20261101T060000
END:STANDARD
BEGIN:DAYLIGHT
TZOFFSETFROM:-0500
TZOFFSETTO:-0400
TZNAME:EDT
DTSTART:20270314T070000
END:DAYLIGHT
BEGIN:STANDARD
TZOFFSETFROM:-0400
TZOFFSETTO:-0500
TZNAME:EST
DTSTART:20271107T060000
END:STANDARD
END:VTIMEZONE
BEGIN:VEVENT
DTSTART;TZID=America/New_York:20260311T193000
DTEND;TZID=America/New_York:20260311T210000
DTSTAMP:20260425T112955
CREATED:20250807T155911Z
LAST-MODIFIED:20260312T004021Z
UID:10012122-1773257400-1773262800@hrbcrichmond.org
SUMMARY:European Wind Ensemble Rehearsal
DESCRIPTION:
URL:https://hrbcrichmond.org/event/european-wind-ensemble-rehearsal-149/
LOCATION:Gym
END:VEVENT
BEGIN:VEVENT
DTSTART;TZID=America/New_York:20260312T110000
DTEND;TZID=America/New_York:20260312T133000
DTSTAMP:20260425T112955
CREATED:20250808T004422Z
LAST-MODIFIED:20260312T165534Z
UID:10012125-1773313200-1773322200@hrbcrichmond.org
SUMMARY:CDC Monthly Meeting
DESCRIPTION:
URL:https://hrbcrichmond.org/event/cdc-monthly-meeting-42/
LOCATION:Rod Hale Classroom
END:VEVENT
BEGIN:VEVENT
DTSTART;TZID=America/New_York:20260312T140000
DTEND;TZID=America/New_York:20260312T160000
DTSTAMP:20260425T112955
CREATED:20250808T021341Z
LAST-MODIFIED:20260312T192553Z
UID:10012126-1773324000-1773331200@hrbcrichmond.org
SUMMARY:Bridge
DESCRIPTION:
URL:https://hrbcrichmond.org/event/bridge-145/
LOCATION:Commons
END:VEVENT
BEGIN:VEVENT
DTSTART;TZID=America/New_York:20260312T180000
DTEND;TZID=America/New_York:20260312T200000
DTSTAMP:20260425T112955
CREATED:20250808T161412Z
LAST-MODIFIED:20260312T231018Z
UID:10012127-1773338400-1773345600@hrbcrichmond.org
SUMMARY:Discipleship Group Meeting
DESCRIPTION:
URL:https://hrbcrichmond.org/event/discipleship-group-meeting-36/
LOCATION:Cousins Room
END:VEVENT
BEGIN:VEVENT
DTSTART;TZID=America/New_York:20260312T190000
DTEND;TZID=America/New_York:20260312T210000
DTSTAMP:20260425T112955
CREATED:20250809T042925Z
LAST-MODIFIED:20260313T002517Z
UID:10012128-1773342000-1773349200@hrbcrichmond.org
SUMMARY:AA
DESCRIPTION:
URL:https://hrbcrichmond.org/event/aa-145/
LOCATION:200
END:VEVENT
BEGIN:VEVENT
DTSTART;TZID=America/New_York:20260312T193000
DTEND;TZID=America/New_York:20260312T203000
DTSTAMP:20260425T112955
CREATED:20250810T135919Z
LAST-MODIFIED:20260313T002517Z
UID:10012129-1773343800-1773347400@hrbcrichmond.org
SUMMARY:Families Anonymous
DESCRIPTION:
URL:https://hrbcrichmond.org/event/families-anonymous-152/
LOCATION:209
END:VEVENT
BEGIN:VEVENT
DTSTART;TZID=America/New_York:20260313T090000
DTEND;TZID=America/New_York:20260313T120000
DTSTAMP:20260425T112955
CREATED:20260309T212558Z
LAST-MODIFIED:20260316T160535Z
UID:10013127-1773392400-1773403200@hrbcrichmond.org
SUMMARY:Vacation Bible School
DESCRIPTION:
URL:https://hrbcrichmond.org/event/vacation-bible-school-11/
LOCATION:HRBC
END:VEVENT
BEGIN:VEVENT
DTSTART;TZID=America/New_York:20260313T100000
DTEND;TZID=America/New_York:20260313T120000
DTSTAMP:20260425T112955
CREATED:20250810T163916Z
LAST-MODIFIED:20260313T152544Z
UID:10012130-1773396000-1773403200@hrbcrichmond.org
SUMMARY:American Sewing Guild (ASG)
DESCRIPTION:
URL:https://hrbcrichmond.org/event/american-sewing-guild-asg-34/
LOCATION:MPR1
END:VEVENT
BEGIN:VEVENT
DTSTART;TZID=America/New_York:20260315T080000
DTEND;TZID=America/New_York:20260315T090000
DTSTAMP:20260425T112955
CREATED:20250810T180410Z
LAST-MODIFIED:20260316T160534Z
UID:10012131-1773561600-1773565200@hrbcrichmond.org
SUMMARY:Men's Food & Fellowship Breakfast
DESCRIPTION:
URL:https://hrbcrichmond.org/event/mens-food-fellowship-breakfast-70/
END:VEVENT
BEGIN:VEVENT
DTSTART;TZID=America/New_York:20260315T090000
DTEND;TZID=America/New_York:20260315T100000
DTSTAMP:20260425T112955
CREATED:20260303T052607Z
LAST-MODIFIED:20260316T160534Z
UID:10013008-1773565200-1773568800@hrbcrichmond.org
SUMMARY:Men's Food & Fellowship Breakfast
DESCRIPTION:
URL:https://hrbcrichmond.org/event/mens-food-fellowship-breakfast-100/
END:VEVENT
BEGIN:VEVENT
DTSTART;TZID=America/New_York:20260315T091500
DTEND;TZID=America/New_York:20260315T101500
DTSTAMP:20260425T112955
CREATED:20250810T180411Z
LAST-MODIFIED:20260316T160534Z
UID:10012132-1773566100-1773569700@hrbcrichmond.org
SUMMARY:Bible Study - All Ages
DESCRIPTION:
URL:https://hrbcrichmond.org/event/bible-study-all-ages-69/
END:VEVENT
BEGIN:VEVENT
DTSTART;TZID=America/New_York:20260315T101500
DTEND;TZID=America/New_York:20260315T111500
DTSTAMP:20260425T112955
CREATED:20260303T052619Z
LAST-MODIFIED:20260316T160534Z
UID:10013009-1773569700-1773573300@hrbcrichmond.org
SUMMARY:Bible Study - All Ages
DESCRIPTION:
URL:https://hrbcrichmond.org/event/bible-study-all-ages-99/
END:VEVENT
BEGIN:VEVENT
DTSTART;TZID=America/New_York:20260315T103000
DTEND;TZID=America/New_York:20260315T113000
DTSTAMP:20260425T112955
CREATED:20250818T152902Z
LAST-MODIFIED:20260316T160534Z
UID:10012168-1773570600-1773574200@hrbcrichmond.org
SUMMARY:Worship
DESCRIPTION:
URL:https://hrbcrichmond.org/event/worship-143/
LOCATION:Sanctuary
CATEGORIES:Lent
END:VEVENT
BEGIN:VEVENT
DTSTART;TZID=America/New_York:20260315T113000
DTEND;TZID=America/New_York:20260315T123000
DTSTAMP:20260425T112955
CREATED:20260303T052619Z
LAST-MODIFIED:20260316T160534Z
UID:10013010-1773574200-1773577800@hrbcrichmond.org
SUMMARY:Worship
DESCRIPTION:
URL:https://hrbcrichmond.org/event/worship-173/
LOCATION:Sanctuary
END:VEVENT
BEGIN:VEVENT
DTSTART;TZID=America/New_York:20260315T153000
DTEND;TZID=America/New_York:20260315T163000
DTSTAMP:20260425T112955
CREATED:20260309T212611Z
LAST-MODIFIED:20260315T195549Z
UID:10013128-1773588600-1773592200@hrbcrichmond.org
SUMMARY:Small Group for Young Adults
DESCRIPTION:
URL:https://hrbcrichmond.org/event/small-group-for-young-adults-26/
LOCATION:Libbie Mill Area
END:VEVENT
BEGIN:VEVENT
DTSTART;TZID=America/New_York:20260315T160000
DTEND;TZID=America/New_York:20260315T180000
DTSTAMP:20260425T112955
CREATED:20260211T182746Z
LAST-MODIFIED:20260315T211050Z
UID:10012942-1773590400-1773597600@hrbcrichmond.org
SUMMARY:CAST Rehearsal
DESCRIPTION:
URL:https://hrbcrichmond.org/event/cast-rehearsal-19/
LOCATION:Sanctuary
END:VEVENT
BEGIN:VEVENT
DTSTART;TZID=America/New_York:20260316T090000
DTEND;TZID=America/New_York:20260316T120000
DTSTAMP:20260425T112955
CREATED:20260309T212611Z
LAST-MODIFIED:20260316T160534Z
UID:10013129-1773651600-1773662400@hrbcrichmond.org
SUMMARY:Vacation Bible School
DESCRIPTION:
URL:https://hrbcrichmond.org/event/vacation-bible-school-12/
LOCATION:HRBC
END:VEVENT
BEGIN:VEVENT
DTSTART;TZID=America/New_York:20260316T100000
DTEND;TZID=America/New_York:20260316T110000
DTSTAMP:20260425T112955
CREATED:20251002T135109Z
LAST-MODIFIED:20260316T144037Z
UID:10012432-1773655200-1773658800@hrbcrichmond.org
SUMMARY:Staff Meeting
DESCRIPTION:
URL:https://hrbcrichmond.org/event/staff-meeting-170/
LOCATION:Conference Room
END:VEVENT
BEGIN:VEVENT
DTSTART;TZID=America/New_York:20260316T181500
DTEND;TZID=America/New_York:20260316T193000
DTSTAMP:20260425T112955
CREATED:20260122T201320Z
LAST-MODIFIED:20260316T182553Z
UID:10012870-1773684900-1773689400@hrbcrichmond.org
SUMMARY:Praise Team Rehearsal
DESCRIPTION:
URL:https://hrbcrichmond.org/event/praise-team-rehearsal-7/
LOCATION:Sanctuary
END:VEVENT
BEGIN:VEVENT
DTSTART;TZID=America/New_York:20260317T133000
DTEND;TZID=America/New_York:20260317T153000
DTSTAMP:20260425T112955
CREATED:20260209T174241Z
LAST-MODIFIED:20260317T192550Z
UID:10012918-1773754200-1773761400@hrbcrichmond.org
SUMMARY:Ovation Rehearsal
DESCRIPTION:
URL:https://hrbcrichmond.org/event/ovation-rehearsal-100/
LOCATION:Sanctuary
END:VEVENT
BEGIN:VEVENT
DTSTART;TZID=America/New_York:20260317T183000
DTEND;TZID=America/New_York:20260317T203000
DTSTAMP:20260425T112955
CREATED:20250818T152903Z
LAST-MODIFIED:20260318T002531Z
UID:10012170-1773772200-1773779400@hrbcrichmond.org
SUMMARY:Worship Implementation Team
DESCRIPTION:
URL:https://hrbcrichmond.org/event/worship-implementation-team-35/
LOCATION:MPR 1
END:VEVENT
BEGIN:VEVENT
DTSTART;TZID=America/New_York:20260318T100000
DTEND;TZID=America/New_York:20260318T110000
DTSTAMP:20260425T112955
CREATED:20260304T201152Z
LAST-MODIFIED:20260318T141032Z
UID:10013101-1773828000-1773831600@hrbcrichmond.org
SUMMARY:Adult Bible Study
DESCRIPTION:
URL:https://hrbcrichmond.org/event/adult-bible-study-9/
LOCATION:MPR2
END:VEVENT
BEGIN:VEVENT
DTSTART;TZID=America/New_York:20260318T180000
DTEND;TZID=America/New_York:20260318T193000
DTSTAMP:20260425T112955
CREATED:20251106T204722Z
LAST-MODIFIED:20260318T225532Z
UID:10012581-1773856800-1773862200@hrbcrichmond.org
SUMMARY:Wednesday Night Activities
DESCRIPTION:
URL:https://hrbcrichmond.org/event/wednesday-night-activities-10/
CATEGORIES:Lent
END:VEVENT
BEGIN:VEVENT
DTSTART;TZID=America/New_York:20260318T193000
DTEND;TZID=America/New_York:20260318T210000
DTSTAMP:20260425T112955
CREATED:20250818T152908Z
LAST-MODIFIED:20260319T001026Z
UID:10012176-1773862200-1773867600@hrbcrichmond.org
SUMMARY:European Wind Ensemble Rehearsal
DESCRIPTION:
URL:https://hrbcrichmond.org/event/european-wind-ensemble-rehearsal-150/
LOCATION:Gym
END:VEVENT
BEGIN:VEVENT
DTSTART;VALUE=DATE:20260319
DTEND;VALUE=DATE:20260320
DTSTAMP:20260425T112955
CREATED:20250818T152906Z
LAST-MODIFIED:20260319T234023Z
UID:10012175-1773878400-1773964799@hrbcrichmond.org
SUMMARY:Bread Day
DESCRIPTION:
URL:https://hrbcrichmond.org/event/bread-day-35/
END:VEVENT
BEGIN:VEVENT
DTSTART;TZID=America/New_York:20260319T090000
DTEND;TZID=America/New_York:20260319T103000
DTSTAMP:20260425T112955
CREATED:20250818T152904Z
LAST-MODIFIED:20260319T135544Z
UID:10012172-1773910800-1773916200@hrbcrichmond.org
SUMMARY:Second Half Men's Ministry Meeting
DESCRIPTION:
URL:https://hrbcrichmond.org/event/second-half-mens-ministry-meeting-29/
LOCATION:MPR 1
END:VEVENT
BEGIN:VEVENT
DTSTART;TZID=America/New_York:20260319T120000
DTEND;TZID=America/New_York:20260319T150000
DTSTAMP:20260425T112955
CREATED:20250910T142813Z
LAST-MODIFIED:20260319T184045Z
UID:10012377-1773921600-1773932400@hrbcrichmond.org
SUMMARY:CDC Group Meeting
DESCRIPTION:
URL:https://hrbcrichmond.org/event/cdc-group-meeting-10/
LOCATION:Conference Room
END:VEVENT
BEGIN:VEVENT
DTSTART;TZID=America/New_York:20260319T133000
DTEND;TZID=America/New_York:20260319T153000
DTSTAMP:20260425T112955
CREATED:20260304T201153Z
LAST-MODIFIED:20260319T184045Z
UID:10013102-1773927000-1773934200@hrbcrichmond.org
SUMMARY:Ovation Rehearsal
DESCRIPTION:
URL:https://hrbcrichmond.org/event/ovation-rehearsal-106/
LOCATION:Sanctuary
END:VEVENT
BEGIN:VEVENT
DTSTART;TZID=America/New_York:20260319T140000
DTEND;TZID=America/New_York:20260319T160000
DTSTAMP:20260425T112955
CREATED:20250818T164352Z
LAST-MODIFIED:20260319T195544Z
UID:10012177-1773928800-1773936000@hrbcrichmond.org
SUMMARY:Bridge
DESCRIPTION:
URL:https://hrbcrichmond.org/event/bridge-146/
LOCATION:Commons
END:VEVENT
BEGIN:VEVENT
DTSTART;TZID=America/New_York:20260319T180000
DTEND;TZID=America/New_York:20260319T190000
DTSTAMP:20260425T112955
CREATED:20260303T141153Z
LAST-MODIFIED:20260319T222533Z
UID:10013095-1773943200-1773946800@hrbcrichmond.org
SUMMARY:RiseUp Team Meeting
DESCRIPTION:
URL:https://hrbcrichmond.org/event/riseup-team-meeting-4/
END:VEVENT
END:VCALENDAR