BEGIN:VCALENDAR
VERSION:2.0
PRODID:-//Huguenot Road Baptist Church - ECPv6.15.20//NONSGML v1.0//EN
CALSCALE:GREGORIAN
METHOD:PUBLISH
X-WR-CALNAME:Huguenot Road Baptist Church
X-ORIGINAL-URL:https://hrbcrichmond.org
X-WR-CALDESC:Events for Huguenot Road Baptist Church
REFRESH-INTERVAL;VALUE=DURATION:PT1H
X-Robots-Tag:noindex
X-PUBLISHED-TTL:PT1H
BEGIN:VTIMEZONE
TZID:America/New_York
BEGIN:DAYLIGHT
TZOFFSETFROM:-0500
TZOFFSETTO:-0400
TZNAME:EDT
DTSTART:20250309T070000
END:DAYLIGHT
BEGIN:STANDARD
TZOFFSETFROM:-0400
TZOFFSETTO:-0500
TZNAME:EST
DTSTART:20251102T060000
END:STANDARD
BEGIN:DAYLIGHT
TZOFFSETFROM:-0500
TZOFFSETTO:-0400
TZNAME:EDT
DTSTART:20260308T070000
END:DAYLIGHT
BEGIN:STANDARD
TZOFFSETFROM:-0400
TZOFFSETTO:-0500
TZNAME:EST
DTSTART:20261101T060000
END:STANDARD
BEGIN:DAYLIGHT
TZOFFSETFROM:-0500
TZOFFSETTO:-0400
TZNAME:EDT
DTSTART:20270314T070000
END:DAYLIGHT
BEGIN:STANDARD
TZOFFSETFROM:-0400
TZOFFSETTO:-0500
TZNAME:EST
DTSTART:20271107T060000
END:STANDARD
END:VTIMEZONE
BEGIN:VEVENT
DTSTART;TZID=America/New_York:20260618T190000
DTEND;TZID=America/New_York:20260618T210000
DTSTAMP:20260425T075336
CREATED:20251116T193611Z
LAST-MODIFIED:20260425T105927Z
UID:10012614-1781809200-1781816400@hrbcrichmond.org
SUMMARY:AA
DESCRIPTION:
URL:https://hrbcrichmond.org/event/aa-159/
LOCATION:200
END:VEVENT
BEGIN:VEVENT
DTSTART;TZID=America/New_York:20260618T183000
DTEND;TZID=America/New_York:20260618T200000
DTSTAMP:20260425T075336
CREATED:20251116T182051Z
LAST-MODIFIED:20260425T105916Z
UID:10012613-1781807400-1781812800@hrbcrichmond.org
SUMMARY:S.H.E.E.P.
DESCRIPTION:
URL:https://hrbcrichmond.org/event/s-h-e-e-p-68/
LOCATION:Cousins
END:VEVENT
BEGIN:VEVENT
DTSTART;TZID=America/New_York:20260618T140000
DTEND;TZID=America/New_York:20260618T160000
DTSTAMP:20260425T075336
CREATED:20251114T173556Z
LAST-MODIFIED:20260425T105916Z
UID:10012612-1781791200-1781798400@hrbcrichmond.org
SUMMARY:Bridge
DESCRIPTION:
URL:https://hrbcrichmond.org/event/bridge-159/
LOCATION:Commons
END:VEVENT
BEGIN:VEVENT
DTSTART;TZID=America/New_York:20260618T120000
DTEND;TZID=America/New_York:20260618T150000
DTSTAMP:20260425T075336
CREATED:20251114T150619Z
LAST-MODIFIED:20260425T105916Z
UID:10012608-1781784000-1781794800@hrbcrichmond.org
SUMMARY:CDC Group Meeting
DESCRIPTION:
URL:https://hrbcrichmond.org/event/cdc-group-meeting-13/
LOCATION:Conference Room
END:VEVENT
BEGIN:VEVENT
DTSTART;TZID=America/New_York:20260618T090000
DTEND;TZID=America/New_York:20260618T103000
DTSTAMP:20260425T075336
CREATED:20251114T173556Z
LAST-MODIFIED:20260425T105916Z
UID:10012611-1781773200-1781778600@hrbcrichmond.org
SUMMARY:Second Half Men's Ministry Meeting
DESCRIPTION:
URL:https://hrbcrichmond.org/event/second-half-mens-ministry-meeting-32/
LOCATION:MPR 1
END:VEVENT
BEGIN:VEVENT
DTSTART;VALUE=DATE:20260618
DTEND;VALUE=DATE:20260619
DTSTAMP:20260425T075336
CREATED:20251114T023621Z
LAST-MODIFIED:20260425T105916Z
UID:10012607-1781740800-1781827199@hrbcrichmond.org
SUMMARY:Bread Day
DESCRIPTION:
URL:https://hrbcrichmond.org/event/bread-day-38/
END:VEVENT
BEGIN:VEVENT
DTSTART;TZID=America/New_York:20260617T193000
DTEND;TZID=America/New_York:20260617T210000
DTSTAMP:20260425T075336
CREATED:20251114T173556Z
LAST-MODIFIED:20260425T105916Z
UID:10012610-1781724600-1781730000@hrbcrichmond.org
SUMMARY:European Wind Ensemble Rehearsal
DESCRIPTION:
URL:https://hrbcrichmond.org/event/european-wind-ensemble-rehearsal-163/
LOCATION:Gym
END:VEVENT
BEGIN:VEVENT
DTSTART;TZID=America/New_York:20260617T180000
DTEND;TZID=America/New_York:20260617T193000
DTSTAMP:20260425T075336
CREATED:20260320T164634Z
LAST-MODIFIED:20260425T105914Z
UID:10013273-1781719200-1781724600@hrbcrichmond.org
SUMMARY:Wednesday Night Activities
DESCRIPTION:
URL:https://hrbcrichmond.org/event/wednesday-night-activities-23/
END:VEVENT
BEGIN:VEVENT
DTSTART;TZID=America/New_York:20260616T183000
DTEND;TZID=America/New_York:20260616T203000
DTSTAMP:20260425T075336
CREATED:20251114T023621Z
LAST-MODIFIED:20260425T105914Z
UID:10012606-1781634600-1781641800@hrbcrichmond.org
SUMMARY:Worship Implementation Team
DESCRIPTION:
URL:https://hrbcrichmond.org/event/worship-implementation-team-38/
LOCATION:MPR 1
END:VEVENT
BEGIN:VEVENT
DTSTART;TZID=America/New_York:20260615T181500
DTEND;TZID=America/New_York:20260615T193000
DTSTAMP:20260425T075336
CREATED:20260122T201745Z
LAST-MODIFIED:20260425T105914Z
UID:10012883-1781547300-1781551800@hrbcrichmond.org
SUMMARY:Praise Team Rehearsal
DESCRIPTION:
URL:https://hrbcrichmond.org/event/praise-team-rehearsal-20/
LOCATION:Sanctuary
END:VEVENT
BEGIN:VEVENT
DTSTART;TZID=America/New_York:20260615T143000
DTEND;TZID=America/New_York:20260615T160000
DTSTAMP:20260425T075336
CREATED:20251114T012106Z
LAST-MODIFIED:20260425T105912Z
UID:10012605-1781533800-1781539200@hrbcrichmond.org
SUMMARY:Staff Meeting
DESCRIPTION:
URL:https://hrbcrichmond.org/event/staff-meeting-220/
LOCATION:Conference Room
END:VEVENT
BEGIN:VEVENT
DTSTART;TZID=America/New_York:20260614T153000
DTEND;TZID=America/New_York:20260614T163000
DTSTAMP:20260425T075336
CREATED:20260309T213329Z
LAST-MODIFIED:20260425T105901Z
UID:10013206-1781451000-1781454600@hrbcrichmond.org
SUMMARY:Small Group for Young Adults
DESCRIPTION:
URL:https://hrbcrichmond.org/event/small-group-for-young-adults-39/
LOCATION:Libbie Mill Area
END:VEVENT
BEGIN:VEVENT
DTSTART;TZID=America/New_York:20260614T114500
DTEND;TZID=America/New_York:20260614T130000
DTSTAMP:20260425T075336
CREATED:20251113T190535Z
LAST-MODIFIED:20260425T105901Z
UID:10012603-1781437500-1781442000@hrbcrichmond.org
SUMMARY:Nomination Team Monthly Meeting
DESCRIPTION:
URL:https://hrbcrichmond.org/event/nomination-team-monthly-meeting-18/
LOCATION:Room 125
END:VEVENT
BEGIN:VEVENT
DTSTART;TZID=America/New_York:20260614T114500
DTEND;TZID=America/New_York:20260614T124500
DTSTAMP:20260425T075336
CREATED:20260217T181728Z
LAST-MODIFIED:20260425T105901Z
UID:10012961-1781437500-1781441100@hrbcrichmond.org
SUMMARY:Outreach Meeting
DESCRIPTION:
URL:https://hrbcrichmond.org/event/outreach-meeting-26/
LOCATION:MPR2
END:VEVENT
BEGIN:VEVENT
DTSTART;TZID=America/New_York:20260614T103000
DTEND;TZID=America/New_York:20260614T113000
DTSTAMP:20260425T075336
CREATED:20251113T175112Z
LAST-MODIFIED:20260425T105901Z
UID:10012602-1781433000-1781436600@hrbcrichmond.org
SUMMARY:Worship
DESCRIPTION:
URL:https://hrbcrichmond.org/event/worship-156/
LOCATION:Sanctuary
END:VEVENT
BEGIN:VEVENT
DTSTART;TZID=America/New_York:20260614T091500
DTEND;TZID=America/New_York:20260614T101500
DTSTAMP:20260425T075336
CREATED:20251113T030553Z
LAST-MODIFIED:20260425T105859Z
UID:10012601-1781428500-1781432100@hrbcrichmond.org
SUMMARY:Bible Study - All Ages
DESCRIPTION:
URL:https://hrbcrichmond.org/event/bible-study-all-ages-82/
END:VEVENT
BEGIN:VEVENT
DTSTART;TZID=America/New_York:20260614T080000
DTEND;TZID=America/New_York:20260614T090000
DTSTAMP:20260425T075336
CREATED:20251113T003607Z
LAST-MODIFIED:20260425T105859Z
UID:10012600-1781424000-1781427600@hrbcrichmond.org
SUMMARY:Men's Food & Fellowship Breakfast
DESCRIPTION:
URL:https://hrbcrichmond.org/event/mens-food-fellowship-breakfast-83/
END:VEVENT
BEGIN:VEVENT
DTSTART;TZID=America/New_York:20260612T100000
DTEND;TZID=America/New_York:20260612T120000
DTSTAMP:20260425T075336
CREATED:20251111T155044Z
LAST-MODIFIED:20260425T105859Z
UID:10012592-1781258400-1781265600@hrbcrichmond.org
SUMMARY:American Sewing Guild (ASG)
DESCRIPTION:
URL:https://hrbcrichmond.org/event/american-sewing-guild-asg-37/
LOCATION:MPR1
END:VEVENT
BEGIN:VEVENT
DTSTART;TZID=America/New_York:20260612T090000
DTEND;TZID=America/New_York:20260612T120000
DTSTAMP:20260425T075336
CREATED:20260309T213317Z
LAST-MODIFIED:20260425T105859Z
UID:10013205-1781254800-1781265600@hrbcrichmond.org
SUMMARY:Vacation Bible School
DESCRIPTION:
URL:https://hrbcrichmond.org/event/vacation-bible-school-76/
LOCATION:HRBC
END:VEVENT
BEGIN:VEVENT
DTSTART;TZID=America/New_York:20260611T193000
DTEND;TZID=America/New_York:20260611T203000
DTSTAMP:20260425T075336
CREATED:20251106T005053Z
LAST-MODIFIED:20260425T105859Z
UID:10012568-1781206200-1781209800@hrbcrichmond.org
SUMMARY:Families Anonymous
DESCRIPTION:
URL:https://hrbcrichmond.org/event/families-anonymous-165/
LOCATION:209
END:VEVENT
BEGIN:VEVENT
DTSTART;TZID=America/New_York:20260611T190000
DTEND;TZID=America/New_York:20260611T210000
DTSTAMP:20260425T075336
CREATED:20251106T032125Z
LAST-MODIFIED:20260425T105848Z
UID:10012569-1781204400-1781211600@hrbcrichmond.org
SUMMARY:AA
DESCRIPTION:
URL:https://hrbcrichmond.org/event/aa-158/
LOCATION:200
END:VEVENT
BEGIN:VEVENT
DTSTART;TZID=America/New_York:20260611T184500
DTEND;TZID=America/New_York:20260611T203000
DTSTAMP:20260425T075336
CREATED:20251106T032125Z
LAST-MODIFIED:20260425T105848Z
UID:10012570-1781203500-1781209800@hrbcrichmond.org
SUMMARY:Discipleship Group Meeting
DESCRIPTION:
URL:https://hrbcrichmond.org/event/discipleship-group-meeting-40/
LOCATION:Cousins Room
END:VEVENT
BEGIN:VEVENT
DTSTART;TZID=America/New_York:20260611T180000
DTEND;TZID=America/New_York:20260611T193000
DTSTAMP:20260425T075336
CREATED:20260421T154349Z
LAST-MODIFIED:20260425T105859Z
UID:10013369-1781200800-1781206200@hrbcrichmond.org
SUMMARY:Concert in the Courtyard
DESCRIPTION:
URL:https://hrbcrichmond.org/event/concert-in-the-courtyard/
LOCATION:Courtyard
END:VEVENT
BEGIN:VEVENT
DTSTART;TZID=America/New_York:20260611T140000
DTEND;TZID=America/New_York:20260611T160000
DTSTAMP:20260425T075336
CREATED:20251106T005053Z
LAST-MODIFIED:20260425T105848Z
UID:10012567-1781186400-1781193600@hrbcrichmond.org
SUMMARY:Bridge
DESCRIPTION:
URL:https://hrbcrichmond.org/event/bridge-158/
LOCATION:Commons
END:VEVENT
BEGIN:VEVENT
DTSTART;TZID=America/New_York:20260611T110000
DTEND;TZID=America/New_York:20260611T133000
DTSTAMP:20260425T075336
CREATED:20251106T005053Z
LAST-MODIFIED:20260425T105848Z
UID:10012566-1781175600-1781184600@hrbcrichmond.org
SUMMARY:CDC Monthly Meeting
DESCRIPTION:
URL:https://hrbcrichmond.org/event/cdc-monthly-meeting-45/
LOCATION:Rod Hale Classroom
END:VEVENT
BEGIN:VEVENT
DTSTART;TZID=America/New_York:20260611T090000
DTEND;TZID=America/New_York:20260611T120000
DTSTAMP:20260425T075336
CREATED:20260309T213317Z
LAST-MODIFIED:20260425T105848Z
UID:10013204-1781168400-1781179200@hrbcrichmond.org
SUMMARY:Vacation Bible School
DESCRIPTION:
URL:https://hrbcrichmond.org/event/vacation-bible-school-75/
LOCATION:HRBC
END:VEVENT
BEGIN:VEVENT
DTSTART;TZID=America/New_York:20260610T193000
DTEND;TZID=America/New_York:20260610T210000
DTSTAMP:20260425T075336
CREATED:20251106T005053Z
LAST-MODIFIED:20260425T105848Z
UID:10012565-1781119800-1781125200@hrbcrichmond.org
SUMMARY:European Wind Ensemble Rehearsal
DESCRIPTION:
URL:https://hrbcrichmond.org/event/european-wind-ensemble-rehearsal-162/
LOCATION:Gym
END:VEVENT
BEGIN:VEVENT
DTSTART;TZID=America/New_York:20260610T180000
DTEND;TZID=America/New_York:20260610T193000
DTSTAMP:20260425T075336
CREATED:20260320T164608Z
LAST-MODIFIED:20260425T105846Z
UID:10013272-1781114400-1781119800@hrbcrichmond.org
SUMMARY:Wednesday Night Activities
DESCRIPTION:
URL:https://hrbcrichmond.org/event/wednesday-night-activities-22/
END:VEVENT
BEGIN:VEVENT
DTSTART;TZID=America/New_York:20260610T090000
DTEND;TZID=America/New_York:20260610T120000
DTSTAMP:20260425T075336
CREATED:20260309T213304Z
LAST-MODIFIED:20260425T105846Z
UID:10013203-1781082000-1781092800@hrbcrichmond.org
SUMMARY:Vacation Bible School
DESCRIPTION:
URL:https://hrbcrichmond.org/event/vacation-bible-school-74/
LOCATION:HRBC
END:VEVENT
BEGIN:VEVENT
DTSTART;TZID=America/New_York:20260609T090000
DTEND;TZID=America/New_York:20260609T120000
DTSTAMP:20260425T075336
CREATED:20260309T213304Z
LAST-MODIFIED:20260425T105846Z
UID:10013202-1780995600-1781006400@hrbcrichmond.org
SUMMARY:Vacation Bible School
DESCRIPTION:
URL:https://hrbcrichmond.org/event/vacation-bible-school-73/
LOCATION:HRBC
END:VEVENT
END:VCALENDAR