BEGIN:VCALENDAR
VERSION:2.0
PRODID:-//Huguenot Road Baptist Church - ECPv6.15.20//NONSGML v1.0//EN
CALSCALE:GREGORIAN
METHOD:PUBLISH
X-WR-CALNAME:Huguenot Road Baptist Church
X-ORIGINAL-URL:https://hrbcrichmond.org
X-WR-CALDESC:Events for Huguenot Road Baptist Church
REFRESH-INTERVAL;VALUE=DURATION:PT1H
X-Robots-Tag:noindex
X-PUBLISHED-TTL:PT1H
BEGIN:VTIMEZONE
TZID:America/New_York
BEGIN:DAYLIGHT
TZOFFSETFROM:-0500
TZOFFSETTO:-0400
TZNAME:EDT
DTSTART:20250309T070000
END:DAYLIGHT
BEGIN:STANDARD
TZOFFSETFROM:-0400
TZOFFSETTO:-0500
TZNAME:EST
DTSTART:20251102T060000
END:STANDARD
BEGIN:DAYLIGHT
TZOFFSETFROM:-0500
TZOFFSETTO:-0400
TZNAME:EDT
DTSTART:20260308T070000
END:DAYLIGHT
BEGIN:STANDARD
TZOFFSETFROM:-0400
TZOFFSETTO:-0500
TZNAME:EST
DTSTART:20261101T060000
END:STANDARD
BEGIN:DAYLIGHT
TZOFFSETFROM:-0500
TZOFFSETTO:-0400
TZNAME:EDT
DTSTART:20270314T070000
END:DAYLIGHT
BEGIN:STANDARD
TZOFFSETFROM:-0400
TZOFFSETTO:-0500
TZNAME:EST
DTSTART:20271107T060000
END:STANDARD
END:VTIMEZONE
BEGIN:VEVENT
DTSTART;TZID=America/New_York:20260420T143000
DTEND;TZID=America/New_York:20260420T160000
DTSTAMP:20260425T075326
CREATED:20251002T135305Z
LAST-MODIFIED:20260420T194019Z
UID:10012437-1776695400-1776700800@hrbcrichmond.org
SUMMARY:Staff Meeting
DESCRIPTION:
URL:https://hrbcrichmond.org/event/staff-meeting-175/
LOCATION:Conference Room
END:VEVENT
BEGIN:VEVENT
DTSTART;TZID=America/New_York:20260419T160000
DTEND;TZID=America/New_York:20260419T180000
DTSTAMP:20260425T075326
CREATED:20260211T182956Z
LAST-MODIFIED:20260419T211054Z
UID:10012950-1776614400-1776621600@hrbcrichmond.org
SUMMARY:CAST Rehearsal
DESCRIPTION:
URL:https://hrbcrichmond.org/event/cast-rehearsal-24/
LOCATION:Sanctuary
END:VEVENT
BEGIN:VEVENT
DTSTART;TZID=America/New_York:20260419T153000
DTEND;TZID=America/New_York:20260419T163000
DTSTAMP:20260425T075326
CREATED:20260309T212906Z
LAST-MODIFIED:20260419T195539Z
UID:10013158-1776612600-1776616200@hrbcrichmond.org
SUMMARY:Small Group for Young Adults
DESCRIPTION:
URL:https://hrbcrichmond.org/event/small-group-for-young-adults-31/
LOCATION:Libbie Mill Area
END:VEVENT
BEGIN:VEVENT
DTSTART;TZID=America/New_York:20260419T103000
DTEND;TZID=America/New_York:20260419T113000
DTSTAMP:20260425T075326
CREATED:20250831T155846Z
LAST-MODIFIED:20260419T145539Z
UID:10012307-1776594600-1776598200@hrbcrichmond.org
SUMMARY:Worship
DESCRIPTION:
URL:https://hrbcrichmond.org/event/worship-148/
LOCATION:Sanctuary
END:VEVENT
BEGIN:VEVENT
DTSTART;TZID=America/New_York:20260419T091500
DTEND;TZID=America/New_York:20260419T101500
DTSTAMP:20260425T075326
CREATED:20250829T014422Z
LAST-MODIFIED:20260419T134036Z
UID:10012304-1776590100-1776593700@hrbcrichmond.org
SUMMARY:Bible Study - All Ages
DESCRIPTION:
URL:https://hrbcrichmond.org/event/bible-study-all-ages-74/
END:VEVENT
BEGIN:VEVENT
DTSTART;TZID=America/New_York:20260419T080000
DTEND;TZID=America/New_York:20260419T090000
DTSTAMP:20260425T075326
CREATED:20250829T014421Z
LAST-MODIFIED:20260419T122523Z
UID:10012303-1776585600-1776589200@hrbcrichmond.org
SUMMARY:Men's Food & Fellowship Breakfast
DESCRIPTION:
URL:https://hrbcrichmond.org/event/mens-food-fellowship-breakfast-75/
END:VEVENT
BEGIN:VEVENT
DTSTART;TZID=America/New_York:20260417T090000
DTEND;TZID=America/New_York:20260417T100000
DTSTAMP:20260425T075326
CREATED:20260413T164035Z
LAST-MODIFIED:20260417T125551Z
UID:10013344-1776416400-1776420000@hrbcrichmond.org
SUMMARY:Ovation mtg
DESCRIPTION:
URL:https://hrbcrichmond.org/event/ovation-mtg/
LOCATION:Sanctuary
END:VEVENT
BEGIN:VEVENT
DTSTART;TZID=America/New_York:20260416T193000
DTEND;TZID=America/New_York:20260416T203000
DTSTAMP:20260425T075326
CREATED:20250826T184441Z
LAST-MODIFIED:20260417T002600Z
UID:10012297-1776367800-1776371400@hrbcrichmond.org
SUMMARY:Families Anonymous
DESCRIPTION:
URL:https://hrbcrichmond.org/event/families-anonymous-157/
LOCATION:209
END:VEVENT
BEGIN:VEVENT
DTSTART;TZID=America/New_York:20260416T190000
DTEND;TZID=America/New_York:20260416T210000
DTSTAMP:20260425T075326
CREATED:20250826T195923Z
LAST-MODIFIED:20260417T002600Z
UID:10012299-1776366000-1776373200@hrbcrichmond.org
SUMMARY:AA
DESCRIPTION:
URL:https://hrbcrichmond.org/event/aa-150/
LOCATION:200
END:VEVENT
BEGIN:VEVENT
DTSTART;TZID=America/New_York:20260416T183000
DTEND;TZID=America/New_York:20260416T200000
DTSTAMP:20260425T075326
CREATED:20250826T235428Z
LAST-MODIFIED:20260416T231049Z
UID:10012300-1776364200-1776369600@hrbcrichmond.org
SUMMARY:S.H.E.E.P.
DESCRIPTION:
URL:https://hrbcrichmond.org/event/s-h-e-e-p-64/
LOCATION:Cousins
END:VEVENT
BEGIN:VEVENT
DTSTART;TZID=America/New_York:20260416T140000
DTEND;TZID=America/New_York:20260416T160000
DTSTAMP:20260425T075326
CREATED:20250826T184439Z
LAST-MODIFIED:20260416T192520Z
UID:10012295-1776348000-1776355200@hrbcrichmond.org
SUMMARY:Bridge
DESCRIPTION:
URL:https://hrbcrichmond.org/event/bridge-150/
LOCATION:Commons
END:VEVENT
BEGIN:VEVENT
DTSTART;TZID=America/New_York:20260416T120000
DTEND;TZID=America/New_York:20260416T150000
DTSTAMP:20260425T075326
CREATED:20250917T185855Z
LAST-MODIFIED:20260416T171041Z
UID:10012396-1776340800-1776351600@hrbcrichmond.org
SUMMARY:CDC Group Meeting
DESCRIPTION:
URL:https://hrbcrichmond.org/event/cdc-group-meeting-11/
LOCATION:Conference Room
END:VEVENT
BEGIN:VEVENT
DTSTART;TZID=America/New_York:20260416T090000
DTEND;TZID=America/New_York:20260416T103000
DTSTAMP:20260425T075326
CREATED:20250826T184439Z
LAST-MODIFIED:20260416T132522Z
UID:10012294-1776330000-1776335400@hrbcrichmond.org
SUMMARY:Second Half Men's Ministry Meeting
DESCRIPTION:
URL:https://hrbcrichmond.org/event/second-half-mens-ministry-meeting-30/
LOCATION:MPR 1
END:VEVENT
BEGIN:VEVENT
DTSTART;VALUE=DATE:20260416
DTEND;VALUE=DATE:20260417
DTSTAMP:20260425T075326
CREATED:20250826T184440Z
LAST-MODIFIED:20260416T231049Z
UID:10012296-1776297600-1776383999@hrbcrichmond.org
SUMMARY:Bread Day
DESCRIPTION:
URL:https://hrbcrichmond.org/event/bread-day-36/
END:VEVENT
BEGIN:VEVENT
DTSTART;TZID=America/New_York:20260415T193000
DTEND;TZID=America/New_York:20260415T210000
DTSTAMP:20260425T075326
CREATED:20250826T184438Z
LAST-MODIFIED:20260416T005533Z
UID:10012293-1776281400-1776286800@hrbcrichmond.org
SUMMARY:European Wind Ensemble Rehearsal
DESCRIPTION:
URL:https://hrbcrichmond.org/event/european-wind-ensemble-rehearsal-154/
LOCATION:Gym
END:VEVENT
BEGIN:VEVENT
DTSTART;TZID=America/New_York:20260415T180000
DTEND;TZID=America/New_York:20260415T193000
DTSTAMP:20260425T075326
CREATED:20251106T204838Z
LAST-MODIFIED:20260415T222521Z
UID:10012585-1776276000-1776281400@hrbcrichmond.org
SUMMARY:Wednesday Night Activities
DESCRIPTION:
URL:https://hrbcrichmond.org/event/wednesday-night-activities-14/
END:VEVENT
BEGIN:VEVENT
DTSTART;TZID=America/New_York:20260415T100000
DTEND;TZID=America/New_York:20260415T110000
DTSTAMP:20260425T075326
CREATED:20260401T151135Z
LAST-MODIFIED:20260415T145530Z
UID:10013302-1776247200-1776250800@hrbcrichmond.org
SUMMARY:Adult Bible Study - Walking with God
DESCRIPTION:
URL:https://hrbcrichmond.org/event/adult-bible-study-walking-with-god-2/
LOCATION:MPR 1
END:VEVENT
BEGIN:VEVENT
DTSTART;TZID=America/New_York:20260414T133000
DTEND;TZID=America/New_York:20260414T153000
DTSTAMP:20260425T075326
CREATED:20260209T174412Z
LAST-MODIFIED:20260414T185523Z
UID:10012922-1776173400-1776180600@hrbcrichmond.org
SUMMARY:Ovation Rehearsal
DESCRIPTION:
URL:https://hrbcrichmond.org/event/ovation-rehearsal-104/
LOCATION:Sanctuary
END:VEVENT
BEGIN:VEVENT
DTSTART;TZID=America/New_York:20260413T190000
DTEND;TZID=America/New_York:20260413T210000
DTSTAMP:20260425T075326
CREATED:20250916T194350Z
LAST-MODIFIED:20260414T001048Z
UID:10012395-1776106800-1776114000@hrbcrichmond.org
SUMMARY:Finance Group Meeting
DESCRIPTION:
URL:https://hrbcrichmond.org/event/finance-group-meeting-29/
LOCATION:By Zoom
END:VEVENT
BEGIN:VEVENT
DTSTART;TZID=America/New_York:20260413T181500
DTEND;TZID=America/New_York:20260413T193000
DTSTAMP:20260425T075326
CREATED:20260122T201450Z
LAST-MODIFIED:20260413T225517Z
UID:10012874-1776104100-1776108600@hrbcrichmond.org
SUMMARY:Praise Team Rehearsal
DESCRIPTION:
URL:https://hrbcrichmond.org/event/praise-team-rehearsal-11/
LOCATION:Sanctuary
END:VEVENT
BEGIN:VEVENT
DTSTART;TZID=America/New_York:20260413T180000
DTEND;TZID=America/New_York:20260413T190000
DTSTAMP:20260425T075326
CREATED:20250910T131359Z
LAST-MODIFIED:20260413T225517Z
UID:10012350-1776103200-1776106800@hrbcrichmond.org
SUMMARY:Girl Scouts
DESCRIPTION:
URL:https://hrbcrichmond.org/event/girl-scouts-14/
LOCATION:room 207
END:VEVENT
BEGIN:VEVENT
DTSTART;TZID=America/New_York:20260413T143000
DTEND;TZID=America/New_York:20260413T160000
DTSTAMP:20260425T075326
CREATED:20251002T135248Z
LAST-MODIFIED:20260413T191027Z
UID:10012436-1776090600-1776096000@hrbcrichmond.org
SUMMARY:Staff Meeting
DESCRIPTION:
URL:https://hrbcrichmond.org/event/staff-meeting-174/
LOCATION:Conference Room
END:VEVENT
BEGIN:VEVENT
DTSTART;TZID=America/New_York:20260413T101500
DTEND;TZID=America/New_York:20260413T114500
DTSTAMP:20260425T075326
CREATED:20260112T161507Z
LAST-MODIFIED:20260413T152528Z
UID:10012831-1776075300-1776080700@hrbcrichmond.org
SUMMARY:New Virginians
DESCRIPTION:
URL:https://hrbcrichmond.org/event/new-virginians-4/
LOCATION:Library
END:VEVENT
BEGIN:VEVENT
DTSTART;TZID=America/New_York:20260412T160000
DTEND;TZID=America/New_York:20260412T180000
DTSTAMP:20260425T075326
CREATED:20260211T182931Z
LAST-MODIFIED:20260412T215552Z
UID:10012949-1776009600-1776016800@hrbcrichmond.org
SUMMARY:CAST Rehearsal
DESCRIPTION:
URL:https://hrbcrichmond.org/event/cast-rehearsal-23/
LOCATION:Sanctuary
END:VEVENT
BEGIN:VEVENT
DTSTART;TZID=America/New_York:20260412T153000
DTEND;TZID=America/New_York:20260412T163000
DTSTAMP:20260425T075326
CREATED:20260309T212839Z
LAST-MODIFIED:20260412T192546Z
UID:10013152-1776007800-1776011400@hrbcrichmond.org
SUMMARY:Small Group for Young Adults
DESCRIPTION:
URL:https://hrbcrichmond.org/event/small-group-for-young-adults-30/
LOCATION:Libbie Mill Area
END:VEVENT
BEGIN:VEVENT
DTSTART;TZID=America/New_York:20260412T114500
DTEND;TZID=America/New_York:20260412T141500
DTSTAMP:20260425T075326
CREATED:20260309T201233Z
LAST-MODIFIED:20260412T181025Z
UID:10013123-1775994300-1776003300@hrbcrichmond.org
SUMMARY:CARITAS Packing Event
DESCRIPTION:
URL:https://hrbcrichmond.org/event/caritas-packing-event/
LOCATION:flc
END:VEVENT
BEGIN:VEVENT
DTSTART;TZID=America/New_York:20260412T114500
DTEND;TZID=America/New_York:20260412T130000
DTSTAMP:20260425T075326
CREATED:20250826T184436Z
LAST-MODIFIED:20260412T165540Z
UID:10012291-1775994300-1775998800@hrbcrichmond.org
SUMMARY:Nomination Team Monthly Meeting
DESCRIPTION:
URL:https://hrbcrichmond.org/event/nomination-team-monthly-meeting-16/
LOCATION:Room 125
END:VEVENT
BEGIN:VEVENT
DTSTART;TZID=America/New_York:20260412T114500
DTEND;TZID=America/New_York:20260412T124500
DTSTAMP:20260425T075326
CREATED:20260217T181354Z
LAST-MODIFIED:20260412T154049Z
UID:10012957-1775994300-1775997900@hrbcrichmond.org
SUMMARY:Outreach Meeting
DESCRIPTION:
URL:https://hrbcrichmond.org/event/outreach-meeting-24/
LOCATION:MPR2
END:VEVENT
BEGIN:VEVENT
DTSTART;TZID=America/New_York:20260412T103000
DTEND;TZID=America/New_York:20260412T113000
DTSTAMP:20260425T075326
CREATED:20250826T184435Z
LAST-MODIFIED:20260412T142544Z
UID:10012290-1775989800-1775993400@hrbcrichmond.org
SUMMARY:Worship
DESCRIPTION:
URL:https://hrbcrichmond.org/event/worship-147/
LOCATION:Sanctuary
END:VEVENT
BEGIN:VEVENT
DTSTART;TZID=America/New_York:20260412T091500
DTEND;TZID=America/New_York:20260412T101500
DTSTAMP:20260425T075326
CREATED:20250826T184434Z
LAST-MODIFIED:20260412T131018Z
UID:10012289-1775985300-1775988900@hrbcrichmond.org
SUMMARY:Bible Study - All Ages
DESCRIPTION:
URL:https://hrbcrichmond.org/event/bible-study-all-ages-73/
END:VEVENT
END:VCALENDAR