BEGIN:VCALENDAR
VERSION:2.0
PRODID:-//Huguenot Road Baptist Church - ECPv6.15.20//NONSGML v1.0//EN
CALSCALE:GREGORIAN
METHOD:PUBLISH
X-ORIGINAL-URL:https://hrbcrichmond.org
X-WR-CALDESC:Events for Huguenot Road Baptist Church
REFRESH-INTERVAL;VALUE=DURATION:PT1H
X-Robots-Tag:noindex
X-PUBLISHED-TTL:PT1H
BEGIN:VTIMEZONE
TZID:America/New_York
BEGIN:DAYLIGHT
TZOFFSETFROM:-0500
TZOFFSETTO:-0400
TZNAME:EDT
DTSTART:20250309T070000
END:DAYLIGHT
BEGIN:STANDARD
TZOFFSETFROM:-0400
TZOFFSETTO:-0500
TZNAME:EST
DTSTART:20251102T060000
END:STANDARD
BEGIN:DAYLIGHT
TZOFFSETFROM:-0500
TZOFFSETTO:-0400
TZNAME:EDT
DTSTART:20260308T070000
END:DAYLIGHT
BEGIN:STANDARD
TZOFFSETFROM:-0400
TZOFFSETTO:-0500
TZNAME:EST
DTSTART:20261101T060000
END:STANDARD
BEGIN:DAYLIGHT
TZOFFSETFROM:-0500
TZOFFSETTO:-0400
TZNAME:EDT
DTSTART:20270314T070000
END:DAYLIGHT
BEGIN:STANDARD
TZOFFSETFROM:-0400
TZOFFSETTO:-0500
TZNAME:EST
DTSTART:20271107T060000
END:STANDARD
END:VTIMEZONE
BEGIN:VEVENT
DTSTART;TZID=America/New_York:20260813T110000
DTEND;TZID=America/New_York:20260813T133000
DTSTAMP:20260425T112837
CREATED:20251215T220554Z
LAST-MODIFIED:20260425T144739Z
UID:10012754-1786618800-1786627800@hrbcrichmond.org
SUMMARY:CDC Monthly Meeting
DESCRIPTION:
URL:https://hrbcrichmond.org/event/cdc-monthly-meeting-47/
LOCATION:Rod Hale Classroom
END:VEVENT
BEGIN:VEVENT
DTSTART;TZID=America/New_York:20260813T140000
DTEND;TZID=America/New_York:20260813T160000
DTSTAMP:20260425T112837
CREATED:20251216T003617Z
LAST-MODIFIED:20260425T144739Z
UID:10012755-1786629600-1786636800@hrbcrichmond.org
SUMMARY:Bridge
DESCRIPTION:
URL:https://hrbcrichmond.org/event/bridge-167/
LOCATION:Commons
END:VEVENT
BEGIN:VEVENT
DTSTART;TZID=America/New_York:20260813T184500
DTEND;TZID=America/New_York:20260813T203000
DTSTAMP:20260425T112837
CREATED:20251216T215101Z
LAST-MODIFIED:20260425T144739Z
UID:10012757-1786646700-1786653000@hrbcrichmond.org
SUMMARY:Discipleship Group Meeting
DESCRIPTION:
URL:https://hrbcrichmond.org/event/discipleship-group-meeting-42/
LOCATION:Cousins Room
END:VEVENT
BEGIN:VEVENT
DTSTART;TZID=America/New_York:20260813T190000
DTEND;TZID=America/New_York:20260813T210000
DTSTAMP:20260425T112837
CREATED:20251217T052102Z
LAST-MODIFIED:20260425T144750Z
UID:10012758-1786647600-1786654800@hrbcrichmond.org
SUMMARY:AA
DESCRIPTION:
URL:https://hrbcrichmond.org/event/aa-168/
LOCATION:200
END:VEVENT
BEGIN:VEVENT
DTSTART;TZID=America/New_York:20260813T193000
DTEND;TZID=America/New_York:20260813T203000
DTSTAMP:20260425T112837
CREATED:20251216T153555Z
LAST-MODIFIED:20260425T144750Z
UID:10012756-1786649400-1786653000@hrbcrichmond.org
SUMMARY:Families Anonymous
DESCRIPTION:
URL:https://hrbcrichmond.org/event/families-anonymous-174/
LOCATION:209
END:VEVENT
BEGIN:VEVENT
DTSTART;TZID=America/New_York:20260814T100000
DTEND;TZID=America/New_York:20260814T120000
DTSTAMP:20260425T112837
CREATED:20251218T012058Z
LAST-MODIFIED:20260425T144750Z
UID:10012759-1786701600-1786708800@hrbcrichmond.org
SUMMARY:American Sewing Guild (ASG)
DESCRIPTION:
URL:https://hrbcrichmond.org/event/american-sewing-guild-asg-39/
LOCATION:MPR1
END:VEVENT
BEGIN:VEVENT
DTSTART;TZID=America/New_York:20260816T080000
DTEND;TZID=America/New_York:20260816T090000
DTSTAMP:20260425T112837
CREATED:20251218T012058Z
LAST-MODIFIED:20260425T144750Z
UID:10012760-1786867200-1786870800@hrbcrichmond.org
SUMMARY:Men's Food & Fellowship Breakfast
DESCRIPTION:
URL:https://hrbcrichmond.org/event/mens-food-fellowship-breakfast-92/
END:VEVENT
BEGIN:VEVENT
DTSTART;TZID=America/New_York:20260816T091500
DTEND;TZID=America/New_York:20260816T101500
DTSTAMP:20260425T112837
CREATED:20251218T162052Z
LAST-MODIFIED:20260425T144750Z
UID:10012761-1786871700-1786875300@hrbcrichmond.org
SUMMARY:Bible Study - All Ages
DESCRIPTION:
URL:https://hrbcrichmond.org/event/bible-study-all-ages-91/
END:VEVENT
BEGIN:VEVENT
DTSTART;TZID=America/New_York:20260816T103000
DTEND;TZID=America/New_York:20260816T113000
DTSTAMP:20260425T112837
CREATED:20251219T022113Z
LAST-MODIFIED:20260425T144752Z
UID:10012766-1786876200-1786879800@hrbcrichmond.org
SUMMARY:Worship
DESCRIPTION:
URL:https://hrbcrichmond.org/event/worship-165/
LOCATION:Sanctuary
END:VEVENT
BEGIN:VEVENT
DTSTART;TZID=America/New_York:20260816T114500
DTEND;TZID=America/New_York:20260816T131500
DTSTAMP:20260425T112837
CREATED:20251219T022113Z
LAST-MODIFIED:20260425T144752Z
UID:10012767-1786880700-1786886100@hrbcrichmond.org
SUMMARY:Deacon Leadership Meeting
DESCRIPTION:
URL:https://hrbcrichmond.org/event/deacon-leadership-meeting-21/
LOCATION:MPR 2
END:VEVENT
BEGIN:VEVENT
DTSTART;TZID=America/New_York:20260816T153000
DTEND;TZID=America/New_York:20260816T163000
DTSTAMP:20260425T112837
CREATED:20260310T173504Z
LAST-MODIFIED:20260425T144752Z
UID:10013256-1786894200-1786897800@hrbcrichmond.org
SUMMARY:Small Group for Young Adults
DESCRIPTION:
URL:https://hrbcrichmond.org/event/small-group-for-young-adults-48/
LOCATION:Libbie Mill Area
END:VEVENT
BEGIN:VEVENT
DTSTART;TZID=America/New_York:20260817T143000
DTEND;TZID=America/New_York:20260817T160000
DTSTAMP:20260425T112837
CREATED:20251219T022113Z
LAST-MODIFIED:20260425T144752Z
UID:10012768-1786977000-1786982400@hrbcrichmond.org
SUMMARY:Staff Meeting
DESCRIPTION:
URL:https://hrbcrichmond.org/event/staff-meeting-231/
LOCATION:Conference Room
END:VEVENT
BEGIN:VEVENT
DTSTART;TZID=America/New_York:20260817T181500
DTEND;TZID=America/New_York:20260817T193000
DTSTAMP:20260425T112837
CREATED:20260122T202034Z
LAST-MODIFIED:20260425T144753Z
UID:10012892-1786990500-1786995000@hrbcrichmond.org
SUMMARY:Praise Team Rehearsal
DESCRIPTION:
URL:https://hrbcrichmond.org/event/praise-team-rehearsal-29/
LOCATION:Sanctuary
END:VEVENT
BEGIN:VEVENT
DTSTART;TZID=America/New_York:20260818T183000
DTEND;TZID=America/New_York:20260818T203000
DTSTAMP:20260425T112837
CREATED:20251221T142058Z
LAST-MODIFIED:20260425T144804Z
UID:10012769-1787077800-1787085000@hrbcrichmond.org
SUMMARY:Worship Implementation Team
DESCRIPTION:
URL:https://hrbcrichmond.org/event/worship-implementation-team-40/
LOCATION:MPR 1
END:VEVENT
BEGIN:VEVENT
DTSTART;TZID=America/New_York:20260819T180000
DTEND;TZID=America/New_York:20260819T193000
DTSTAMP:20260425T112837
CREATED:20260320T165004Z
LAST-MODIFIED:20260425T144806Z
UID:10013282-1787162400-1787167800@hrbcrichmond.org
SUMMARY:Wednesday Night Activities
DESCRIPTION:
URL:https://hrbcrichmond.org/event/wednesday-night-activities-32/
END:VEVENT
BEGIN:VEVENT
DTSTART;TZID=America/New_York:20260819T193000
DTEND;TZID=America/New_York:20260819T210000
DTSTAMP:20260425T112837
CREATED:20251221T153548Z
LAST-MODIFIED:20260425T144806Z
UID:10012770-1787167800-1787173200@hrbcrichmond.org
SUMMARY:European Wind Ensemble Rehearsal
DESCRIPTION:
URL:https://hrbcrichmond.org/event/european-wind-ensemble-rehearsal-172/
LOCATION:Gym
END:VEVENT
BEGIN:VEVENT
DTSTART;VALUE=DATE:20260820
DTEND;VALUE=DATE:20260821
DTSTAMP:20260425T112837
CREATED:20251222T052046Z
LAST-MODIFIED:20260425T144806Z
UID:10012774-1787184000-1787270399@hrbcrichmond.org
SUMMARY:Bread Day
DESCRIPTION:
URL:https://hrbcrichmond.org/event/bread-day-40/
END:VEVENT
BEGIN:VEVENT
DTSTART;TZID=America/New_York:20260820T090000
DTEND;TZID=America/New_York:20260820T103000
DTSTAMP:20260425T112837
CREATED:20251221T165102Z
LAST-MODIFIED:20260425T144806Z
UID:10012771-1787216400-1787221800@hrbcrichmond.org
SUMMARY:Second Half Men's Ministry Meeting
DESCRIPTION:
URL:https://hrbcrichmond.org/event/second-half-mens-ministry-meeting-34/
LOCATION:MPR 1
END:VEVENT
BEGIN:VEVENT
DTSTART;TZID=America/New_York:20260820T120000
DTEND;TZID=America/New_York:20260820T150000
DTSTAMP:20260425T112837
CREATED:20251221T230610Z
LAST-MODIFIED:20260425T144806Z
UID:10012773-1787227200-1787238000@hrbcrichmond.org
SUMMARY:CDC Group Meeting
DESCRIPTION:
URL:https://hrbcrichmond.org/event/cdc-group-meeting-15/
LOCATION:Conference Room
END:VEVENT
BEGIN:VEVENT
DTSTART;TZID=America/New_York:20260820T140000
DTEND;TZID=America/New_York:20260820T160000
DTSTAMP:20260425T112837
CREATED:20251221T180550Z
LAST-MODIFIED:20260425T144806Z
UID:10012772-1787234400-1787241600@hrbcrichmond.org
SUMMARY:Bridge
DESCRIPTION:
URL:https://hrbcrichmond.org/event/bridge-168/
LOCATION:Commons
END:VEVENT
BEGIN:VEVENT
DTSTART;TZID=America/New_York:20260820T183000
DTEND;TZID=America/New_York:20260820T200000
DTSTAMP:20260425T112837
CREATED:20251224T233556Z
LAST-MODIFIED:20260425T144806Z
UID:10012788-1787250600-1787256000@hrbcrichmond.org
SUMMARY:S.H.E.E.P.
DESCRIPTION:
URL:https://hrbcrichmond.org/event/s-h-e-e-p-72/
LOCATION:Cousins
END:VEVENT
BEGIN:VEVENT
DTSTART;TZID=America/New_York:20260820T190000
DTEND;TZID=America/New_York:20260820T210000
DTSTAMP:20260425T112837
CREATED:20251224T060615Z
LAST-MODIFIED:20260425T144806Z
UID:10012787-1787252400-1787259600@hrbcrichmond.org
SUMMARY:AA
DESCRIPTION:
URL:https://hrbcrichmond.org/event/aa-170/
LOCATION:200
END:VEVENT
BEGIN:VEVENT
DTSTART;TZID=America/New_York:20260820T193000
DTEND;TZID=America/New_York:20260820T203000
DTSTAMP:20260425T112837
CREATED:20251223T150618Z
LAST-MODIFIED:20260425T144806Z
UID:10012786-1787254200-1787257800@hrbcrichmond.org
SUMMARY:Families Anonymous
DESCRIPTION:
URL:https://hrbcrichmond.org/event/families-anonymous-175/
LOCATION:209
END:VEVENT
BEGIN:VEVENT
DTSTART;TZID=America/New_York:20260823T080000
DTEND;TZID=America/New_York:20260823T090000
DTSTAMP:20260425T112837
CREATED:20251227T002111Z
LAST-MODIFIED:20260425T144817Z
UID:10012789-1787472000-1787475600@hrbcrichmond.org
SUMMARY:Men's Food & Fellowship Breakfast
DESCRIPTION:
URL:https://hrbcrichmond.org/event/mens-food-fellowship-breakfast-93/
END:VEVENT
BEGIN:VEVENT
DTSTART;TZID=America/New_York:20260823T091500
DTEND;TZID=America/New_York:20260823T101500
DTSTAMP:20260425T112837
CREATED:20251228T173625Z
LAST-MODIFIED:20260425T144817Z
UID:10012790-1787476500-1787480100@hrbcrichmond.org
SUMMARY:Bible Study - All Ages
DESCRIPTION:
URL:https://hrbcrichmond.org/event/bible-study-all-ages-92/
END:VEVENT
BEGIN:VEVENT
DTSTART;TZID=America/New_York:20260823T103000
DTEND;TZID=America/New_York:20260823T113000
DTSTAMP:20260425T112837
CREATED:20251228T223629Z
LAST-MODIFIED:20260425T144819Z
UID:10012791-1787481000-1787484600@hrbcrichmond.org
SUMMARY:Worship
DESCRIPTION:
URL:https://hrbcrichmond.org/event/worship-166/
LOCATION:Sanctuary
END:VEVENT
BEGIN:VEVENT
DTSTART;TZID=America/New_York:20260823T120000
DTEND;TZID=America/New_York:20260823T140000
DTSTAMP:20260425T112837
CREATED:20251231T143602Z
LAST-MODIFIED:20260425T144819Z
UID:10012794-1787486400-1787493600@hrbcrichmond.org
SUMMARY:Missions Group Meeting
DESCRIPTION:
URL:https://hrbcrichmond.org/event/missions-group-meeting-36/
LOCATION:MPR1
END:VEVENT
BEGIN:VEVENT
DTSTART;TZID=America/New_York:20260823T153000
DTEND;TZID=America/New_York:20260823T163000
DTSTAMP:20260425T112837
CREATED:20260310T173531Z
LAST-MODIFIED:20260425T144819Z
UID:10013257-1787499000-1787502600@hrbcrichmond.org
SUMMARY:Small Group for Young Adults
DESCRIPTION:
URL:https://hrbcrichmond.org/event/small-group-for-young-adults-49/
LOCATION:Libbie Mill Area
END:VEVENT
BEGIN:VEVENT
DTSTART;TZID=America/New_York:20260824T143000
DTEND;TZID=America/New_York:20260824T160000
DTSTAMP:20260425T112837
CREATED:20251231T143602Z
LAST-MODIFIED:20260425T144819Z
UID:10012795-1787581800-1787587200@hrbcrichmond.org
SUMMARY:Staff Meeting
DESCRIPTION:
URL:https://hrbcrichmond.org/event/staff-meeting-232/
LOCATION:Conference Room
END:VEVENT
BEGIN:VEVENT
DTSTART;TZID=America/New_York:20260824T181500
DTEND;TZID=America/New_York:20260824T193000
DTSTAMP:20260425T112837
CREATED:20260122T202047Z
LAST-MODIFIED:20260425T144820Z
UID:10012893-1787595300-1787599800@hrbcrichmond.org
SUMMARY:Praise Team Rehearsal
DESCRIPTION:
URL:https://hrbcrichmond.org/event/praise-team-rehearsal-30/
LOCATION:Sanctuary
END:VEVENT
END:VCALENDAR