BEGIN:VCALENDAR
VERSION:2.0
PRODID:-//Huguenot Road Baptist Church - ECPv6.15.20//NONSGML v1.0//EN
CALSCALE:GREGORIAN
METHOD:PUBLISH
X-WR-CALNAME:Huguenot Road Baptist Church
X-ORIGINAL-URL:https://hrbcrichmond.org
X-WR-CALDESC:Events for Huguenot Road Baptist Church
REFRESH-INTERVAL;VALUE=DURATION:PT1H
X-Robots-Tag:noindex
X-PUBLISHED-TTL:PT1H
BEGIN:VTIMEZONE
TZID:America/New_York
BEGIN:DAYLIGHT
TZOFFSETFROM:-0500
TZOFFSETTO:-0400
TZNAME:EDT
DTSTART:20250309T070000
END:DAYLIGHT
BEGIN:STANDARD
TZOFFSETFROM:-0400
TZOFFSETTO:-0500
TZNAME:EST
DTSTART:20251102T060000
END:STANDARD
BEGIN:DAYLIGHT
TZOFFSETFROM:-0500
TZOFFSETTO:-0400
TZNAME:EDT
DTSTART:20260308T070000
END:DAYLIGHT
BEGIN:STANDARD
TZOFFSETFROM:-0400
TZOFFSETTO:-0500
TZNAME:EST
DTSTART:20261101T060000
END:STANDARD
BEGIN:DAYLIGHT
TZOFFSETFROM:-0500
TZOFFSETTO:-0400
TZNAME:EDT
DTSTART:20270314T070000
END:DAYLIGHT
BEGIN:STANDARD
TZOFFSETFROM:-0400
TZOFFSETTO:-0500
TZNAME:EST
DTSTART:20271107T060000
END:STANDARD
END:VTIMEZONE
BEGIN:VEVENT
DTSTART;TZID=America/New_York:20260524T080000
DTEND;TZID=America/New_York:20260524T090000
DTSTAMP:20260425T061909
CREATED:20251023T203545Z
LAST-MODIFIED:20260425T094225Z
UID:10012525-1779609600-1779613200@hrbcrichmond.org
SUMMARY:Men's Food & Fellowship Breakfast
DESCRIPTION:
URL:https://hrbcrichmond.org/event/mens-food-fellowship-breakfast-80/
END:VEVENT
BEGIN:VEVENT
DTSTART;TZID=America/New_York:20260521T193000
DTEND;TZID=America/New_York:20260521T203000
DTSTAMP:20260425T061909
CREATED:20251022T043605Z
LAST-MODIFIED:20260425T094225Z
UID:10012523-1779391800-1779395400@hrbcrichmond.org
SUMMARY:Families Anonymous
DESCRIPTION:
URL:https://hrbcrichmond.org/event/families-anonymous-162/
LOCATION:209
END:VEVENT
BEGIN:VEVENT
DTSTART;TZID=America/New_York:20260521T190000
DTEND;TZID=America/New_York:20260521T210000
DTSTAMP:20260425T061909
CREATED:20251022T232042Z
LAST-MODIFIED:20260425T094225Z
UID:10012524-1779390000-1779397200@hrbcrichmond.org
SUMMARY:AA
DESCRIPTION:
URL:https://hrbcrichmond.org/event/aa-155/
LOCATION:200
END:VEVENT
BEGIN:VEVENT
DTSTART;TZID=America/New_York:20260521T183000
DTEND;TZID=America/New_York:20260521T200000
DTSTAMP:20260425T061909
CREATED:20251022T043605Z
LAST-MODIFIED:20260425T094225Z
UID:10012522-1779388200-1779393600@hrbcrichmond.org
SUMMARY:S.H.E.E.P.
DESCRIPTION:
URL:https://hrbcrichmond.org/event/s-h-e-e-p-66/
LOCATION:Cousins
END:VEVENT
BEGIN:VEVENT
DTSTART;TZID=America/New_York:20260521T170000
DTEND;TZID=America/New_York:20260521T193000
DTSTAMP:20260425T061909
CREATED:20260318T191457Z
LAST-MODIFIED:20260425T094225Z
UID:10013266-1779382800-1779391800@hrbcrichmond.org
SUMMARY:PrimeTimers' Picnic
DESCRIPTION:
URL:https://hrbcrichmond.org/event/primetimers-picnic/
LOCATION:flc
END:VEVENT
BEGIN:VEVENT
DTSTART;TZID=America/New_York:20260521T140000
DTEND;TZID=America/New_York:20260521T160000
DTSTAMP:20260425T061909
CREATED:20251022T043605Z
LAST-MODIFIED:20260425T094225Z
UID:10012521-1779372000-1779379200@hrbcrichmond.org
SUMMARY:Bridge
DESCRIPTION:
URL:https://hrbcrichmond.org/event/bridge-155/
LOCATION:Commons
END:VEVENT
BEGIN:VEVENT
DTSTART;TZID=America/New_York:20260521T120000
DTEND;TZID=America/New_York:20260521T150000
DTSTAMP:20260425T061909
CREATED:20251022T005036Z
LAST-MODIFIED:20260425T094225Z
UID:10012520-1779364800-1779375600@hrbcrichmond.org
SUMMARY:CDC Group Meeting
DESCRIPTION:
URL:https://hrbcrichmond.org/event/cdc-group-meeting-12/
LOCATION:Conference Room
END:VEVENT
BEGIN:VEVENT
DTSTART;TZID=America/New_York:20260521T090000
DTEND;TZID=America/New_York:20260521T103000
DTSTAMP:20260425T061909
CREATED:20251021T045101Z
LAST-MODIFIED:20260425T094225Z
UID:10012518-1779354000-1779359400@hrbcrichmond.org
SUMMARY:Second Half Men's Ministry Meeting
DESCRIPTION:
URL:https://hrbcrichmond.org/event/second-half-mens-ministry-meeting-31/
LOCATION:MPR 1
END:VEVENT
BEGIN:VEVENT
DTSTART;VALUE=DATE:20260521
DTEND;VALUE=DATE:20260522
DTSTAMP:20260425T061909
CREATED:20251020T212103Z
LAST-MODIFIED:20260425T094212Z
UID:10012517-1779321600-1779407999@hrbcrichmond.org
SUMMARY:Bread Day
DESCRIPTION:
URL:https://hrbcrichmond.org/event/bread-day-37/
END:VEVENT
BEGIN:VEVENT
DTSTART;TZID=America/New_York:20260520T193000
DTEND;TZID=America/New_York:20260520T210000
DTSTAMP:20260425T061909
CREATED:20251021T160617Z
LAST-MODIFIED:20260425T094213Z
UID:10012519-1779305400-1779310800@hrbcrichmond.org
SUMMARY:European Wind Ensemble Rehearsal
DESCRIPTION:
URL:https://hrbcrichmond.org/event/european-wind-ensemble-rehearsal-159/
LOCATION:Gym
END:VEVENT
BEGIN:VEVENT
DTSTART;TZID=America/New_York:20260520T180000
DTEND;TZID=America/New_York:20260520T193000
DTSTAMP:20260425T061909
CREATED:20251106T205034Z
LAST-MODIFIED:20260425T094225Z
UID:10012590-1779300000-1779305400@hrbcrichmond.org
SUMMARY:Wednesday Night Activities
DESCRIPTION:
URL:https://hrbcrichmond.org/event/wednesday-night-activities-19/
END:VEVENT
BEGIN:VEVENT
DTSTART;TZID=America/New_York:20260520T090000
DTEND;TZID=America/New_York:20260520T170000
DTSTAMP:20260425T061909
CREATED:20251020T150551Z
LAST-MODIFIED:20260425T094212Z
UID:10012516-1779267600-1779296400@hrbcrichmond.org
SUMMARY:Red Cross Blood Drive
DESCRIPTION:
URL:https://hrbcrichmond.org/event/red-cross-blood-drive-4/
LOCATION:MPR 2
END:VEVENT
BEGIN:VEVENT
DTSTART;TZID=America/New_York:20260519T183000
DTEND;TZID=America/New_York:20260519T203000
DTSTAMP:20260425T061909
CREATED:20251019T213550Z
LAST-MODIFIED:20260425T094212Z
UID:10012515-1779215400-1779222600@hrbcrichmond.org
SUMMARY:Worship Implementation Team
DESCRIPTION:
URL:https://hrbcrichmond.org/event/worship-implementation-team-37/
LOCATION:MPR 1
END:VEVENT
BEGIN:VEVENT
DTSTART;TZID=America/New_York:20260518T181500
DTEND;TZID=America/New_York:20260518T193000
DTSTAMP:20260425T061909
CREATED:20260122T201630Z
LAST-MODIFIED:20260425T094212Z
UID:10012879-1779128100-1779132600@hrbcrichmond.org
SUMMARY:Praise Team Rehearsal
DESCRIPTION:
URL:https://hrbcrichmond.org/event/praise-team-rehearsal-16/
LOCATION:Sanctuary
END:VEVENT
BEGIN:VEVENT
DTSTART;TZID=America/New_York:20260518T180000
DTEND;TZID=America/New_York:20260518T190000
DTSTAMP:20260425T061909
CREATED:20251005T172915Z
LAST-MODIFIED:20260425T094211Z
UID:10012453-1779127200-1779130800@hrbcrichmond.org
SUMMARY:Girl Scouts
DESCRIPTION:
URL:https://hrbcrichmond.org/event/girl-scouts-16/
LOCATION:room 207
END:VEVENT
BEGIN:VEVENT
DTSTART;TZID=America/New_York:20260518T143000
DTEND;TZID=America/New_York:20260518T160000
DTSTAMP:20260425T061909
CREATED:20251019T163608Z
LAST-MODIFIED:20260425T094211Z
UID:10012513-1779114600-1779120000@hrbcrichmond.org
SUMMARY:Staff Meeting
DESCRIPTION:
URL:https://hrbcrichmond.org/event/staff-meeting-211/
LOCATION:Conference Room
END:VEVENT
BEGIN:VEVENT
DTSTART;TZID=America/New_York:20260517T170000
DTEND;TZID=America/New_York:20260517T183000
DTSTAMP:20260425T061909
CREATED:20260211T183131Z
LAST-MODIFIED:20260425T094211Z
UID:10012953-1779037200-1779042600@hrbcrichmond.org
SUMMARY:CAST Performance
DESCRIPTION:
URL:https://hrbcrichmond.org/event/cast-performance-5/
LOCATION:Sanctuary
END:VEVENT
BEGIN:VEVENT
DTSTART;TZID=America/New_York:20260517T153000
DTEND;TZID=America/New_York:20260517T163000
DTSTAMP:20260425T061909
CREATED:20260309T213125Z
LAST-MODIFIED:20260425T094209Z
UID:10013182-1779031800-1779035400@hrbcrichmond.org
SUMMARY:Small Group for Young Adults
DESCRIPTION:
URL:https://hrbcrichmond.org/event/small-group-for-young-adults-35/
LOCATION:Libbie Mill Area
END:VEVENT
BEGIN:VEVENT
DTSTART;TZID=America/New_York:20260517T114500
DTEND;TZID=America/New_York:20260517T131500
DTSTAMP:20260425T061909
CREATED:20250901T004936Z
LAST-MODIFIED:20260425T094209Z
UID:10012308-1779018300-1779023700@hrbcrichmond.org
SUMMARY:Deacon Leadership Meeting
DESCRIPTION:
URL:https://hrbcrichmond.org/event/deacon-leadership-meeting-19/
LOCATION:MPR 2
END:VEVENT
BEGIN:VEVENT
DTSTART;TZID=America/New_York:20260517T103000
DTEND;TZID=America/New_York:20260517T113000
DTSTAMP:20260425T061909
CREATED:20251019T140547Z
LAST-MODIFIED:20260425T094158Z
UID:10012511-1779013800-1779017400@hrbcrichmond.org
SUMMARY:Worship
DESCRIPTION:
URL:https://hrbcrichmond.org/event/worship-152/
LOCATION:Sanctuary
END:VEVENT
BEGIN:VEVENT
DTSTART;TZID=America/New_York:20260517T091500
DTEND;TZID=America/New_York:20260517T101500
DTSTAMP:20260425T061909
CREATED:20251017T182043Z
LAST-MODIFIED:20260425T094157Z
UID:10012510-1779009300-1779012900@hrbcrichmond.org
SUMMARY:Bible Study - All Ages
DESCRIPTION:
URL:https://hrbcrichmond.org/event/bible-study-all-ages-78/
END:VEVENT
BEGIN:VEVENT
DTSTART;TZID=America/New_York:20260517T080000
DTEND;TZID=America/New_York:20260517T090000
DTSTAMP:20260425T061909
CREATED:20251017T020617Z
LAST-MODIFIED:20260425T094157Z
UID:10012509-1779004800-1779008400@hrbcrichmond.org
SUMMARY:Men's Food & Fellowship Breakfast
DESCRIPTION:
URL:https://hrbcrichmond.org/event/mens-food-fellowship-breakfast-79/
END:VEVENT
BEGIN:VEVENT
DTSTART;TZID=America/New_York:20260514T193000
DTEND;TZID=America/New_York:20260514T203000
DTSTAMP:20260425T061909
CREATED:20251017T005033Z
LAST-MODIFIED:20260425T094157Z
UID:10012507-1778787000-1778790600@hrbcrichmond.org
SUMMARY:Families Anonymous
DESCRIPTION:
URL:https://hrbcrichmond.org/event/families-anonymous-161/
LOCATION:209
END:VEVENT
BEGIN:VEVENT
DTSTART;TZID=America/New_York:20260514T190000
DTEND;TZID=America/New_York:20260514T210000
DTSTAMP:20260425T061909
CREATED:20251017T005033Z
LAST-MODIFIED:20260425T094157Z
UID:10012508-1778785200-1778792400@hrbcrichmond.org
SUMMARY:AA
DESCRIPTION:
URL:https://hrbcrichmond.org/event/aa-154/
LOCATION:200
END:VEVENT
BEGIN:VEVENT
DTSTART;TZID=America/New_York:20260514T184500
DTEND;TZID=America/New_York:20260514T203000
DTSTAMP:20260425T061909
CREATED:20251017T005033Z
LAST-MODIFIED:20260425T094157Z
UID:10012505-1778784300-1778790600@hrbcrichmond.org
SUMMARY:Discipleship Group Meeting
DESCRIPTION:
URL:https://hrbcrichmond.org/event/discipleship-group-meeting-39/
LOCATION:Cousins Room
END:VEVENT
BEGIN:VEVENT
DTSTART;TZID=America/New_York:20260514T140000
DTEND;TZID=America/New_York:20260514T160000
DTSTAMP:20260425T061909
CREATED:20251006T005852Z
LAST-MODIFIED:20260425T094156Z
UID:10012457-1778767200-1778774400@hrbcrichmond.org
SUMMARY:Bridge
DESCRIPTION:
URL:https://hrbcrichmond.org/event/bridge-154/
LOCATION:Commons
END:VEVENT
BEGIN:VEVENT
DTSTART;TZID=America/New_York:20260514T110000
DTEND;TZID=America/New_York:20260514T133000
DTSTAMP:20260425T061909
CREATED:20251006T005851Z
LAST-MODIFIED:20260425T094156Z
UID:10012456-1778756400-1778765400@hrbcrichmond.org
SUMMARY:CDC Monthly Meeting
DESCRIPTION:
URL:https://hrbcrichmond.org/event/cdc-monthly-meeting-44/
LOCATION:Rod Hale Classroom
END:VEVENT
BEGIN:VEVENT
DTSTART;TZID=America/New_York:20260513T193000
DTEND;TZID=America/New_York:20260513T210000
DTSTAMP:20260425T061909
CREATED:20251005T211417Z
LAST-MODIFIED:20260425T094156Z
UID:10012455-1778700600-1778706000@hrbcrichmond.org
SUMMARY:European Wind Ensemble Rehearsal
DESCRIPTION:
URL:https://hrbcrichmond.org/event/european-wind-ensemble-rehearsal-158/
LOCATION:Gym
END:VEVENT
BEGIN:VEVENT
DTSTART;TZID=America/New_York:20260513T180000
DTEND;TZID=America/New_York:20260513T193000
DTSTAMP:20260425T061909
CREATED:20251106T205007Z
LAST-MODIFIED:20260425T094155Z
UID:10012589-1778695200-1778700600@hrbcrichmond.org
SUMMARY:Wednesday Night Activities
DESCRIPTION:
URL:https://hrbcrichmond.org/event/wednesday-night-activities-18/
END:VEVENT
BEGIN:VEVENT
DTSTART;TZID=America/New_York:20260513T100000
DTEND;TZID=America/New_York:20260513T110000
DTSTAMP:20260425T061909
CREATED:20260401T151347Z
LAST-MODIFIED:20260425T094143Z
UID:10013306-1778666400-1778670000@hrbcrichmond.org
SUMMARY:Adult Bible Study - Walking with God
DESCRIPTION:
URL:https://hrbcrichmond.org/event/adult-bible-study-walking-with-god-6/
LOCATION:MPR 1
END:VEVENT
END:VCALENDAR