BEGIN:VCALENDAR
VERSION:2.0
PRODID:-//Huguenot Road Baptist Church - ECPv6.15.20//NONSGML v1.0//EN
CALSCALE:GREGORIAN
METHOD:PUBLISH
X-WR-CALNAME:Huguenot Road Baptist Church
X-ORIGINAL-URL:https://hrbcrichmond.org
X-WR-CALDESC:Events for Huguenot Road Baptist Church
REFRESH-INTERVAL;VALUE=DURATION:PT1H
X-Robots-Tag:noindex
X-PUBLISHED-TTL:PT1H
BEGIN:VTIMEZONE
TZID:America/New_York
BEGIN:DAYLIGHT
TZOFFSETFROM:-0500
TZOFFSETTO:-0400
TZNAME:EDT
DTSTART:20250309T070000
END:DAYLIGHT
BEGIN:STANDARD
TZOFFSETFROM:-0400
TZOFFSETTO:-0500
TZNAME:EST
DTSTART:20251102T060000
END:STANDARD
BEGIN:DAYLIGHT
TZOFFSETFROM:-0500
TZOFFSETTO:-0400
TZNAME:EDT
DTSTART:20260308T070000
END:DAYLIGHT
BEGIN:STANDARD
TZOFFSETFROM:-0400
TZOFFSETTO:-0500
TZNAME:EST
DTSTART:20261101T060000
END:STANDARD
BEGIN:DAYLIGHT
TZOFFSETFROM:-0500
TZOFFSETTO:-0400
TZNAME:EDT
DTSTART:20270314T070000
END:DAYLIGHT
BEGIN:STANDARD
TZOFFSETFROM:-0400
TZOFFSETTO:-0500
TZNAME:EST
DTSTART:20271107T060000
END:STANDARD
END:VTIMEZONE
BEGIN:VEVENT
DTSTART;TZID=America/New_York:20260510T153000
DTEND;TZID=America/New_York:20260510T163000
DTSTAMP:20260425T062037
CREATED:20260309T213056Z
LAST-MODIFIED:20260425T094141Z
UID:10013176-1778427000-1778430600@hrbcrichmond.org
SUMMARY:Small Group for Young Adults
DESCRIPTION:
URL:https://hrbcrichmond.org/event/small-group-for-young-adults-34/
LOCATION:Libbie Mill Area
END:VEVENT
BEGIN:VEVENT
DTSTART;TZID=America/New_York:20260510T114500
DTEND;TZID=America/New_York:20260510T130000
DTSTAMP:20260425T062037
CREATED:20251005T145901Z
LAST-MODIFIED:20260425T094141Z
UID:10012451-1778413500-1778418000@hrbcrichmond.org
SUMMARY:Nomination Team Monthly Meeting
DESCRIPTION:
URL:https://hrbcrichmond.org/event/nomination-team-monthly-meeting-17/
LOCATION:Room 125
END:VEVENT
BEGIN:VEVENT
DTSTART;TZID=America/New_York:20260510T114500
DTEND;TZID=America/New_York:20260510T124500
DTSTAMP:20260425T062037
CREATED:20260217T181542Z
LAST-MODIFIED:20260425T094141Z
UID:10012959-1778413500-1778417100@hrbcrichmond.org
SUMMARY:Outreach Meeting
DESCRIPTION:
URL:https://hrbcrichmond.org/event/outreach-meeting-25/
LOCATION:MPR2
END:VEVENT
BEGIN:VEVENT
DTSTART;TZID=America/New_York:20260510T103000
DTEND;TZID=America/New_York:20260510T113000
DTSTAMP:20260425T062037
CREATED:20251005T134416Z
LAST-MODIFIED:20260425T094141Z
UID:10012450-1778409000-1778412600@hrbcrichmond.org
SUMMARY:Worship
DESCRIPTION:
URL:https://hrbcrichmond.org/event/worship-151/
LOCATION:Sanctuary
END:VEVENT
BEGIN:VEVENT
DTSTART;TZID=America/New_York:20260510T091500
DTEND;TZID=America/New_York:20260510T101500
DTSTAMP:20260425T062037
CREATED:20251004T205459Z
LAST-MODIFIED:20260425T094128Z
UID:10012449-1778404500-1778408100@hrbcrichmond.org
SUMMARY:Bible Study - All Ages
DESCRIPTION:
URL:https://hrbcrichmond.org/event/bible-study-all-ages-77/
END:VEVENT
BEGIN:VEVENT
DTSTART;TZID=America/New_York:20260510T080000
DTEND;TZID=America/New_York:20260510T090000
DTSTAMP:20260425T062037
CREATED:20251003T012836Z
LAST-MODIFIED:20260425T094128Z
UID:10012448-1778400000-1778403600@hrbcrichmond.org
SUMMARY:Men's Food & Fellowship Breakfast
DESCRIPTION:
URL:https://hrbcrichmond.org/event/mens-food-fellowship-breakfast-78/
END:VEVENT
BEGIN:VEVENT
DTSTART;TZID=America/New_York:20260508T100000
DTEND;TZID=America/New_York:20260508T120000
DTSTAMP:20260425T062037
CREATED:20251003T012836Z
LAST-MODIFIED:20260425T094128Z
UID:10012447-1778234400-1778241600@hrbcrichmond.org
SUMMARY:American Sewing Guild (ASG)
DESCRIPTION:
URL:https://hrbcrichmond.org/event/american-sewing-guild-asg-36/
LOCATION:MPR1
END:VEVENT
BEGIN:VEVENT
DTSTART;TZID=America/New_York:20260507T193000
DTEND;TZID=America/New_York:20260507T203000
DTSTAMP:20260425T062037
CREATED:20251002T225401Z
LAST-MODIFIED:20260425T094128Z
UID:10012444-1778182200-1778185800@hrbcrichmond.org
SUMMARY:Families Anonymous
DESCRIPTION:
URL:https://hrbcrichmond.org/event/families-anonymous-160/
LOCATION:209
END:VEVENT
BEGIN:VEVENT
DTSTART;TZID=America/New_York:20260507T190000
DTEND;TZID=America/New_York:20260507T210000
DTSTAMP:20260425T062037
CREATED:20251003T001454Z
LAST-MODIFIED:20260425T094128Z
UID:10012446-1778180400-1778187600@hrbcrichmond.org
SUMMARY:AA
DESCRIPTION:
URL:https://hrbcrichmond.org/event/aa-153/
LOCATION:200
END:VEVENT
BEGIN:VEVENT
DTSTART;TZID=America/New_York:20260507T183000
DTEND;TZID=America/New_York:20260507T200000
DTSTAMP:20260425T062037
CREATED:20251003T001454Z
LAST-MODIFIED:20260425T094128Z
UID:10012445-1778178600-1778184000@hrbcrichmond.org
SUMMARY:S.H.E.E.P
DESCRIPTION:
URL:https://hrbcrichmond.org/event/s-h-e-e-p-65/
LOCATION:Cousins Room
END:VEVENT
BEGIN:VEVENT
DTSTART;TZID=America/New_York:20260507T140000
DTEND;TZID=America/New_York:20260507T160000
DTSTAMP:20260425T062037
CREATED:20251002T201404Z
LAST-MODIFIED:20260425T094128Z
UID:10012443-1778162400-1778169600@hrbcrichmond.org
SUMMARY:Bridge
DESCRIPTION:
URL:https://hrbcrichmond.org/event/bridge-153/
LOCATION:Commons
END:VEVENT
BEGIN:VEVENT
DTSTART;TZID=America/New_York:20260507T090000
DTEND;TZID=America/New_York:20260507T103000
DTSTAMP:20260425T062037
CREATED:20251002T151356Z
LAST-MODIFIED:20260425T094128Z
UID:10012442-1778144400-1778149800@hrbcrichmond.org
SUMMARY:Second Half Men's Ministry
DESCRIPTION:
URL:https://hrbcrichmond.org/event/second-half-mens-ministry-27/
LOCATION:MPR 1
END:VEVENT
BEGIN:VEVENT
DTSTART;TZID=America/New_York:20260506T193000
DTEND;TZID=America/New_York:20260506T210000
DTSTAMP:20260425T062037
CREATED:20251002T135401Z
LAST-MODIFIED:20260425T094127Z
UID:10012441-1778095800-1778101200@hrbcrichmond.org
SUMMARY:European Wind Ensemble Rehearsal
DESCRIPTION:
URL:https://hrbcrichmond.org/event/european-wind-ensemble-rehearsal-157/
LOCATION:Gym
END:VEVENT
BEGIN:VEVENT
DTSTART;TZID=America/New_York:20260506T180000
DTEND;TZID=America/New_York:20260506T193000
DTSTAMP:20260425T062037
CREATED:20251106T204942Z
LAST-MODIFIED:20260425T094126Z
UID:10012588-1778090400-1778095800@hrbcrichmond.org
SUMMARY:Wednesday Night Activities
DESCRIPTION:
URL:https://hrbcrichmond.org/event/wednesday-night-activities-17/
END:VEVENT
BEGIN:VEVENT
DTSTART;TZID=America/New_York:20260506T100000
DTEND;TZID=America/New_York:20260506T110000
DTSTAMP:20260425T062037
CREATED:20260401T151319Z
LAST-MODIFIED:20260425T094115Z
UID:10013305-1778061600-1778065200@hrbcrichmond.org
SUMMARY:Adult Bible Study - Walking with God
DESCRIPTION:
URL:https://hrbcrichmond.org/event/adult-bible-study-walking-with-god-5/
LOCATION:MPR 1
END:VEVENT
BEGIN:VEVENT
DTSTART;TZID=America/New_York:20260505T183000
DTEND;TZID=America/New_York:20260505T210000
DTSTAMP:20260425T062037
CREATED:20251002T135359Z
LAST-MODIFIED:20260425T094115Z
UID:10012440-1778005800-1778014800@hrbcrichmond.org
SUMMARY:Executive Council Meeting
DESCRIPTION:
URL:https://hrbcrichmond.org/event/executive-council-meeting-30/
LOCATION:MPR 1
END:VEVENT
BEGIN:VEVENT
DTSTART;TZID=America/New_York:20260505T100000
DTEND;TZID=America/New_York:20260505T110000
DTSTAMP:20260425T062037
CREATED:20251001T233829Z
LAST-MODIFIED:20260425T094115Z
UID:10012409-1777975200-1777978800@hrbcrichmond.org
SUMMARY:Dotty Shepard WMU meeting
DESCRIPTION:
URL:https://hrbcrichmond.org/event/dotty-shepard-wmu-meeting-9/
LOCATION:MPR 1
END:VEVENT
BEGIN:VEVENT
DTSTART;TZID=America/New_York:20260504T183000
DTEND;TZID=America/New_York:20260504T200000
DTSTAMP:20260425T062037
CREATED:20251001T233829Z
LAST-MODIFIED:20260425T094114Z
UID:10012408-1777919400-1777924800@hrbcrichmond.org
SUMMARY:Fellowship Group Meeting
DESCRIPTION:
URL:https://hrbcrichmond.org/event/fellowship-group-meeting-26/
LOCATION:MPR 1
END:VEVENT
BEGIN:VEVENT
DTSTART;TZID=America/New_York:20260504T181500
DTEND;TZID=America/New_York:20260504T193000
DTSTAMP:20260425T062037
CREATED:20260122T201552Z
LAST-MODIFIED:20260425T094115Z
UID:10012877-1777918500-1777923000@hrbcrichmond.org
SUMMARY:Praise Team Rehearsal
DESCRIPTION:
URL:https://hrbcrichmond.org/event/praise-team-rehearsal-14/
LOCATION:Sanctuary
END:VEVENT
BEGIN:VEVENT
DTSTART;TZID=America/New_York:20260504T143000
DTEND;TZID=America/New_York:20260504T160000
DTSTAMP:20260425T062037
CREATED:20251002T135358Z
LAST-MODIFIED:20260425T094114Z
UID:10012439-1777905000-1777910400@hrbcrichmond.org
SUMMARY:Staff Meeting
DESCRIPTION:
URL:https://hrbcrichmond.org/event/staff-meeting-177/
LOCATION:Conference Room
END:VEVENT
BEGIN:VEVENT
DTSTART;TZID=America/New_York:20260503T160000
DTEND;TZID=America/New_York:20260503T180000
DTSTAMP:20260425T062037
CREATED:20260211T183039Z
LAST-MODIFIED:20260425T094114Z
UID:10012952-1777824000-1777831200@hrbcrichmond.org
SUMMARY:CAST Rehearsal
DESCRIPTION:
URL:https://hrbcrichmond.org/event/cast-rehearsal-26/
LOCATION:Sanctuary
END:VEVENT
BEGIN:VEVENT
DTSTART;TZID=America/New_York:20260503T153000
DTEND;TZID=America/New_York:20260503T163000
DTSTAMP:20260425T062037
CREATED:20260309T213016Z
LAST-MODIFIED:20260425T094114Z
UID:10013170-1777822200-1777825800@hrbcrichmond.org
SUMMARY:Small Group for Young Adults
DESCRIPTION:
URL:https://hrbcrichmond.org/event/small-group-for-young-adults-33/
LOCATION:Libbie Mill Area
END:VEVENT
BEGIN:VEVENT
DTSTART;TZID=America/New_York:20260503T130000
DTEND;TZID=America/New_York:20260503T153000
DTSTAMP:20260425T062037
CREATED:20260303T191450Z
LAST-MODIFIED:20260425T094114Z
UID:10013098-1777813200-1777822200@hrbcrichmond.org
SUMMARY:CDC Event
DESCRIPTION:
URL:https://hrbcrichmond.org/event/cdc-event-2/
LOCATION:flc
END:VEVENT
BEGIN:VEVENT
DTSTART;TZID=America/New_York:20260503T114500
DTEND;TZID=America/New_York:20260503T121500
DTSTAMP:20260425T062037
CREATED:20260217T181516Z
LAST-MODIFIED:20260425T094112Z
UID:10012958-1777808700-1777810500@hrbcrichmond.org
SUMMARY:Family Ministries meeting
DESCRIPTION:
URL:https://hrbcrichmond.org/event/family-ministries-meeting-3/
LOCATION:MPR1
END:VEVENT
BEGIN:VEVENT
DTSTART;TZID=America/New_York:20260503T103000
DTEND;TZID=America/New_York:20260503T113000
DTSTAMP:20260425T062037
CREATED:20250928T213931Z
LAST-MODIFIED:20260425T094101Z
UID:10012405-1777804200-1777807800@hrbcrichmond.org
SUMMARY:Worship
DESCRIPTION:
URL:https://hrbcrichmond.org/event/worship-150/
LOCATION:Sanctuary
END:VEVENT
BEGIN:VEVENT
DTSTART;TZID=America/New_York:20260503T091500
DTEND;TZID=America/New_York:20260503T101500
DTSTAMP:20260425T062037
CREATED:20250908T004433Z
LAST-MODIFIED:20260425T094100Z
UID:10012332-1777799700-1777803300@hrbcrichmond.org
SUMMARY:Bible Study - All Ages
DESCRIPTION:
URL:https://hrbcrichmond.org/event/bible-study-all-ages-76/
END:VEVENT
BEGIN:VEVENT
DTSTART;TZID=America/New_York:20260503T080000
DTEND;TZID=America/New_York:20260503T090000
DTSTAMP:20260425T062037
CREATED:20250910T041355Z
LAST-MODIFIED:20260425T094100Z
UID:10012336-1777795200-1777798800@hrbcrichmond.org
SUMMARY:Men's Food & Fellowship Breakfast
DESCRIPTION:
URL:https://hrbcrichmond.org/event/mens-food-fellowship-breakfast-77/
END:VEVENT
BEGIN:VEVENT
DTSTART;VALUE=DATE:20260503
DTEND;VALUE=DATE:20260504
DTSTAMP:20260425T062037
CREATED:20250928T190904Z
LAST-MODIFIED:20260425T094100Z
UID:10012404-1777766400-1777852799@hrbcrichmond.org
SUMMARY:The Lord's Supper
DESCRIPTION:
URL:https://hrbcrichmond.org/event/the-lords-supper-43/
END:VEVENT
BEGIN:VEVENT
DTSTART;VALUE=DATE:20260503
DTEND;VALUE=DATE:20260504
DTSTAMP:20260425T062037
CREATED:20250908T042908Z
LAST-MODIFIED:20260425T094100Z
UID:10012333-1777766400-1777852799@hrbcrichmond.org
SUMMARY:First Sunday Food Offering
DESCRIPTION:
URL:https://hrbcrichmond.org/event/first-sunday-food-offering-43/
END:VEVENT
BEGIN:VEVENT
DTSTART;TZID=America/New_York:20260501T193000
DTEND;TZID=America/New_York:20260501T213000
DTSTAMP:20260425T062037
CREATED:20250908T004433Z
LAST-MODIFIED:20260425T094100Z
UID:10012331-1777663800-1777671000@hrbcrichmond.org
SUMMARY:Ovation Concert
DESCRIPTION:
URL:https://hrbcrichmond.org/event/ovation-concert-7/
LOCATION:Sanctuary
END:VEVENT
END:VCALENDAR