BEGIN:VCALENDAR
VERSION:2.0
PRODID:-//Huguenot Road Baptist Church - ECPv6.15.20//NONSGML v1.0//EN
CALSCALE:GREGORIAN
METHOD:PUBLISH
X-WR-CALNAME:Huguenot Road Baptist Church
X-ORIGINAL-URL:https://hrbcrichmond.org
X-WR-CALDESC:Events for Huguenot Road Baptist Church
REFRESH-INTERVAL;VALUE=DURATION:PT1H
X-Robots-Tag:noindex
X-PUBLISHED-TTL:PT1H
BEGIN:VTIMEZONE
TZID:America/New_York
BEGIN:DAYLIGHT
TZOFFSETFROM:-0500
TZOFFSETTO:-0400
TZNAME:EDT
DTSTART:20240310T070000
END:DAYLIGHT
BEGIN:STANDARD
TZOFFSETFROM:-0400
TZOFFSETTO:-0500
TZNAME:EST
DTSTART:20241103T060000
END:STANDARD
BEGIN:DAYLIGHT
TZOFFSETFROM:-0500
TZOFFSETTO:-0400
TZNAME:EDT
DTSTART:20250309T070000
END:DAYLIGHT
BEGIN:STANDARD
TZOFFSETFROM:-0400
TZOFFSETTO:-0500
TZNAME:EST
DTSTART:20251102T060000
END:STANDARD
BEGIN:DAYLIGHT
TZOFFSETFROM:-0500
TZOFFSETTO:-0400
TZNAME:EDT
DTSTART:20260308T070000
END:DAYLIGHT
BEGIN:STANDARD
TZOFFSETFROM:-0400
TZOFFSETTO:-0500
TZNAME:EST
DTSTART:20261101T060000
END:STANDARD
BEGIN:DAYLIGHT
TZOFFSETFROM:-0500
TZOFFSETTO:-0400
TZNAME:EDT
DTSTART:20270314T070000
END:DAYLIGHT
BEGIN:STANDARD
TZOFFSETFROM:-0400
TZOFFSETTO:-0500
TZNAME:EST
DTSTART:20271107T060000
END:STANDARD
END:VTIMEZONE
BEGIN:VEVENT
DTSTART;TZID=America/New_York:20260105T143000
DTEND;TZID=America/New_York:20260105T160000
DTSTAMP:20260425T202418
CREATED:20251002T134712Z
LAST-MODIFIED:20260105T202522Z
UID:10012422-1767623400-1767628800@hrbcrichmond.org
SUMMARY:Staff Meeting
DESCRIPTION:
URL:https://hrbcrichmond.org/event/staff-meeting-160/
LOCATION:Conference Room
END:VEVENT
BEGIN:VEVENT
DTSTART;TZID=America/New_York:20260104T153000
DTEND;TZID=America/New_York:20260104T163000
DTSTAMP:20260425T202418
CREATED:20251222T151037Z
LAST-MODIFIED:20260104T205547Z
UID:10012776-1767540600-1767544200@hrbcrichmond.org
SUMMARY:Small Group for Young Adults
DESCRIPTION:
URL:https://hrbcrichmond.org/event/small-group-for-young-adults-16/
LOCATION:Libbie Mill Library
END:VEVENT
BEGIN:VEVENT
DTSTART;TZID=America/New_York:20260104T114500
DTEND;TZID=America/New_York:20260104T131500
DTSTAMP:20260425T202418
CREATED:20251218T172618Z
LAST-MODIFIED:20260104T171033Z
UID:10012762-1767527100-1767532500@hrbcrichmond.org
SUMMARY:Partial Un-decking of the halls
DESCRIPTION:
URL:https://hrbcrichmond.org/event/partial-un-decking-of-the-halls/
END:VEVENT
BEGIN:VEVENT
DTSTART;TZID=America/New_York:20260104T113000
DTEND;TZID=America/New_York:20260104T123000
DTSTAMP:20260425T202418
CREATED:20250910T142416Z
LAST-MODIFIED:20260104T171033Z
UID:10012366-1767526200-1767529800@hrbcrichmond.org
SUMMARY:Outreach Meeting
DESCRIPTION:
URL:https://hrbcrichmond.org/event/outreach-meeting-7/
LOCATION:MPR 1
END:VEVENT
BEGIN:VEVENT
DTSTART;TZID=America/New_York:20260104T103000
DTEND;TZID=America/New_York:20260104T113000
DTSTAMP:20260425T202418
CREATED:20250612T041507Z
LAST-MODIFIED:20260104T155553Z
UID:10011933-1767522600-1767526200@hrbcrichmond.org
SUMMARY:Worship
DESCRIPTION:
URL:https://hrbcrichmond.org/event/worship-133/
LOCATION:Sanctuary
END:VEVENT
BEGIN:VEVENT
DTSTART;TZID=America/New_York:20260104T091500
DTEND;TZID=America/New_York:20260104T101500
DTSTAMP:20260425T202418
CREATED:20250612T014443Z
LAST-MODIFIED:20260104T144035Z
UID:10011932-1767518100-1767521700@hrbcrichmond.org
SUMMARY:Bible Study - All Ages
DESCRIPTION:
URL:https://hrbcrichmond.org/event/bible-study-all-ages-59/
END:VEVENT
BEGIN:VEVENT
DTSTART;TZID=America/New_York:20260104T080000
DTEND;TZID=America/New_York:20260104T090000
DTSTAMP:20260425T202418
CREATED:20250612T014442Z
LAST-MODIFIED:20260104T132552Z
UID:10011931-1767513600-1767517200@hrbcrichmond.org
SUMMARY:Men's Food & Fellowship Breakfast
DESCRIPTION:
URL:https://hrbcrichmond.org/event/mens-food-fellowship-breakfast-60/
END:VEVENT
BEGIN:VEVENT
DTSTART;VALUE=DATE:20260104
DTEND;VALUE=DATE:20260105
DTSTAMP:20260425T202418
CREATED:20250612T130423Z
LAST-MODIFIED:20260105T160920Z
UID:10011936-1767484800-1767571199@hrbcrichmond.org
SUMMARY:The Lord's Supper
DESCRIPTION:
URL:https://hrbcrichmond.org/event/the-lords-supper-39/
END:VEVENT
BEGIN:VEVENT
DTSTART;VALUE=DATE:20260104
DTEND;VALUE=DATE:20260105
DTSTAMP:20260425T202418
CREATED:20250612T041508Z
LAST-MODIFIED:20260105T160920Z
UID:10011934-1767484800-1767571199@hrbcrichmond.org
SUMMARY:First Sunday Food Offering
DESCRIPTION:
URL:https://hrbcrichmond.org/event/first-sunday-food-offering-39/
END:VEVENT
BEGIN:VEVENT
DTSTART;TZID=America/New_York:20260101T193000
DTEND;TZID=America/New_York:20260101T210000
DTSTAMP:20260425T202418
CREATED:20251218T195535Z
LAST-MODIFIED:20260102T012555Z
UID:10012764-1767295800-1767301200@hrbcrichmond.org
SUMMARY:FA
DESCRIPTION:
URL:https://hrbcrichmond.org/event/fa/
LOCATION:209
END:VEVENT
BEGIN:VEVENT
DTSTART;TZID=America/New_York:20260101T190000
DTEND;TZID=America/New_York:20260101T203000
DTSTAMP:20260425T202418
CREATED:20251218T195535Z
LAST-MODIFIED:20260102T012555Z
UID:10012765-1767294000-1767299400@hrbcrichmond.org
SUMMARY:AA
DESCRIPTION:
URL:https://hrbcrichmond.org/event/aa-169/
LOCATION:200
END:VEVENT
BEGIN:VEVENT
DTSTART;VALUE=DATE:20260101
DTEND;VALUE=DATE:20260103
DTSTAMP:20260425T202418
CREATED:20250910T153916Z
LAST-MODIFIED:20260102T235556Z
UID:10012389-1767225600-1767398399@hrbcrichmond.org
SUMMARY:Church Office Closed
DESCRIPTION:
URL:https://hrbcrichmond.org/event/church-office-closed-5/
END:VEVENT
BEGIN:VEVENT
DTSTART;TZID=America/New_York:20251229T143000
DTEND;TZID=America/New_York:20251229T160000
DTSTAMP:20260425T202418
CREATED:20251002T134654Z
LAST-MODIFIED:20251229T205538Z
UID:10012421-1767018600-1767024000@hrbcrichmond.org
SUMMARY:Staff Meeting
DESCRIPTION:
URL:https://hrbcrichmond.org/event/staff-meeting-159/
LOCATION:Conference Room
END:VEVENT
BEGIN:VEVENT
DTSTART;TZID=America/New_York:20251228T153000
DTEND;TZID=America/New_York:20251228T163000
DTSTAMP:20260425T202418
CREATED:20251222T151024Z
LAST-MODIFIED:20251228T211047Z
UID:10012775-1766935800-1766939400@hrbcrichmond.org
SUMMARY:Small Group for Young Adults
DESCRIPTION:
URL:https://hrbcrichmond.org/event/small-group-for-young-adults-15/
LOCATION:Libbie Mill Library
END:VEVENT
BEGIN:VEVENT
DTSTART;TZID=America/New_York:20251228T103000
DTEND;TZID=America/New_York:20251228T113000
DTSTAMP:20260425T202418
CREATED:20250609T011435Z
LAST-MODIFIED:20251228T161053Z
UID:10011918-1766917800-1766921400@hrbcrichmond.org
SUMMARY:Worship
DESCRIPTION:
URL:https://hrbcrichmond.org/event/worship-132/
LOCATION:Sanctuary
END:VEVENT
BEGIN:VEVENT
DTSTART;TZID=America/New_York:20251225T190000
DTEND;TZID=America/New_York:20251225T203000
DTSTAMP:20260425T202418
CREATED:20251211T202606Z
LAST-MODIFIED:20251226T002549Z
UID:10012741-1766689200-1766694600@hrbcrichmond.org
SUMMARY:AA
DESCRIPTION:
URL:https://hrbcrichmond.org/event/aa-166/
LOCATION:200
END:VEVENT
BEGIN:VEVENT
DTSTART;VALUE=DATE:20251225
DTEND;VALUE=DATE:20251227
DTSTAMP:20260425T202418
CREATED:20250910T153858Z
LAST-MODIFIED:20251226T225526Z
UID:10012388-1766620800-1766793599@hrbcrichmond.org
SUMMARY:Church Office Closed
DESCRIPTION:
URL:https://hrbcrichmond.org/event/church-office-closed-4/
END:VEVENT
BEGIN:VEVENT
DTSTART;TZID=America/New_York:20251224T170000
DTEND;TZID=America/New_York:20251224T180000
DTSTAMP:20260425T202418
CREATED:20250910T153841Z
LAST-MODIFIED:20251224T221042Z
UID:10012387-1766595600-1766599200@hrbcrichmond.org
SUMMARY:Christmas Eve Service
DESCRIPTION:
URL:https://hrbcrichmond.org/event/christmas-eve-service-2/
LOCATION:Sanctuary
CATEGORIES:Advent
END:VEVENT
BEGIN:VEVENT
DTSTART;TZID=America/New_York:20251222T143000
DTEND;TZID=America/New_York:20251222T160000
DTSTAMP:20260425T202418
CREATED:20251002T134635Z
LAST-MODIFIED:20251222T201053Z
UID:10012420-1766413800-1766419200@hrbcrichmond.org
SUMMARY:Staff Meeting
DESCRIPTION:
URL:https://hrbcrichmond.org/event/staff-meeting-158/
LOCATION:Conference Room
END:VEVENT
BEGIN:VEVENT
DTSTART;TZID=America/New_York:20251221T160000
DTEND;TZID=America/New_York:20251221T170000
DTSTAMP:20260425T202418
CREATED:20251124T171157Z
LAST-MODIFIED:20251221T214058Z
UID:10012652-1766332800-1766336400@hrbcrichmond.org
SUMMARY:Small Group for Young Adults
DESCRIPTION:
URL:https://hrbcrichmond.org/event/small-group-for-young-adults-3/
LOCATION:Libbie Mill Library
END:VEVENT
BEGIN:VEVENT
DTSTART;TZID=America/New_York:20251221T113000
DTEND;TZID=America/New_York:20251221T120000
DTSTAMP:20260425T202418
CREATED:20250910T153840Z
LAST-MODIFIED:20251221T164040Z
UID:10012386-1766316600-1766318400@hrbcrichmond.org
SUMMARY:Election of Deacons
DESCRIPTION:
URL:https://hrbcrichmond.org/event/election-of-deacons/
LOCATION:Sanctuary
END:VEVENT
BEGIN:VEVENT
DTSTART;TZID=America/New_York:20251221T103000
DTEND;TZID=America/New_York:20251221T113000
DTSTAMP:20260425T202418
CREATED:20250605T133923Z
LAST-MODIFIED:20251221T152531Z
UID:10011904-1766313000-1766316600@hrbcrichmond.org
SUMMARY:Worship
DESCRIPTION:
URL:https://hrbcrichmond.org/event/worship-131/
LOCATION:Sanctuary
CATEGORIES:Advent
END:VEVENT
BEGIN:VEVENT
DTSTART;TZID=America/New_York:20251221T091500
DTEND;TZID=America/New_York:20251221T101500
DTSTAMP:20260425T202418
CREATED:20250605T133923Z
LAST-MODIFIED:20251221T141039Z
UID:10011903-1766308500-1766312100@hrbcrichmond.org
SUMMARY:Bible Study - All Ages
DESCRIPTION:
URL:https://hrbcrichmond.org/event/bible-study-all-ages-57/
END:VEVENT
BEGIN:VEVENT
DTSTART;TZID=America/New_York:20251221T080000
DTEND;TZID=America/New_York:20251221T090000
DTSTAMP:20260425T202418
CREATED:20250605T133922Z
LAST-MODIFIED:20251221T125541Z
UID:10011902-1766304000-1766307600@hrbcrichmond.org
SUMMARY:Men's Food & Fellowship Breakfast
DESCRIPTION:
URL:https://hrbcrichmond.org/event/mens-food-fellowship-breakfast-58/
END:VEVENT
BEGIN:VEVENT
DTSTART;TZID=America/New_York:20251218T193000
DTEND;TZID=America/New_York:20251218T203000
DTSTAMP:20260425T202418
CREATED:20250605T015416Z
LAST-MODIFIED:20251219T005525Z
UID:10011900-1766086200-1766089800@hrbcrichmond.org
SUMMARY:Families Anonymous
DESCRIPTION:
URL:https://hrbcrichmond.org/event/families-anonymous-140/
LOCATION:209
END:VEVENT
BEGIN:VEVENT
DTSTART;TZID=America/New_York:20251218T190000
DTEND;TZID=America/New_York:20251218T210000
DTSTAMP:20260425T202418
CREATED:20250604T010942Z
LAST-MODIFIED:20251219T005525Z
UID:10011896-1766084400-1766091600@hrbcrichmond.org
SUMMARY:AA
DESCRIPTION:
URL:https://hrbcrichmond.org/event/aa-133/
LOCATION:200
END:VEVENT
BEGIN:VEVENT
DTSTART;TZID=America/New_York:20251218T190000
DTEND;TZID=America/New_York:20251218T200000
DTSTAMP:20260425T202418
CREATED:20251124T155649Z
LAST-MODIFIED:20251219T005525Z
UID:10012649-1766084400-1766088000@hrbcrichmond.org
SUMMARY:Blue Christmas Service
DESCRIPTION:
URL:https://hrbcrichmond.org/event/blue-christmas-service/
LOCATION:St. Luke Lutheran Church\, 8301 Chippenham Rd\, Bon Air\, VA\, United States
GEO:37.546183;-77.547668
X-APPLE-STRUCTURED-LOCATION;VALUE=URI;X-ADDRESS=St. Luke Lutheran Church 8301 Chippenham Rd Bon Air VA United States;X-APPLE-RADIUS=500;X-TITLE=8301 Chippenham Rd:geo:-77.547668,37.546183
END:VEVENT
BEGIN:VEVENT
DTSTART;TZID=America/New_York:20251218T140000
DTEND;TZID=America/New_York:20251218T160000
DTSTAMP:20260425T202418
CREATED:20250604T010942Z
LAST-MODIFIED:20251218T195523Z
UID:10011895-1766066400-1766073600@hrbcrichmond.org
SUMMARY:Bridge
DESCRIPTION:
URL:https://hrbcrichmond.org/event/bridge-133/
LOCATION:Commons
END:VEVENT
BEGIN:VEVENT
DTSTART;TZID=America/New_York:20251218T120000
DTEND;TZID=America/New_York:20251218T150000
DTSTAMP:20260425T202418
CREATED:20250910T142326Z
LAST-MODIFIED:20251218T195523Z
UID:10012365-1766059200-1766070000@hrbcrichmond.org
SUMMARY:CDC Group Meeting
DESCRIPTION:
URL:https://hrbcrichmond.org/event/cdc-group-meeting-7/
LOCATION:Conference Room
END:VEVENT
BEGIN:VEVENT
DTSTART;TZID=America/New_York:20251218T090000
DTEND;TZID=America/New_York:20251218T103000
DTSTAMP:20260425T202418
CREATED:20250603T173929Z
LAST-MODIFIED:20251218T145557Z
UID:10011894-1766048400-1766053800@hrbcrichmond.org
SUMMARY:Second Half Men's Ministry Meeting
DESCRIPTION:
URL:https://hrbcrichmond.org/event/second-half-mens-ministry-meeting-26/
LOCATION:MPR 1
END:VEVENT
END:VCALENDAR