BEGIN:VCALENDAR
VERSION:2.0
PRODID:-//Huguenot Road Baptist Church - ECPv6.15.20//NONSGML v1.0//EN
CALSCALE:GREGORIAN
METHOD:PUBLISH
X-ORIGINAL-URL:https://hrbcrichmond.org
X-WR-CALDESC:Events for Huguenot Road Baptist Church
REFRESH-INTERVAL;VALUE=DURATION:PT1H
X-Robots-Tag:noindex
X-PUBLISHED-TTL:PT1H
BEGIN:VTIMEZONE
TZID:America/New_York
BEGIN:DAYLIGHT
TZOFFSETFROM:-0500
TZOFFSETTO:-0400
TZNAME:EDT
DTSTART:20250309T070000
END:DAYLIGHT
BEGIN:STANDARD
TZOFFSETFROM:-0400
TZOFFSETTO:-0500
TZNAME:EST
DTSTART:20251102T060000
END:STANDARD
BEGIN:DAYLIGHT
TZOFFSETFROM:-0500
TZOFFSETTO:-0400
TZNAME:EDT
DTSTART:20260308T070000
END:DAYLIGHT
BEGIN:STANDARD
TZOFFSETFROM:-0400
TZOFFSETTO:-0500
TZNAME:EST
DTSTART:20261101T060000
END:STANDARD
BEGIN:DAYLIGHT
TZOFFSETFROM:-0500
TZOFFSETTO:-0400
TZNAME:EDT
DTSTART:20270314T070000
END:DAYLIGHT
BEGIN:STANDARD
TZOFFSETFROM:-0400
TZOFFSETTO:-0500
TZNAME:EST
DTSTART:20271107T060000
END:STANDARD
END:VTIMEZONE
BEGIN:VEVENT
DTSTART;TZID=America/New_York:20261012T101500
DTEND;TZID=America/New_York:20261012T114500
DTSTAMP:20260425T112824
CREATED:20260402T150702Z
LAST-MODIFIED:20260425T145105Z
UID:10013307-1791800100-1791805500@hrbcrichmond.org
SUMMARY:New Virginians
DESCRIPTION:
URL:https://hrbcrichmond.org/event/new-virginians-10/
LOCATION:Library
END:VEVENT
BEGIN:VEVENT
DTSTART;TZID=America/New_York:20261012T143000
DTEND;TZID=America/New_York:20261012T160000
DTSTAMP:20260425T112824
CREATED:20260402T232209Z
LAST-MODIFIED:20260425T145105Z
UID:10013309-1791815400-1791820800@hrbcrichmond.org
SUMMARY:Staff Meeting
DESCRIPTION:
URL:https://hrbcrichmond.org/event/staff-meeting-239/
LOCATION:Conference Room
END:VEVENT
BEGIN:VEVENT
DTSTART;TZID=America/New_York:20261012T181500
DTEND;TZID=America/New_York:20261012T193000
DTSTAMP:20260425T112824
CREATED:20260403T012231Z
LAST-MODIFIED:20260425T145107Z
UID:10013310-1791828900-1791833400@hrbcrichmond.org
SUMMARY:Praise Team Rehearsal
DESCRIPTION:
URL:https://hrbcrichmond.org/event/praise-team-rehearsal-37/
LOCATION:Sanctuary
END:VEVENT
BEGIN:VEVENT
DTSTART;TZID=America/New_York:20261012T190000
DTEND;TZID=America/New_York:20261012T210000
DTSTAMP:20260425T112824
CREATED:20260403T012231Z
LAST-MODIFIED:20260425T145107Z
UID:10013311-1791831600-1791838800@hrbcrichmond.org
SUMMARY:Finance Group Meeting
DESCRIPTION:
URL:https://hrbcrichmond.org/event/finance-group-meeting-35/
LOCATION:By Zoom
END:VEVENT
BEGIN:VEVENT
DTSTART;TZID=America/New_York:20261014T180000
DTEND;TZID=America/New_York:20261014T193000
DTSTAMP:20260425T112824
CREATED:20260404T012215Z
LAST-MODIFIED:20260425T145107Z
UID:10013313-1792000800-1792006200@hrbcrichmond.org
SUMMARY:Wednesday Night Activities
DESCRIPTION:
URL:https://hrbcrichmond.org/event/wednesday-night-activities-40/
END:VEVENT
BEGIN:VEVENT
DTSTART;TZID=America/New_York:20261014T193000
DTEND;TZID=America/New_York:20261014T210000
DTSTAMP:20260425T112824
CREATED:20260404T050737Z
LAST-MODIFIED:20260425T145120Z
UID:10013314-1792006200-1792011600@hrbcrichmond.org
SUMMARY:European Wind Ensemble Rehearsal
DESCRIPTION:
URL:https://hrbcrichmond.org/event/european-wind-ensemble-rehearsal-180/
LOCATION:Gym
END:VEVENT
BEGIN:VEVENT
DTSTART;VALUE=DATE:20261015
DTEND;VALUE=DATE:20261016
DTSTAMP:20260425T112824
CREATED:20260403T175155Z
LAST-MODIFIED:20260425T145118Z
UID:10013312-1792022400-1792108799@hrbcrichmond.org
SUMMARY:Bread Day
DESCRIPTION:
URL:https://hrbcrichmond.org/event/bread-day-42/
END:VEVENT
BEGIN:VEVENT
DTSTART;TZID=America/New_York:20261015T090000
DTEND;TZID=America/New_York:20261015T103000
DTSTAMP:20260425T112824
CREATED:20260405T133725Z
LAST-MODIFIED:20260425T145107Z
UID:10013315-1792054800-1792060200@hrbcrichmond.org
SUMMARY:Second Half Men's Ministry Meeting
DESCRIPTION:
URL:https://hrbcrichmond.org/event/second-half-mens-ministry-meeting-36/
LOCATION:MPR 1
END:VEVENT
BEGIN:VEVENT
DTSTART;TZID=America/New_York:20261015T120000
DTEND;TZID=America/New_York:20261015T150000
DTSTAMP:20260425T112824
CREATED:20260405T145230Z
LAST-MODIFIED:20260425T145118Z
UID:10013316-1792065600-1792076400@hrbcrichmond.org
SUMMARY:CDC Group Meeting
DESCRIPTION:
URL:https://hrbcrichmond.org/event/cdc-group-meeting-17/
LOCATION:Conference Room
END:VEVENT
BEGIN:VEVENT
DTSTART;TZID=America/New_York:20261015T140000
DTEND;TZID=America/New_York:20261015T160000
DTSTAMP:20260425T112824
CREATED:20260405T160709Z
LAST-MODIFIED:20260425T145107Z
UID:10013317-1792072800-1792080000@hrbcrichmond.org
SUMMARY:Bridge
DESCRIPTION:
URL:https://hrbcrichmond.org/event/bridge-176/
LOCATION:Commons
END:VEVENT
BEGIN:VEVENT
DTSTART;TZID=America/New_York:20261015T183000
DTEND;TZID=America/New_York:20261015T200000
DTSTAMP:20260425T112824
CREATED:20260405T222236Z
LAST-MODIFIED:20260425T145118Z
UID:10013318-1792089000-1792094400@hrbcrichmond.org
SUMMARY:S.H.E.E.P.
DESCRIPTION:
URL:https://hrbcrichmond.org/event/s-h-e-e-p-76/
LOCATION:Cousins
END:VEVENT
BEGIN:VEVENT
DTSTART;TZID=America/New_York:20261015T190000
DTEND;TZID=America/New_York:20261015T210000
DTSTAMP:20260425T112824
CREATED:20260405T222236Z
LAST-MODIFIED:20260425T145120Z
UID:10013319-1792090800-1792098000@hrbcrichmond.org
SUMMARY:AA
DESCRIPTION:
URL:https://hrbcrichmond.org/event/aa-178/
LOCATION:200
END:VEVENT
BEGIN:VEVENT
DTSTART;TZID=America/New_York:20261015T193000
DTEND;TZID=America/New_York:20261015T203000
DTSTAMP:20260425T112824
CREATED:20260406T005230Z
LAST-MODIFIED:20260425T145120Z
UID:10013320-1792092600-1792096200@hrbcrichmond.org
SUMMARY:Families Anonymous
DESCRIPTION:
URL:https://hrbcrichmond.org/event/families-anonymous-183/
LOCATION:209
END:VEVENT
BEGIN:VEVENT
DTSTART;TZID=America/New_York:20261018T080000
DTEND;TZID=America/New_York:20261018T090000
DTSTAMP:20260425T112824
CREATED:20260407T012209Z
LAST-MODIFIED:20260425T145120Z
UID:10013321-1792310400-1792314000@hrbcrichmond.org
SUMMARY:Men's Food & Fellowship Breakfast
DESCRIPTION:
URL:https://hrbcrichmond.org/event/mens-food-fellowship-breakfast-132/
END:VEVENT
BEGIN:VEVENT
DTSTART;TZID=America/New_York:20261018T091500
DTEND;TZID=America/New_York:20261018T101500
DTSTAMP:20260425T112824
CREATED:20260407T205247Z
LAST-MODIFIED:20260425T145120Z
UID:10013323-1792314900-1792318500@hrbcrichmond.org
SUMMARY:Bible Study - All Ages
DESCRIPTION:
URL:https://hrbcrichmond.org/event/bible-study-all-ages-131/
END:VEVENT
BEGIN:VEVENT
DTSTART;TZID=America/New_York:20261018T103000
DTEND;TZID=America/New_York:20261018T113000
DTSTAMP:20260425T112824
CREATED:20260408T015208Z
LAST-MODIFIED:20260425T145122Z
UID:10013324-1792319400-1792323000@hrbcrichmond.org
SUMMARY:Worship
DESCRIPTION:
URL:https://hrbcrichmond.org/event/worship-205/
LOCATION:Sanctuary
END:VEVENT
BEGIN:VEVENT
DTSTART;TZID=America/New_York:20261018T114500
DTEND;TZID=America/New_York:20261018T131500
DTSTAMP:20260425T112824
CREATED:20260408T192207Z
LAST-MODIFIED:20260425T145122Z
UID:10013326-1792323900-1792329300@hrbcrichmond.org
SUMMARY:Deacon Leadership Meeting
DESCRIPTION:
URL:https://hrbcrichmond.org/event/deacon-leadership-meeting-22/
LOCATION:MPR 2
END:VEVENT
BEGIN:VEVENT
DTSTART;TZID=America/New_York:20261018T153000
DTEND;TZID=America/New_York:20261018T163000
DTSTAMP:20260425T112824
CREATED:20260409T002329Z
LAST-MODIFIED:20260425T145133Z
UID:10013327-1792337400-1792341000@hrbcrichmond.org
SUMMARY:Small Group for Young Adults
DESCRIPTION:
URL:https://hrbcrichmond.org/event/small-group-for-young-adults-57/
LOCATION:Libbie Mill Area
END:VEVENT
BEGIN:VEVENT
DTSTART;TZID=America/New_York:20261019T143000
DTEND;TZID=America/New_York:20261019T160000
DTSTAMP:20260425T112824
CREATED:20260409T013710Z
LAST-MODIFIED:20260425T145133Z
UID:10013328-1792420200-1792425600@hrbcrichmond.org
SUMMARY:Staff Meeting
DESCRIPTION:
URL:https://hrbcrichmond.org/event/staff-meeting-240/
LOCATION:Conference Room
END:VEVENT
BEGIN:VEVENT
DTSTART;TZID=America/New_York:20261019T181500
DTEND;TZID=America/New_York:20261019T193000
DTSTAMP:20260425T112824
CREATED:20260409T175237Z
LAST-MODIFIED:20260425T145135Z
UID:10013329-1792433700-1792438200@hrbcrichmond.org
SUMMARY:Praise Team Rehearsal
DESCRIPTION:
URL:https://hrbcrichmond.org/event/praise-team-rehearsal-38/
LOCATION:Sanctuary
END:VEVENT
BEGIN:VEVENT
DTSTART;TZID=America/New_York:20261020T183000
DTEND;TZID=America/New_York:20261020T203000
DTSTAMP:20260425T112824
CREATED:20260409T202202Z
LAST-MODIFIED:20260425T145135Z
UID:10013330-1792521000-1792528200@hrbcrichmond.org
SUMMARY:Worship Implementation Team
DESCRIPTION:
URL:https://hrbcrichmond.org/event/worship-implementation-team-42/
LOCATION:MPR 1
END:VEVENT
BEGIN:VEVENT
DTSTART;TZID=America/New_York:20261021T180000
DTEND;TZID=America/New_York:20261021T193000
DTSTAMP:20260425T112824
CREATED:20260410T012210Z
LAST-MODIFIED:20260425T145135Z
UID:10013331-1792605600-1792611000@hrbcrichmond.org
SUMMARY:Wednesday Night Activities
DESCRIPTION:
URL:https://hrbcrichmond.org/event/wednesday-night-activities-41/
END:VEVENT
BEGIN:VEVENT
DTSTART;TZID=America/New_York:20261021T193000
DTEND;TZID=America/New_York:20261021T210000
DTSTAMP:20260425T112824
CREATED:20260410T012211Z
LAST-MODIFIED:20260425T145136Z
UID:10013332-1792611000-1792616400@hrbcrichmond.org
SUMMARY:European Wind Ensemble Rehearsal
DESCRIPTION:
URL:https://hrbcrichmond.org/event/european-wind-ensemble-rehearsal-181/
LOCATION:Gym
END:VEVENT
BEGIN:VEVENT
DTSTART;TZID=America/New_York:20261022T140000
DTEND;TZID=America/New_York:20261022T160000
DTSTAMP:20260425T112824
CREATED:20260410T050746Z
LAST-MODIFIED:20260425T145136Z
UID:10013334-1792677600-1792684800@hrbcrichmond.org
SUMMARY:Bridge
DESCRIPTION:
URL:https://hrbcrichmond.org/event/bridge-177/
LOCATION:Commons
END:VEVENT
BEGIN:VEVENT
DTSTART;TZID=America/New_York:20261022T150000
DTEND;TZID=America/New_York:20261022T200000
DTSTAMP:20260425T112824
CREATED:20260412T043734Z
LAST-MODIFIED:20260425T145136Z
UID:10013336-1792681200-1792699200@hrbcrichmond.org
SUMMARY:RCFN 75th Annual Meeting
DESCRIPTION:
URL:https://hrbcrichmond.org/event/rcfn-75th-annual-meeting/
END:VEVENT
BEGIN:VEVENT
DTSTART;TZID=America/New_York:20261022T190000
DTEND;TZID=America/New_York:20261022T210000
DTSTAMP:20260425T112824
CREATED:20260410T012211Z
LAST-MODIFIED:20260425T145136Z
UID:10013333-1792695600-1792702800@hrbcrichmond.org
SUMMARY:AA
DESCRIPTION:
URL:https://hrbcrichmond.org/event/aa-179/
LOCATION:200
END:VEVENT
BEGIN:VEVENT
DTSTART;TZID=America/New_York:20261022T193000
DTEND;TZID=America/New_York:20261022T203000
DTSTAMP:20260425T112824
CREATED:20260410T162245Z
LAST-MODIFIED:20260425T145136Z
UID:10013335-1792697400-1792701000@hrbcrichmond.org
SUMMARY:Families Anonymous
DESCRIPTION:
URL:https://hrbcrichmond.org/event/families-anonymous-184/
LOCATION:209
END:VEVENT
BEGIN:VEVENT
DTSTART;TZID=America/New_York:20261025T080000
DTEND;TZID=America/New_York:20261025T090000
DTSTAMP:20260425T112824
CREATED:20260412T155228Z
LAST-MODIFIED:20260425T145148Z
UID:10013337-1792915200-1792918800@hrbcrichmond.org
SUMMARY:Men's Food & Fellowship Breakfast
DESCRIPTION:
URL:https://hrbcrichmond.org/event/mens-food-fellowship-breakfast-133/
END:VEVENT
BEGIN:VEVENT
DTSTART;TZID=America/New_York:20261025T091500
DTEND;TZID=America/New_York:20261025T101500
DTSTAMP:20260425T112824
CREATED:20260412T170733Z
LAST-MODIFIED:20260425T145148Z
UID:10013338-1792919700-1792923300@hrbcrichmond.org
SUMMARY:Bible Study - All Ages
DESCRIPTION:
URL:https://hrbcrichmond.org/event/bible-study-all-ages-132/
END:VEVENT
BEGIN:VEVENT
DTSTART;TZID=America/New_York:20261025T103000
DTEND;TZID=America/New_York:20261025T113000
DTSTAMP:20260425T112824
CREATED:20260412T182216Z
LAST-MODIFIED:20260425T145149Z
UID:10013339-1792924200-1792927800@hrbcrichmond.org
SUMMARY:Worship
DESCRIPTION:
URL:https://hrbcrichmond.org/event/worship-206/
LOCATION:Sanctuary
END:VEVENT
END:VCALENDAR