BEGIN:VCALENDAR
VERSION:2.0
PRODID:-//Huguenot Road Baptist Church - ECPv6.15.20//NONSGML v1.0//EN
CALSCALE:GREGORIAN
METHOD:PUBLISH
X-WR-CALNAME:Huguenot Road Baptist Church
X-ORIGINAL-URL:https://hrbcrichmond.org
X-WR-CALDESC:Events for Huguenot Road Baptist Church
REFRESH-INTERVAL;VALUE=DURATION:PT1H
X-Robots-Tag:noindex
X-PUBLISHED-TTL:PT1H
BEGIN:VTIMEZONE
TZID:America/New_York
BEGIN:DAYLIGHT
TZOFFSETFROM:-0500
TZOFFSETTO:-0400
TZNAME:EDT
DTSTART:20250309T070000
END:DAYLIGHT
BEGIN:STANDARD
TZOFFSETFROM:-0400
TZOFFSETTO:-0500
TZNAME:EST
DTSTART:20251102T060000
END:STANDARD
BEGIN:DAYLIGHT
TZOFFSETFROM:-0500
TZOFFSETTO:-0400
TZNAME:EDT
DTSTART:20260308T070000
END:DAYLIGHT
BEGIN:STANDARD
TZOFFSETFROM:-0400
TZOFFSETTO:-0500
TZNAME:EST
DTSTART:20261101T060000
END:STANDARD
BEGIN:DAYLIGHT
TZOFFSETFROM:-0500
TZOFFSETTO:-0400
TZNAME:EDT
DTSTART:20270314T070000
END:DAYLIGHT
BEGIN:STANDARD
TZOFFSETFROM:-0400
TZOFFSETTO:-0500
TZNAME:EST
DTSTART:20271107T060000
END:STANDARD
END:VTIMEZONE
BEGIN:VEVENT
DTSTART;TZID=America/New_York:20260823T080000
DTEND;TZID=America/New_York:20260823T090000
DTSTAMP:20260425T112520
CREATED:20251227T002111Z
LAST-MODIFIED:20260425T144817Z
UID:10012789-1787472000-1787475600@hrbcrichmond.org
SUMMARY:Men's Food & Fellowship Breakfast
DESCRIPTION:
URL:https://hrbcrichmond.org/event/mens-food-fellowship-breakfast-93/
END:VEVENT
BEGIN:VEVENT
DTSTART;TZID=America/New_York:20260823T091500
DTEND;TZID=America/New_York:20260823T101500
DTSTAMP:20260425T112520
CREATED:20251228T173625Z
LAST-MODIFIED:20260425T144817Z
UID:10012790-1787476500-1787480100@hrbcrichmond.org
SUMMARY:Bible Study - All Ages
DESCRIPTION:
URL:https://hrbcrichmond.org/event/bible-study-all-ages-92/
END:VEVENT
BEGIN:VEVENT
DTSTART;TZID=America/New_York:20260823T103000
DTEND;TZID=America/New_York:20260823T113000
DTSTAMP:20260425T112520
CREATED:20251228T223629Z
LAST-MODIFIED:20260425T144819Z
UID:10012791-1787481000-1787484600@hrbcrichmond.org
SUMMARY:Worship
DESCRIPTION:
URL:https://hrbcrichmond.org/event/worship-166/
LOCATION:Sanctuary
END:VEVENT
BEGIN:VEVENT
DTSTART;TZID=America/New_York:20260823T120000
DTEND;TZID=America/New_York:20260823T140000
DTSTAMP:20260425T112520
CREATED:20251231T143602Z
LAST-MODIFIED:20260425T144819Z
UID:10012794-1787486400-1787493600@hrbcrichmond.org
SUMMARY:Missions Group Meeting
DESCRIPTION:
URL:https://hrbcrichmond.org/event/missions-group-meeting-36/
LOCATION:MPR1
END:VEVENT
BEGIN:VEVENT
DTSTART;TZID=America/New_York:20260823T153000
DTEND;TZID=America/New_York:20260823T163000
DTSTAMP:20260425T112520
CREATED:20260310T173531Z
LAST-MODIFIED:20260425T144819Z
UID:10013257-1787499000-1787502600@hrbcrichmond.org
SUMMARY:Small Group for Young Adults
DESCRIPTION:
URL:https://hrbcrichmond.org/event/small-group-for-young-adults-49/
LOCATION:Libbie Mill Area
END:VEVENT
BEGIN:VEVENT
DTSTART;TZID=America/New_York:20260824T143000
DTEND;TZID=America/New_York:20260824T160000
DTSTAMP:20260425T112520
CREATED:20251231T143602Z
LAST-MODIFIED:20260425T144819Z
UID:10012795-1787581800-1787587200@hrbcrichmond.org
SUMMARY:Staff Meeting
DESCRIPTION:
URL:https://hrbcrichmond.org/event/staff-meeting-232/
LOCATION:Conference Room
END:VEVENT
BEGIN:VEVENT
DTSTART;TZID=America/New_York:20260824T181500
DTEND;TZID=America/New_York:20260824T193000
DTSTAMP:20260425T112520
CREATED:20260122T202047Z
LAST-MODIFIED:20260425T144820Z
UID:10012893-1787595300-1787599800@hrbcrichmond.org
SUMMARY:Praise Team Rehearsal
DESCRIPTION:
URL:https://hrbcrichmond.org/event/praise-team-rehearsal-30/
LOCATION:Sanctuary
END:VEVENT
BEGIN:VEVENT
DTSTART;TZID=America/New_York:20260825T183000
DTEND;TZID=America/New_York:20260825T193000
DTSTAMP:20260425T112520
CREATED:20260102T025052Z
LAST-MODIFIED:20260425T144820Z
UID:10012796-1787682600-1787686200@hrbcrichmond.org
SUMMARY:Human Resource Group Meeting
DESCRIPTION:
URL:https://hrbcrichmond.org/event/human-resource-group-meeting-31/
LOCATION:Conference Room
END:VEVENT
BEGIN:VEVENT
DTSTART;TZID=America/New_York:20260826T180000
DTEND;TZID=America/New_York:20260826T193000
DTSTAMP:20260425T112520
CREATED:20260320T165022Z
LAST-MODIFIED:20260425T144822Z
UID:10013283-1787767200-1787772600@hrbcrichmond.org
SUMMARY:Wednesday Night Activities
DESCRIPTION:
URL:https://hrbcrichmond.org/event/wednesday-night-activities-33/
END:VEVENT
BEGIN:VEVENT
DTSTART;TZID=America/New_York:20260826T193000
DTEND;TZID=America/New_York:20260826T210000
DTSTAMP:20260425T112520
CREATED:20260102T025054Z
LAST-MODIFIED:20260425T144822Z
UID:10012797-1787772600-1787778000@hrbcrichmond.org
SUMMARY:European Wind Ensemble Rehearsal
DESCRIPTION:
URL:https://hrbcrichmond.org/event/european-wind-ensemble-rehearsal-173/
LOCATION:Gym
END:VEVENT
BEGIN:VEVENT
DTSTART;TZID=America/New_York:20260827T140000
DTEND;TZID=America/New_York:20260827T160000
DTSTAMP:20260425T112520
CREATED:20260103T012059Z
LAST-MODIFIED:20260425T144833Z
UID:10012798-1787839200-1787846400@hrbcrichmond.org
SUMMARY:Bridge
DESCRIPTION:
URL:https://hrbcrichmond.org/event/bridge-169/
LOCATION:Commons
END:VEVENT
BEGIN:VEVENT
DTSTART;TZID=America/New_York:20260827T190000
DTEND;TZID=America/New_York:20260827T210000
DTSTAMP:20260425T112520
CREATED:20260104T145053Z
LAST-MODIFIED:20260425T144833Z
UID:10012799-1787857200-1787864400@hrbcrichmond.org
SUMMARY:AA
DESCRIPTION:
URL:https://hrbcrichmond.org/event/aa-171/
LOCATION:200
END:VEVENT
BEGIN:VEVENT
DTSTART;TZID=America/New_York:20260827T193000
DTEND;TZID=America/New_York:20260827T203000
DTSTAMP:20260425T112520
CREATED:20260104T160622Z
LAST-MODIFIED:20260425T144833Z
UID:10012800-1787859000-1787862600@hrbcrichmond.org
SUMMARY:Families Anonymous
DESCRIPTION:
URL:https://hrbcrichmond.org/event/families-anonymous-176/
LOCATION:209
END:VEVENT
BEGIN:VEVENT
DTSTART;VALUE=DATE:20260830
DTEND;VALUE=DATE:20260831
DTSTAMP:20260425T112520
CREATED:20260104T222040Z
LAST-MODIFIED:20260425T144835Z
UID:10012804-1788048000-1788134399@hrbcrichmond.org
SUMMARY:5th Sunday Benevolence Offering
DESCRIPTION:
URL:https://hrbcrichmond.org/event/5th-sunday-benevolence-offering-6/
END:VEVENT
BEGIN:VEVENT
DTSTART;TZID=America/New_York:20260830T080000
DTEND;TZID=America/New_York:20260830T090000
DTSTAMP:20260425T112520
CREATED:20260104T183607Z
LAST-MODIFIED:20260425T144833Z
UID:10012802-1788076800-1788080400@hrbcrichmond.org
SUMMARY:Men's Food & Fellowship Breakfast
DESCRIPTION:
URL:https://hrbcrichmond.org/event/mens-food-fellowship-breakfast-94/
END:VEVENT
BEGIN:VEVENT
DTSTART;TZID=America/New_York:20260830T090000
DTEND;TZID=America/New_York:20260830T101500
DTSTAMP:20260425T112520
CREATED:20260305T162008Z
LAST-MODIFIED:20260425T144833Z
UID:10013105-1788080400-1788084900@hrbcrichmond.org
SUMMARY:"All Together"
DESCRIPTION:
URL:https://hrbcrichmond.org/event/all-together/
LOCATION:flc
END:VEVENT
BEGIN:VEVENT
DTSTART;TZID=America/New_York:20260830T091500
DTEND;TZID=America/New_York:20260830T101500
DTSTAMP:20260425T112520
CREATED:20260104T172052Z
LAST-MODIFIED:20260425T144833Z
UID:10012801-1788081300-1788084900@hrbcrichmond.org
SUMMARY:Bible Study - All Ages
DESCRIPTION:
URL:https://hrbcrichmond.org/event/bible-study-all-ages-93/
END:VEVENT
BEGIN:VEVENT
DTSTART;TZID=America/New_York:20260830T103000
DTEND;TZID=America/New_York:20260830T113000
DTSTAMP:20260425T112520
CREATED:20260104T183608Z
LAST-MODIFIED:20260425T144835Z
UID:10012803-1788085800-1788089400@hrbcrichmond.org
SUMMARY:Worship
DESCRIPTION:
URL:https://hrbcrichmond.org/event/worship-167/
LOCATION:Sanctuary
END:VEVENT
BEGIN:VEVENT
DTSTART;TZID=America/New_York:20260830T153000
DTEND;TZID=America/New_York:20260830T163000
DTSTAMP:20260425T112520
CREATED:20260310T173546Z
LAST-MODIFIED:20260425T144835Z
UID:10013258-1788103800-1788107400@hrbcrichmond.org
SUMMARY:Small Group for Young Adults
DESCRIPTION:
URL:https://hrbcrichmond.org/event/small-group-for-young-adults-50/
LOCATION:Libbie Mill Area
END:VEVENT
BEGIN:VEVENT
DTSTART;TZID=America/New_York:20260831T143000
DTEND;TZID=America/New_York:20260831T160000
DTSTAMP:20260425T112520
CREATED:20260105T005036Z
LAST-MODIFIED:20260425T144835Z
UID:10012805-1788186600-1788192000@hrbcrichmond.org
SUMMARY:Staff Meeting
DESCRIPTION:
URL:https://hrbcrichmond.org/event/staff-meeting-233/
LOCATION:Conference Room
END:VEVENT
BEGIN:VEVENT
DTSTART;TZID=America/New_York:20260831T181500
DTEND;TZID=America/New_York:20260831T193000
DTSTAMP:20260425T112520
CREATED:20260124T022128Z
LAST-MODIFIED:20260425T144847Z
UID:10012894-1788200100-1788204600@hrbcrichmond.org
SUMMARY:Praise Team Rehearsal
DESCRIPTION:
URL:https://hrbcrichmond.org/event/praise-team-rehearsal-31/
LOCATION:Sanctuary
END:VEVENT
BEGIN:VEVENT
DTSTART;TZID=America/New_York:20260901T100000
DTEND;TZID=America/New_York:20260901T110000
DTSTAMP:20260425T112520
CREATED:20260105T005036Z
LAST-MODIFIED:20260425T144847Z
UID:10012806-1788256800-1788260400@hrbcrichmond.org
SUMMARY:Dotty Shepard WMU meeting
DESCRIPTION:
URL:https://hrbcrichmond.org/event/dotty-shepard-wmu-meeting-13/
LOCATION:MPR 1
END:VEVENT
BEGIN:VEVENT
DTSTART;TZID=America/New_York:20260901T183000
DTEND;TZID=America/New_York:20260901T210000
DTSTAMP:20260425T112520
CREATED:20260109T030545Z
LAST-MODIFIED:20260425T144847Z
UID:10012816-1788287400-1788296400@hrbcrichmond.org
SUMMARY:Executive Council Meeting
DESCRIPTION:
URL:https://hrbcrichmond.org/event/executive-council-meeting-34/
LOCATION:MPR 1
END:VEVENT
BEGIN:VEVENT
DTSTART;TZID=America/New_York:20260902T180000
DTEND;TZID=America/New_York:20260902T193000
DTSTAMP:20260425T112520
CREATED:20260320T165048Z
LAST-MODIFIED:20260425T144849Z
UID:10013284-1788372000-1788377400@hrbcrichmond.org
SUMMARY:Wednesday Night Activities
DESCRIPTION:
URL:https://hrbcrichmond.org/event/wednesday-night-activities-34/
END:VEVENT
BEGIN:VEVENT
DTSTART;TZID=America/New_York:20260902T193000
DTEND;TZID=America/New_York:20260902T210000
DTSTAMP:20260425T112520
CREATED:20260109T155044Z
LAST-MODIFIED:20260425T144849Z
UID:10012817-1788377400-1788382800@hrbcrichmond.org
SUMMARY:European Wind Ensemble Rehearsal
DESCRIPTION:
URL:https://hrbcrichmond.org/event/european-wind-ensemble-rehearsal-174/
LOCATION:Gym
END:VEVENT
BEGIN:VEVENT
DTSTART;TZID=America/New_York:20260903T090000
DTEND;TZID=America/New_York:20260903T103000
DTSTAMP:20260425T112520
CREATED:20260109T182120Z
LAST-MODIFIED:20260425T144849Z
UID:10012818-1788426000-1788431400@hrbcrichmond.org
SUMMARY:Second Half Men's Ministry
DESCRIPTION:
URL:https://hrbcrichmond.org/event/second-half-mens-ministry-31/
LOCATION:MPR 1
END:VEVENT
BEGIN:VEVENT
DTSTART;TZID=America/New_York:20260903T140000
DTEND;TZID=America/New_York:20260903T160000
DTSTAMP:20260425T112520
CREATED:20260110T192056Z
LAST-MODIFIED:20260425T144849Z
UID:10012819-1788444000-1788451200@hrbcrichmond.org
SUMMARY:Bridge
DESCRIPTION:
URL:https://hrbcrichmond.org/event/bridge-170/
LOCATION:Commons
END:VEVENT
BEGIN:VEVENT
DTSTART;TZID=America/New_York:20260903T183000
DTEND;TZID=America/New_York:20260903T200000
DTSTAMP:20260425T112520
CREATED:20260111T163549Z
LAST-MODIFIED:20260425T144849Z
UID:10012821-1788460200-1788465600@hrbcrichmond.org
SUMMARY:S.H.E.E.P
DESCRIPTION:
URL:https://hrbcrichmond.org/event/s-h-e-e-p-73/
LOCATION:Cousins Room
END:VEVENT
BEGIN:VEVENT
DTSTART;TZID=America/New_York:20260903T190000
DTEND;TZID=America/New_York:20260903T210000
DTSTAMP:20260425T112520
CREATED:20260111T152103Z
LAST-MODIFIED:20260425T144849Z
UID:10012820-1788462000-1788469200@hrbcrichmond.org
SUMMARY:AA
DESCRIPTION:
URL:https://hrbcrichmond.org/event/aa-172/
LOCATION:200
END:VEVENT
BEGIN:VEVENT
DTSTART;TZID=America/New_York:20260903T193000
DTEND;TZID=America/New_York:20260903T203000
DTSTAMP:20260425T112520
CREATED:20260111T175049Z
LAST-MODIFIED:20260425T144849Z
UID:10012822-1788463800-1788467400@hrbcrichmond.org
SUMMARY:Families Anonymous
DESCRIPTION:
URL:https://hrbcrichmond.org/event/families-anonymous-177/
LOCATION:209
END:VEVENT
END:VCALENDAR