BEGIN:VCALENDAR
VERSION:2.0
PRODID:-//Huguenot Road Baptist Church - ECPv6.15.20//NONSGML v1.0//EN
CALSCALE:GREGORIAN
METHOD:PUBLISH
X-WR-CALNAME:Huguenot Road Baptist Church
X-ORIGINAL-URL:https://hrbcrichmond.org
X-WR-CALDESC:Events for Huguenot Road Baptist Church
REFRESH-INTERVAL;VALUE=DURATION:PT1H
X-Robots-Tag:noindex
X-PUBLISHED-TTL:PT1H
BEGIN:VTIMEZONE
TZID:America/New_York
BEGIN:DAYLIGHT
TZOFFSETFROM:-0500
TZOFFSETTO:-0400
TZNAME:EDT
DTSTART:20250309T070000
END:DAYLIGHT
BEGIN:STANDARD
TZOFFSETFROM:-0400
TZOFFSETTO:-0500
TZNAME:EST
DTSTART:20251102T060000
END:STANDARD
BEGIN:DAYLIGHT
TZOFFSETFROM:-0500
TZOFFSETTO:-0400
TZNAME:EDT
DTSTART:20260308T070000
END:DAYLIGHT
BEGIN:STANDARD
TZOFFSETFROM:-0400
TZOFFSETTO:-0500
TZNAME:EST
DTSTART:20261101T060000
END:STANDARD
BEGIN:DAYLIGHT
TZOFFSETFROM:-0500
TZOFFSETTO:-0400
TZNAME:EDT
DTSTART:20270314T070000
END:DAYLIGHT
BEGIN:STANDARD
TZOFFSETFROM:-0400
TZOFFSETTO:-0500
TZNAME:EST
DTSTART:20271107T060000
END:STANDARD
END:VTIMEZONE
BEGIN:VEVENT
DTSTART;TZID=America/New_York:20260728T183000
DTEND;TZID=America/New_York:20260728T193000
DTSTAMP:20260425T092231
CREATED:20251208T162052Z
LAST-MODIFIED:20260425T121638Z
UID:10012722-1785263400-1785267000@hrbcrichmond.org
SUMMARY:Human Resource Group Meeting
DESCRIPTION:
URL:https://hrbcrichmond.org/event/human-resource-group-meeting-30/
LOCATION:Conference Room
END:VEVENT
BEGIN:VEVENT
DTSTART;TZID=America/New_York:20260729T180000
DTEND;TZID=America/New_York:20260729T193000
DTSTAMP:20260425T092231
CREATED:20260320T164856Z
LAST-MODIFIED:20260425T121638Z
UID:10013279-1785348000-1785353400@hrbcrichmond.org
SUMMARY:Wednesday Night Activities
DESCRIPTION:
URL:https://hrbcrichmond.org/event/wednesday-night-activities-29/
END:VEVENT
BEGIN:VEVENT
DTSTART;TZID=America/New_York:20260729T193000
DTEND;TZID=America/New_York:20260729T210000
DTSTAMP:20260425T092231
CREATED:20251208T162054Z
LAST-MODIFIED:20260425T121640Z
UID:10012723-1785353400-1785358800@hrbcrichmond.org
SUMMARY:European Wind Ensemble Rehearsal
DESCRIPTION:
URL:https://hrbcrichmond.org/event/european-wind-ensemble-rehearsal-169/
LOCATION:Gym
END:VEVENT
BEGIN:VEVENT
DTSTART;TZID=America/New_York:20260730T140000
DTEND;TZID=America/New_York:20260730T160000
DTSTAMP:20260425T092231
CREATED:20251208T162054Z
LAST-MODIFIED:20260425T121640Z
UID:10012724-1785420000-1785427200@hrbcrichmond.org
SUMMARY:Bridge
DESCRIPTION:
URL:https://hrbcrichmond.org/event/bridge-165/
LOCATION:Commons
END:VEVENT
BEGIN:VEVENT
DTSTART;TZID=America/New_York:20260730T190000
DTEND;TZID=America/New_York:20260730T210000
DTSTAMP:20260425T092231
CREATED:20251208T162054Z
LAST-MODIFIED:20260425T121640Z
UID:10012726-1785438000-1785445200@hrbcrichmond.org
SUMMARY:AA
DESCRIPTION:
URL:https://hrbcrichmond.org/event/aa-165/
LOCATION:200
END:VEVENT
BEGIN:VEVENT
DTSTART;TZID=America/New_York:20260730T193000
DTEND;TZID=America/New_York:20260730T203000
DTSTAMP:20260425T092231
CREATED:20251208T162054Z
LAST-MODIFIED:20260425T121640Z
UID:10012725-1785439800-1785443400@hrbcrichmond.org
SUMMARY:Families Anonymous
DESCRIPTION:
URL:https://hrbcrichmond.org/event/families-anonymous-172/
LOCATION:209
END:VEVENT
BEGIN:VEVENT
DTSTART;VALUE=DATE:20260802
DTEND;VALUE=DATE:20260803
DTSTAMP:20260425T092231
CREATED:20251209T060630Z
LAST-MODIFIED:20260425T121641Z
UID:10012731-1785628800-1785715199@hrbcrichmond.org
SUMMARY:First Sunday Food Offering
DESCRIPTION:
URL:https://hrbcrichmond.org/event/first-sunday-food-offering-54/
END:VEVENT
BEGIN:VEVENT
DTSTART;VALUE=DATE:20260802
DTEND;VALUE=DATE:20260803
DTSTAMP:20260425T092231
CREATED:20251209T145044Z
LAST-MODIFIED:20260425T121652Z
UID:10012732-1785628800-1785715199@hrbcrichmond.org
SUMMARY:The Lord's Supper
DESCRIPTION:
URL:https://hrbcrichmond.org/event/the-lords-supper-54/
END:VEVENT
BEGIN:VEVENT
DTSTART;TZID=America/New_York:20260802T080000
DTEND;TZID=America/New_York:20260802T090000
DTSTAMP:20260425T092231
CREATED:20251208T162054Z
LAST-MODIFIED:20260425T121640Z
UID:10012727-1785657600-1785661200@hrbcrichmond.org
SUMMARY:Men's Food & Fellowship Breakfast
DESCRIPTION:
URL:https://hrbcrichmond.org/event/mens-food-fellowship-breakfast-90/
END:VEVENT
BEGIN:VEVENT
DTSTART;TZID=America/New_York:20260802T091500
DTEND;TZID=America/New_York:20260802T101500
DTSTAMP:20260425T092231
CREATED:20251208T162054Z
LAST-MODIFIED:20260425T121641Z
UID:10012728-1785662100-1785665700@hrbcrichmond.org
SUMMARY:Bible Study - All Ages
DESCRIPTION:
URL:https://hrbcrichmond.org/event/bible-study-all-ages-89/
END:VEVENT
BEGIN:VEVENT
DTSTART;TZID=America/New_York:20260802T103000
DTEND;TZID=America/New_York:20260802T113000
DTSTAMP:20260425T092231
CREATED:20251208T200553Z
LAST-MODIFIED:20260425T121641Z
UID:10012729-1785666600-1785670200@hrbcrichmond.org
SUMMARY:Worship
DESCRIPTION:
URL:https://hrbcrichmond.org/event/worship-163/
LOCATION:Sanctuary
END:VEVENT
BEGIN:VEVENT
DTSTART;TZID=America/New_York:20260802T114500
DTEND;TZID=America/New_York:20260802T121500
DTSTAMP:20260425T092231
CREATED:20260217T181942Z
LAST-MODIFIED:20260425T121652Z
UID:10012964-1785671100-1785672900@hrbcrichmond.org
SUMMARY:Family Ministries meeting
DESCRIPTION:
URL:https://hrbcrichmond.org/event/family-ministries-meeting-6/
LOCATION:MPR1
END:VEVENT
BEGIN:VEVENT
DTSTART;TZID=America/New_York:20260802T153000
DTEND;TZID=America/New_York:20260802T163000
DTSTAMP:20260425T092231
CREATED:20260309T213642Z
LAST-MODIFIED:20260425T121652Z
UID:10013248-1785684600-1785688200@hrbcrichmond.org
SUMMARY:Small Group for Young Adults
DESCRIPTION:
URL:https://hrbcrichmond.org/event/small-group-for-young-adults-46/
LOCATION:Libbie Mill Area
END:VEVENT
BEGIN:VEVENT
DTSTART;TZID=America/New_York:20260803T143000
DTEND;TZID=America/New_York:20260803T160000
DTSTAMP:20260425T092231
CREATED:20251209T145044Z
LAST-MODIFIED:20260425T121652Z
UID:10012733-1785767400-1785772800@hrbcrichmond.org
SUMMARY:Staff Meeting
DESCRIPTION:
URL:https://hrbcrichmond.org/event/staff-meeting-229/
LOCATION:Conference Room
END:VEVENT
BEGIN:VEVENT
DTSTART;TZID=America/New_York:20260803T181500
DTEND;TZID=America/New_York:20260803T193000
DTSTAMP:20260425T092231
CREATED:20260122T201957Z
LAST-MODIFIED:20260425T121653Z
UID:10012890-1785780900-1785785400@hrbcrichmond.org
SUMMARY:Praise Team Rehearsal
DESCRIPTION:
URL:https://hrbcrichmond.org/event/praise-team-rehearsal-27/
LOCATION:Sanctuary
END:VEVENT
BEGIN:VEVENT
DTSTART;TZID=America/New_York:20260803T183000
DTEND;TZID=America/New_York:20260803T200000
DTSTAMP:20260425T092231
CREATED:20251209T145044Z
LAST-MODIFIED:20260425T121652Z
UID:10012734-1785781800-1785787200@hrbcrichmond.org
SUMMARY:Fellowship Group Meeting
DESCRIPTION:
URL:https://hrbcrichmond.org/event/fellowship-group-meeting-29/
LOCATION:MPR 1
END:VEVENT
BEGIN:VEVENT
DTSTART;TZID=America/New_York:20260804T100000
DTEND;TZID=America/New_York:20260804T110000
DTSTAMP:20260425T092231
CREATED:20251209T145044Z
LAST-MODIFIED:20260425T121653Z
UID:10012735-1785837600-1785841200@hrbcrichmond.org
SUMMARY:Dotty Shepard WMU meeting
DESCRIPTION:
URL:https://hrbcrichmond.org/event/dotty-shepard-wmu-meeting-12/
LOCATION:MPR 1
END:VEVENT
BEGIN:VEVENT
DTSTART;TZID=America/New_York:20260804T183000
DTEND;TZID=America/New_York:20260804T210000
DTSTAMP:20260425T092231
CREATED:20251210T170604Z
LAST-MODIFIED:20260425T121653Z
UID:10012736-1785868200-1785877200@hrbcrichmond.org
SUMMARY:Executive Council Meeting
DESCRIPTION:
URL:https://hrbcrichmond.org/event/executive-council-meeting-33/
LOCATION:MPR 1
END:VEVENT
BEGIN:VEVENT
DTSTART;TZID=America/New_York:20260805T180000
DTEND;TZID=America/New_York:20260805T193000
DTSTAMP:20260425T092231
CREATED:20260320T164913Z
LAST-MODIFIED:20260425T121655Z
UID:10013280-1785952800-1785958200@hrbcrichmond.org
SUMMARY:Wednesday Night Activities
DESCRIPTION:
URL:https://hrbcrichmond.org/event/wednesday-night-activities-30/
END:VEVENT
BEGIN:VEVENT
DTSTART;TZID=America/New_York:20260805T193000
DTEND;TZID=America/New_York:20260805T210000
DTSTAMP:20260425T092231
CREATED:20251211T003606Z
LAST-MODIFIED:20260425T121655Z
UID:10012737-1785958200-1785963600@hrbcrichmond.org
SUMMARY:European Wind Ensemble Rehearsal
DESCRIPTION:
URL:https://hrbcrichmond.org/event/european-wind-ensemble-rehearsal-170/
LOCATION:Gym
END:VEVENT
BEGIN:VEVENT
DTSTART;TZID=America/New_York:20260806T090000
DTEND;TZID=America/New_York:20260806T103000
DTSTAMP:20260425T092231
CREATED:20251211T003606Z
LAST-MODIFIED:20260425T121706Z
UID:10012738-1786006800-1786012200@hrbcrichmond.org
SUMMARY:Second Half Men's Ministry
DESCRIPTION:
URL:https://hrbcrichmond.org/event/second-half-mens-ministry-30/
LOCATION:MPR 1
END:VEVENT
BEGIN:VEVENT
DTSTART;TZID=America/New_York:20260806T140000
DTEND;TZID=America/New_York:20260806T160000
DTSTAMP:20260425T092231
CREATED:20251212T013602Z
LAST-MODIFIED:20260425T121706Z
UID:10012743-1786024800-1786032000@hrbcrichmond.org
SUMMARY:Bridge
DESCRIPTION:
URL:https://hrbcrichmond.org/event/bridge-166/
LOCATION:Commons
END:VEVENT
BEGIN:VEVENT
DTSTART;TZID=America/New_York:20260806T183000
DTEND;TZID=America/New_York:20260806T200000
DTSTAMP:20260425T092231
CREATED:20251212T025043Z
LAST-MODIFIED:20260425T121706Z
UID:10012746-1786041000-1786046400@hrbcrichmond.org
SUMMARY:S.H.E.E.P
DESCRIPTION:
URL:https://hrbcrichmond.org/event/s-h-e-e-p-71/
LOCATION:Cousins Room
END:VEVENT
BEGIN:VEVENT
DTSTART;TZID=America/New_York:20260806T190000
DTEND;TZID=America/New_York:20260806T210000
DTSTAMP:20260425T092231
CREATED:20251212T013602Z
LAST-MODIFIED:20260425T121706Z
UID:10012744-1786042800-1786050000@hrbcrichmond.org
SUMMARY:AA
DESCRIPTION:
URL:https://hrbcrichmond.org/event/aa-167/
LOCATION:200
END:VEVENT
BEGIN:VEVENT
DTSTART;TZID=America/New_York:20260806T193000
DTEND;TZID=America/New_York:20260806T203000
DTSTAMP:20260425T092231
CREATED:20251212T025043Z
LAST-MODIFIED:20260425T121706Z
UID:10012745-1786044600-1786048200@hrbcrichmond.org
SUMMARY:Families Anonymous
DESCRIPTION:
URL:https://hrbcrichmond.org/event/families-anonymous-173/
LOCATION:209
END:VEVENT
BEGIN:VEVENT
DTSTART;TZID=America/New_York:20260809T080000
DTEND;TZID=America/New_York:20260809T090000
DTSTAMP:20260425T092231
CREATED:20251212T175105Z
LAST-MODIFIED:20260425T121706Z
UID:10012747-1786262400-1786266000@hrbcrichmond.org
SUMMARY:Men's Food & Fellowship Breakfast
DESCRIPTION:
URL:https://hrbcrichmond.org/event/mens-food-fellowship-breakfast-91/
END:VEVENT
BEGIN:VEVENT
DTSTART;TZID=America/New_York:20260809T091500
DTEND;TZID=America/New_York:20260809T101500
DTSTAMP:20260425T092231
CREATED:20251213T173609Z
LAST-MODIFIED:20260425T121706Z
UID:10012748-1786266900-1786270500@hrbcrichmond.org
SUMMARY:Bible Study - All Ages
DESCRIPTION:
URL:https://hrbcrichmond.org/event/bible-study-all-ages-90/
END:VEVENT
BEGIN:VEVENT
DTSTART;TZID=America/New_York:20260809T103000
DTEND;TZID=America/New_York:20260809T113000
DTSTAMP:20260425T092231
CREATED:20251214T145054Z
LAST-MODIFIED:20260425T121708Z
UID:10012749-1786271400-1786275000@hrbcrichmond.org
SUMMARY:Worship
DESCRIPTION:
URL:https://hrbcrichmond.org/event/worship-164/
LOCATION:Sanctuary
END:VEVENT
BEGIN:VEVENT
DTSTART;TZID=America/New_York:20260809T114500
DTEND;TZID=America/New_York:20260809T124500
DTSTAMP:20260425T092231
CREATED:20260217T181956Z
LAST-MODIFIED:20260425T121708Z
UID:10012965-1786275900-1786279500@hrbcrichmond.org
SUMMARY:Outreach Meeting
DESCRIPTION:
URL:https://hrbcrichmond.org/event/outreach-meeting-28/
LOCATION:MPR2
END:VEVENT
BEGIN:VEVENT
DTSTART;TZID=America/New_York:20260809T114500
DTEND;TZID=America/New_York:20260809T130000
DTSTAMP:20260425T092231
CREATED:20251214T160617Z
LAST-MODIFIED:20260425T121708Z
UID:10012750-1786275900-1786280400@hrbcrichmond.org
SUMMARY:Nomination Team Monthly Meeting
DESCRIPTION:
URL:https://hrbcrichmond.org/event/nomination-team-monthly-meeting-20/
LOCATION:Room 125
END:VEVENT
END:VCALENDAR